Workbook

Sheet Prep Workbook
B1: Isolate Information | E1: Pre-Library | K1: Post-Library
A2: Well position | B2: CFSAN ID | C2: Organism | D2: Genome Size | E2: Input DNA Qubit Conc (ng/ul) | F2: Volume of Input DNA (ul) | G2: Volume of Input Water (ul) | H2: DNA Input >100 ng | I2: Index Kit | J2: CD Index Kit Index Well | K2: Post Library Prep Qubit Conc (ng/ul) | L2: Volume of Library for 4nm Dilution | M2: Volume of Diluent (ul) | N2: Pooling Volume (ul)*
A3: A01 | G3: =30-F3 -> 30 | H3: =F3*E3 -> 0 | L3: =60/(K3*2.5) -> #DIV/0! | M3: =15-L3 -> #DIV/0! | N3: 5
A4: B01 | G4: =30-F4 -> 30 | H4: =F4*E4 -> 0 | L4: =60/(K4*2.5) -> #DIV/0! | M4: =15-L4 -> #DIV/0! | N4: 5
A5: C01 | G5: =30-F5 -> 30 | H5: =F5*E5 -> 0 | L5: =60/(K5*2.5) -> #DIV/0! | M5: =15-L5 -> #DIV/0! | N5: 5
A6: D01 | G6: =30-F6 -> 30 | H6: =F6*E6 -> 0 | L6: =60/(K6*2.5) -> #DIV/0! | M6: =15-L6 -> #DIV/0! | N6: 5
A7: E01 | G7: =30-F7 -> 30 | H7: =F7*E7 -> 0 | L7: =60/(K7*2.5) -> #DIV/0! | M7: =15-L7 -> #DIV/0! | N7: 5
A8: F01 | G8: =30-F8 -> 30 | H8: =F8*E8 -> 0 | L8: =60/(K8*2.5) -> #DIV/0! | M8: =15-L8 -> #DIV/0! | N8: 5
A9: G01 | G9: =30-F9 -> 30 | H9: =F9*E9 -> 0 | L9: =60/(K9*2.5) -> #DIV/0! | M9: =15-L9 -> #DIV/0! | N9: 5
A10: H01 | G10: =30-F10 -> 30 | H10: =F10*E10 -> 0 | L10: =60/(K10*2.5) -> #DIV/0! | M10: =15-L10 -> #DIV/0! | N10: 5
A11: A02 | G11: =30-F11 -> 30 | H11: =F11*E11 -> 0 | L11: =60/(K11*2.5) -> #DIV/0! | M11: =15-L11 -> #DIV/0! | N11: 5
A12: B02 | G12: =30-F12 -> 30 | H12: =F12*E12 -> 0 | L12: =60/(K12*2.5) -> #DIV/0! | M12: =15-L12 -> #DIV/0! | N12: 5
A13: C02 | G13: =30-F13 -> 30 | H13: =F13*E13 -> 0 | L13: =60/(K13*2.5) -> #DIV/0! | M13: =15-L13 -> #DIV/0! | N13: 5
A14: D02 | G14: =30-F14 -> 30 | H14: =F14*E14 -> 0 | L14: =60/(K14*2.5) -> #DIV/0! | M14: =15-L14 -> #DIV/0! | N14: 5
... A42: H05 | G42: =30-F42 -> 30 | H42: =F42*E42 -> 0 | L42: =60/(K42*2.5) -> #DIV/0! | M42: =15-L42 -> #DIV/0! | N42: 5
C43: Total Mb: | D43: =SUM(D3:D42) -> 0
N44: *use 2.5 ul for Campy
C45: Sequencing Kit (Cycles) | D45: DNA Load (Mb) | F45: Reagent | G45: Lot Number | J45: Expiration Date
C46: v2 (500) | D46: 100 | F46: BLT
C47: v3 (600) | D47: 160 | F47: TB1
C48: Micro (300) | D48: 30 | F48: TSB
F49: TWB
F50: EPM
C51: 5ul of 4nM pooled libraries + 5ul of NaOH + 990ul of HT1 = 20pM library pool | F51: Indices
C52: Desired Final Loading concentration (12 pM to 20 pM): | D52: 12 | F52: SPB
C53: Volume of 20pM library pool: | D53: =(1000*D52)/20 -> 600 | F53: RSB
C54: Volume of HT1 buffer: | D54: =1000-D53 -> 400 | F54: Hyb buffer
C55: Percentage of PhiX spiked (if applicable): | F55: Flowcell
F56: PR2
F57: Cartridge

Sheet Sample Sheet
A1: [Header]
A2: Experiment Name | B2: 1/0/1900
A3: Date | B3: 1/0/1900
A4: Module | B4: GenerateFASTQ - 3.0.1
A5: Workflow | B5: GenerateFASTQ
A6: Library Prep Kit | B6: Illumina DNA Prep
A7: Index Kit | B7: =VLOOKUP('Prep Workbook'!$I$3, Indices!$A$13:$D$17, 4, FALSE) -> #N/A
A8: Description
A9: Chemistry | B9: Amplicon
A10: [Reads]
A11: 251
A12: 251
A13: [Settings]
A14: adapter | B14: CTGTCTCTTATACACATCT
A15: [Data]
A16: Sample_ID | B16: Description | C16: Index_Plate_Well | D16: I7_Index_ID | E16: index | F16: I5_Index_ID | G16: index2
A17: =IF(LEN(TRIM('Prep Workbook'!$B3))>0, TRIM('Prep Workbook'!$B3), "") | C17: =IF(LEN(TRIM('Prep Workbook'!$B3))=0, "", IF('Prep Workbook'!$I$3="CD", 'Prep Workbook'!J3, RIGHT('Prep Workbook'!I3, 1))) | D17: =IF(LEN($C17)>0, IF('Prep Workbook'!$I$3="CD", VLOOKUP($C17, Indices!$G8:$I$103, 2, FALSE), 'Prep Workbook'!$J3), "") | E17: =IF(AND('Prep Workbook'!$I$3="CD", LEN(D17)>0), VLOOKUP($D17, Indices!$E$8:$F$795, 2, FALSE), IF(LEN(D17)>0, MID(VLOOKUP(D17, OFFSET(Indices!$G$8:$I$103, 0, MATCH("UD-" & $C17, Indices!$G$6:$S$6,0)-1), 2,FALSE), 1, 7), "")) | F17: =IF(AND('Prep Workbook'!$I$3="CD", LEN($C17)>0), VLOOKUP($C17, Indices!$G$8:$I$103, 3, FALSE), IF(AND(LEN($C17)>0, LEN($E17)>0), VLOOKUP($E17&"-7", Indices!$E:$F, 2,FALSE), "")) | G17: =IF(AND('Prep Workbook'!$I$3="CD", LEN(F17)>0), VLOOKUP(F17, Indices!$E$8:$F$795, 2, FALSE), E17)
A18: =IF(LEN(TRIM('Prep Workbook'!$B4))>0, TRIM('Prep Workbook'!$B4), "") | C18: =IF(LEN(TRIM('Prep Workbook'!$B4))=0, "", IF('Prep Workbook'!$I$3="CD", 'Prep Workbook'!J4, RIGHT('Prep Workbook'!I4, 1))) | D18: =IF(LEN($C18)>0, IF('Prep Workbook'!$I$3="CD", VLOOKUP($C18, Indices!$G9:$I$103, 2, FALSE), 'Prep Workbook'!$J4), "") | E18: =IF(AND('Prep Workbook'!$I$3="CD", LEN(D18)>0), VLOOKUP($D18, Indices!$E$8:$F$795, 2, FALSE), IF(LEN(D18)>0, MID(VLOOKUP(D18, OFFSET(Indices!$G$8:$I$103, 0, MATCH("UD-" & $C18, Indices!$G$6:$S$6,0)-1), 2,FALSE), 1, 7), "")) | F18: =IF(AND('Prep Workbook'!$I$3="CD", LEN($C18)>0), VLOOKUP($C18, Indices!$G$8:$I$103, 3, FALSE), IF(AND(LEN($C18)>0, LEN($E18)>0), VLOOKUP($E18&"-7", Indices!$E:$F, 2,FALSE), "")) | G18: =IF(AND('Prep Workbook'!$I$3="CD", LEN(F18)>0), VLOOKUP(F18, Indices!$E$8:$F$795, 2, FALSE), E18)
A19: =IF(LEN(TRIM('Prep Workbook'!$B5))>0, TRIM('Prep Workbook'!$B5), "") | C19: =IF(LEN(TRIM('Prep Workbook'!$B5))=0, "", IF('Prep Workbook'!$I$3="CD", 'Prep Workbook'!J5, RIGHT('Prep Workbook'!I5, 1))) | D19: =IF(LEN($C19)>0, IF('Prep Workbook'!$I$3="CD", VLOOKUP($C19, Indices!$G10:$I$103, 2, FALSE), 'Prep Workbook'!$J5), "") | E19: =IF(AND('Prep Workbook'!$I$3="CD", LEN(D19)>0), VLOOKUP($D19, Indices!$E$8:$F$795, 2, FALSE), IF(LEN(D19)>0, MID(VLOOKUP(D19, OFFSET(Indices!$G$8:$I$103, 0, MATCH("UD-" & $C19, Indices!$G$6:$S$6,0)-1), 2,FALSE), 1, 7), "")) | F19: =IF(AND('Prep Workbook'!$I$3="CD", LEN($C19)>0), VLOOKUP($C19, Indices!$G$8:$I$103, 3, FALSE), IF(AND(LEN($C19)>0, LEN($E19)>0), VLOOKUP($E19&"-7", Indices!$E:$F, 2,FALSE), "")) | G19: =IF(AND('Prep Workbook'!$I$3="CD", LEN(F19)>0), VLOOKUP(F19, Indices!$E$8:$F$795, 2, FALSE), E19)
A20: =IF(LEN(TRIM('Prep Workbook'!$B6))>0, TRIM('Prep Workbook'!$B6), "") | C20: =IF(LEN(TRIM('Prep Workbook'!$B6))=0, "", IF('Prep Workbook'!$I$3="CD", 'Prep Workbook'!J6, RIGHT('Prep Workbook'!I6, 1))) | D20: =IF(LEN($C20)>0, IF('Prep Workbook'!$I$3="CD", VLOOKUP($C20, Indices!$G11:$I$103, 2, FALSE), 'Prep Workbook'!$J6), "") | E20: =IF(AND('Prep Workbook'!$I$3="CD", LEN(D20)>0), VLOOKUP($D20, Indices!$E$8:$F$795, 2, FALSE), IF(LEN(D20)>0, MID(VLOOKUP(D20, OFFSET(Indices!$G$8:$I$103, 0, MATCH("UD-" & $C20, Indices!$G$6:$S$6,0)-1), 2,FALSE), 1, 7), "")) | F20: =IF(AND('Prep Workbook'!$I$3="CD", LEN($C20)>0), VLOOKUP($C20, Indices!$G$8:$I$103, 3, FALSE), IF(AND(LEN($C20)>0, LEN($E20)>0), VLOOKUP($E20&"-7", Indices!$E:$F, 2,FALSE), "")) | G20: =IF(AND('Prep Workbook'!$I$3="CD", LEN(F20)>0), VLOOKUP(F20, Indices!$E$8:$F$795, 2, FALSE), E20)
A21: =IF(LEN(TRIM('Prep Workbook'!$B7))>0, TRIM('Prep Workbook'!$B7), "") | C21: =IF(LEN(TRIM('Prep Workbook'!$B7))=0, "", IF('Prep Workbook'!$I$3="CD", 'Prep Workbook'!J7, RIGHT('Prep Workbook'!I7, 1))) | D21: =IF(LEN($C21)>0, IF('Prep Workbook'!$I$3="CD", VLOOKUP($C21, Indices!$G12:$I$103, 2, FALSE), 'Prep Workbook'!$J7), "") | E21: =IF(AND('Prep Workbook'!$I$3="CD", LEN(D21)>0), VLOOKUP($D21, Indices!$E$8:$F$795, 2, FALSE), IF(LEN(D21)>0, MID(VLOOKUP(D21, OFFSET(Indices!$G$8:$I$103, 0, MATCH("UD-" & $C21, Indices!$G$6:$S$6,0)-1), 2,FALSE), 1, 7), "")) | F21: =IF(AND('Prep Workbook'!$I$3="CD", LEN($C21)>0), VLOOKUP($C21, Indices!$G$8:$I$103, 3, FALSE), IF(AND(LEN($C21)>0, LEN($E21)>0), VLOOKUP($E21&"-7", Indices!$E:$F, 2,FALSE), "")) | G21: =IF(AND('Prep Workbook'!$I$3="CD", LEN(F21)>0), VLOOKUP(F21, Indices!$E$8:$F$795, 2, FALSE), E21)
A22: =IF(LEN(TRIM('Prep Workbook'!$B8))>0, TRIM('Prep Workbook'!$B8), "") | C22: =IF(LEN(TRIM('Prep Workbook'!$B8))=0, "", IF('Prep Workbook'!$I$3="CD", 'Prep Workbook'!J8, RIGHT('Prep Workbook'!I8, 1))) | D22: =IF(LEN($C22)>0, IF('Prep Workbook'!$I$3="CD", VLOOKUP($C22, Indices!$G13:$I$103, 2, FALSE), 'Prep Workbook'!$J8), "") | E22: =IF(AND('Prep Workbook'!$I$3="CD", LEN(D22)>0), VLOOKUP($D22, Indices!$E$8:$F$795, 2, FALSE), IF(LEN(D22)>0, MID(VLOOKUP(D22, OFFSET(Indices!$G$8:$I$103, 0, MATCH("UD-" & $C22, Indices!$G$6:$S$6,0)-1), 2,FALSE), 1, 7), "")) | F22: =IF(AND('Prep Workbook'!$I$3="CD", LEN($C22)>0), VLOOKUP($C22, Indices!$G$8:$I$103, 3, FALSE), IF(AND(LEN($C22)>0, LEN($E22)>0), VLOOKUP($E22&"-7", Indices!$E:$F, 2,FALSE), "")) | G22: =IF(AND('Prep Workbook'!$I$3="CD", LEN(F22)>0), VLOOKUP(F22, Indices!$E$8:$F$795, 2, FALSE), E22)
A23: =IF(LEN(TRIM('Prep Workbook'!$B9))>0, TRIM('Prep Workbook'!$B9), "") | C23: =IF(LEN(TRIM('Prep Workbook'!$B9))=0, "", IF('Prep Workbook'!$I$3="CD", 'Prep Workbook'!J9, RIGHT('Prep Workbook'!I9, 1))) | D23: =IF(LEN($C23)>0, IF('Prep Workbook'!$I$3="CD", VLOOKUP($C23, Indices!$G14:$I$103, 2, FALSE), 'Prep Workbook'!$J9), "") | E23: =IF(AND('Prep Workbook'!$I$3="CD", LEN(D23)>0), VLOOKUP($D23, Indices!$E$8:$F$795, 2, FALSE), IF(LEN(D23)>0, MID(VLOOKUP(D23, OFFSET(Indices!$G$8:$I$103, 0, MATCH("UD-" & $C23, Indices!$G$6:$S$6,0)-1), 2,FALSE), 1, 7), "")) | F23: =IF(AND('Prep Workbook'!$I$3="CD", LEN($C23)>0), VLOOKUP($C23, Indices!$G$8:$I$103, 3, FALSE), IF(AND(LEN($C23)>0, LEN($E23)>0), VLOOKUP($E23&"-7", Indices!$E:$F, 2,FALSE), "")) | G23: =IF(AND('Prep Workbook'!$I$3="CD", LEN(F23)>0), VLOOKUP(F23, Indices!$E$8:$F$795, 2, FALSE), E23)
A24: =IF(LEN(TRIM('Prep Workbook'!$B10))>0, TRIM('Prep Workbook'!$B10), "") | C24: =IF(LEN(TRIM('Prep Workbook'!$B10))=0, "", IF('Prep Workbook'!$I$3="CD", 'Prep Workbook'!J10, RIGHT('Prep Workbook'!I10, 1))) | D24: =IF(LEN($C24)>0, IF('Prep Workbook'!$I$3="CD", VLOOKUP($C24, Indices!$G15:$I$103, 2, FALSE), 'Prep Workbook'!$J10), "") | E24: =IF(AND('Prep Workbook'!$I$3="CD", LEN(D24)>0), VLOOKUP($D24, Indices!$E$8:$F$795, 2, FALSE), IF(LEN(D24)>0, MID(VLOOKUP(D24, OFFSET(Indices!$G$8:$I$103, 0, MATCH("UD-" & $C24, Indices!$G$6:$S$6,0)-1), 2,FALSE), 1, 7), "")) | F24: =IF(AND('Prep Workbook'!$I$3="CD", LEN($C24)>0), VLOOKUP($C24, Indices!$G$8:$I$103, 3, FALSE), IF(AND(LEN($C24)>0, LEN($E24)>0), VLOOKUP($E24&"-7", Indices!$E:$F, 2,FALSE), "")) | G24: =IF(AND('Prep Workbook'!$I$3="CD", LEN(F24)>0), VLOOKUP(F24, Indices!$E$8:$F$795, 2, FALSE), E24)
A25: =IF(LEN(TRIM('Prep Workbook'!$B11))>0, TRIM('Prep Workbook'!$B11), "") | C25: =IF(LEN(TRIM('Prep Workbook'!$B11))=0, "", IF('Prep Workbook'!$I$3="CD", 'Prep Workbook'!J11, RIGHT('Prep Workbook'!I11, 1))) | D25: =IF(LEN($C25)>0, IF('Prep Workbook'!$I$3="CD", VLOOKUP($C25, Indices!$G16:$I$103, 2, FALSE), 'Prep Workbook'!$J11), "") | E25: =IF(AND('Prep Workbook'!$I$3="CD", LEN(D25)>0), VLOOKUP($D25, Indices!$E$8:$F$795, 2, FALSE), IF(LEN(D25)>0, MID(VLOOKUP(D25, OFFSET(Indices!$G$8:$I$103, 0, MATCH("UD-" & $C25, Indices!$G$6:$S$6,0)-1), 2,FALSE), 1, 7), "")) | F25: =IF(AND('Prep Workbook'!$I$3="CD", LEN($C25)>0), VLOOKUP($C25, Indices!$G$8:$I$103, 3, FALSE), IF(AND(LEN($C25)>0, LEN($E25)>0), VLOOKUP($E25&"-7", Indices!$E:$F, 2,FALSE), "")) | G25: =IF(AND('Prep Workbook'!$I$3="CD", LEN(F25)>0), VLOOKUP(F25, Indices!$E$8:$F$795, 2, FALSE), E25) | I25: =IF(LEN('Prep Workbook'!$B6)>0, 'Prep Workbook'!#REF!,"")
A26: =IF(LEN(TRIM('Prep Workbook'!$B12))>0, TRIM('Prep Workbook'!$B12), "") | C26: =IF(LEN(TRIM('Prep Workbook'!$B12))=0, "", IF('Prep Workbook'!$I$3="CD", 'Prep Workbook'!J12, RIGHT('Prep Workbook'!I12, 1))) | D26: =IF(LEN($C26)>0, IF('Prep Workbook'!$I$3="CD", VLOOKUP($C26, Indices!$G17:$I$103, 2, FALSE), 'Prep Workbook'!$J12), "") | E26: =IF(AND('Prep Workbook'!$I$3="CD", LEN(D26)>0), VLOOKUP($D26, Indices!$E$8:$F$795, 2, FALSE), IF(LEN(D26)>0, MID(VLOOKUP(D26, OFFSET(Indices!$G$8:$I$103, 0, MATCH("UD-" & $C26, Indices!$G$6:$S$6,0)-1), 2,FALSE), 1, 7), "")) | F26: =IF(AND('Prep Workbook'!$I$3="CD", LEN($C26)>0), VLOOKUP($C26, Indices!$G$8:$I$103, 3, FALSE), IF(AND(LEN($C26)>0, LEN($E26)>0), VLOOKUP($E26&"-7", Indices!$E:$F, 2,FALSE), "")) | G26: =IF(AND('Prep Workbook'!$I$3="CD", LEN(F26)>0), VLOOKUP(F26, Indices!$E$8:$F$795, 2, FALSE), E26) | I26: =IF(LEN('Prep Workbook'!$B7)>0, 'Prep Workbook'!#REF!,"")
A27: =IF(LEN(TRIM('Prep Workbook'!$B13))>0, TRIM('Prep Workbook'!$B13), "") | C27: =IF(LEN(TRIM('Prep Workbook'!$B13))=0, "", IF('Prep Workbook'!$I$3="CD", 'Prep Workbook'!J13, RIGHT('Prep Workbook'!I13, 1))) | D27: =IF(LEN($C27)>0, IF('Prep Workbook'!$I$3="CD", VLOOKUP($C27, Indices!$G18:$I$103, 2, FALSE), 'Prep Workbook'!$J13), "") | E27: =IF(AND('Prep Workbook'!$I$3="CD", LEN(D27)>0), VLOOKUP($D27, Indices!$E$8:$F$795, 2, FALSE), IF(LEN(D27)>0, MID(VLOOKUP(D27, OFFSET(Indices!$G$8:$I$103, 0, MATCH("UD-" & $C27, Indices!$G$6:$S$6,0)-1), 2,FALSE), 1, 7), "")) | F27: =IF(AND('Prep Workbook'!$I$3="CD", LEN($C27)>0), VLOOKUP($C27, Indices!$G$8:$I$103, 3, FALSE), IF(AND(LEN($C27)>0, LEN($E27)>0), VLOOKUP($E27&"-7", Indices!$E:$F, 2,FALSE), "")) | G27: =IF(AND('Prep Workbook'!$I$3="CD", LEN(F27)>0), VLOOKUP(F27, Indices!$E$8:$F$795, 2, FALSE), E27) | I27: =IF(LEN('Prep Workbook'!$B8)>0, 'Prep Workbook'!#REF!,"")
A28: =IF(LEN(TRIM('Prep Workbook'!$B14))>0, TRIM('Prep Workbook'!$B14), "") | C28: =IF(LEN(TRIM('Prep Workbook'!$B14))=0, "", IF('Prep Workbook'!$I$3="CD", 'Prep Workbook'!J14, RIGHT('Prep Workbook'!I14, 1))) | D28: =IF(LEN($C28)>0, IF('Prep Workbook'!$I$3="CD", VLOOKUP($C28, Indices!$G19:$I$103, 2, FALSE), 'Prep Workbook'!$J14), "") | E28: =IF(AND('Prep Workbook'!$I$3="CD", LEN(D28)>0), VLOOKUP($D28, Indices!$E$8:$F$795, 2, FALSE), IF(LEN(D28)>0, MID(VLOOKUP(D28, OFFSET(Indices!$G$8:$I$103, 0, MATCH("UD-" & $C28, Indices!$G$6:$S$6,0)-1), 2,FALSE), 1, 7), "")) | F28: =IF(AND('Prep Workbook'!$I$3="CD", LEN($C28)>0), VLOOKUP($C28, Indices!$G$8:$I$103, 3, FALSE), IF(AND(LEN($C28)>0, LEN($E28)>0), VLOOKUP($E28&"-7", Indices!$E:$F, 2,FALSE), "")) | G28: =IF(AND('Prep Workbook'!$I$3="CD", LEN(F28)>0), VLOOKUP(F28, Indices!$E$8:$F$795, 2, FALSE), E28) | I28: =IF(LEN('Prep Workbook'!$B9)>0, 'Prep Workbook'!#REF!,"")
A29: =IF(LEN(TRIM('Prep Workbook'!$B15))>0, TRIM('Prep Workbook'!$B15), "") | C29: =IF(LEN(TRIM('Prep Workbook'!$B15))=0, "", IF('Prep Workbook'!$I$3="CD", 'Prep Workbook'!J15, RIGHT('Prep Workbook'!I15, 1))) | D29: =IF(LEN($C29)>0, IF('Prep Workbook'!$I$3="CD", VLOOKUP($C29, Indices!$G20:$I$103, 2, FALSE), 'Prep Workbook'!$J15), "") | E29: =IF(AND('Prep Workbook'!$I$3="CD", LEN(D29)>0), VLOOKUP($D29, Indices!$E$8:$F$795, 2, FALSE), IF(LEN(D29)>0, MID(VLOOKUP(D29, OFFSET(Indices!$G$8:$I$103, 0, MATCH("UD-" & $C29, Indices!$G$6:$S$6,0)-1), 2,FALSE), 1, 7), "")) | F29: =IF(AND('Prep Workbook'!$I$3="CD", LEN($C29)>0), VLOOKUP($C29, Indices!$G$8:$I$103, 3, FALSE), IF(AND(LEN($C29)>0, LEN($E29)>0), VLOOKUP($E29&"-7", Indices!$E:$F, 2,FALSE), "")) | G29: =IF(AND('Prep Workbook'!$I$3="CD", LEN(F29)>0), VLOOKUP(F29, Indices!$E$8:$F$795, 2, FALSE), E29) | I29: =IF(LEN('Prep Workbook'!$B10)>0, 'Prep Workbook'!#REF!,"")
A30: =IF(LEN(TRIM('Prep Workbook'!$B16))>0, TRIM('Prep Workbook'!$B16), "") | C30: =IF(LEN(TRIM('Prep Workbook'!$B16))=0, "", IF('Prep Workbook'!$I$3="CD", 'Prep Workbook'!J16, RIGHT('Prep Workbook'!I16, 1))) | D30: =IF(LEN($C30)>0, IF('Prep Workbook'!$I$3="CD", VLOOKUP($C30, Indices!$G21:$I$103, 2, FALSE), 'Prep Workbook'!$J16), "") | E30: =IF(AND('Prep Workbook'!$I$3="CD", LEN(D30)>0), VLOOKUP($D30, Indices!$E$8:$F$795, 2, FALSE), IF(LEN(D30)>0, MID(VLOOKUP(D30, OFFSET(Indices!$G$8:$I$103, 0, MATCH("UD-" & $C30, Indices!$G$6:$S$6,0)-1), 2,FALSE), 1, 7), "")) | F30: =IF(AND('Prep Workbook'!$I$3="CD", LEN($C30)>0), VLOOKUP($C30, Indices!$G$8:$I$103, 3, FALSE), IF(AND(LEN($C30)>0, LEN($E30)>0), VLOOKUP($E30&"-7", Indices!$E:$F, 2,FALSE), "")) | G30: =IF(AND('Prep Workbook'!$I$3="CD", LEN(F30)>0), VLOOKUP(F30, Indices!$E$8:$F$795, 2, FALSE), E30) | I30: =IF(LEN('Prep Workbook'!$B11)>0, 'Prep Workbook'!#REF!,"")
A31: =IF(LEN(TRIM('Prep Workbook'!$B17))>0, TRIM('Prep Workbook'!$B17), "") | C31: =IF(LEN(TRIM('Prep Workbook'!$B17))=0, "", IF('Prep Workbook'!$I$3="CD", 'Prep Workbook'!J17, RIGHT('Prep Workbook'!I17, 1))) | D31: =IF(LEN($C31)>0, IF('Prep Workbook'!$I$3="CD", VLOOKUP($C31, Indices!$G22:$I$103, 2, FALSE), 'Prep Workbook'!$J17), "") | E31: =IF(AND('Prep Workbook'!$I$3="CD", LEN(D31)>0), VLOOKUP($D31, Indices!$E$8:$F$795, 2, FALSE), IF(LEN(D31)>0, MID(VLOOKUP(D31, OFFSET(Indices!$G$8:$I$103, 0, MATCH("UD-" & $C31, Indices!$G$6:$S$6,0)-1), 2,FALSE), 1, 7), "")) | F31: =IF(AND('Prep Workbook'!$I$3="CD", LEN($C31)>0), VLOOKUP($C31, Indices!$G$8:$I$103, 3, FALSE), IF(AND(LEN($C31)>0, LEN($E31)>0), VLOOKUP($E31&"-7", Indices!$E:$F, 2,FALSE), "")) | G31: =IF(AND('Prep Workbook'!$I$3="CD", LEN(F31)>0), VLOOKUP(F31, Indices!$E$8:$F$795, 2, FALSE), E31) | I31: =IF(LEN('Prep Workbook'!$B12)>0, 'Prep Workbook'!#REF!,"")
A32: =IF(LEN(TRIM('Prep Workbook'!$B18))>0, TRIM('Prep Workbook'!$B18), "") | C32: =IF(LEN(TRIM('Prep Workbook'!$B18))=0, "", IF('Prep Workbook'!$I$3="CD", 'Prep Workbook'!J18, RIGHT('Prep Workbook'!I18, 1))) | D32: =IF(LEN($C32)>0, IF('Prep Workbook'!$I$3="CD", VLOOKUP($C32, Indices!$G23:$I$103, 2, FALSE), 'Prep Workbook'!$J18), "") | E32: =IF(AND('Prep Workbook'!$I$3="CD", LEN(D32)>0), VLOOKUP($D32, Indices!$E$8:$F$795, 2, FALSE), IF(LEN(D32)>0, MID(VLOOKUP(D32, OFFSET(Indices!$G$8:$I$103, 0, MATCH("UD-" & $C32, Indices!$G$6:$S$6,0)-1), 2,FALSE), 1, 7), "")) | F32: =IF(AND('Prep Workbook'!$I$3="CD", LEN($C32)>0), VLOOKUP($C32, Indices!$G$8:$I$103, 3, FALSE), IF(AND(LEN($C32)>0, LEN($E32)>0), VLOOKUP($E32&"-7", Indices!$E:$F, 2,FALSE), "")) | G32: =IF(AND('Prep Workbook'!$I$3="CD", LEN(F32)>0), VLOOKUP(F32, Indices!$E$8:$F$795, 2, FALSE), E32) | I32: =IF(LEN('Prep Workbook'!$B13)>0, 'Prep Workbook'!#REF!,"")
A33: =IF(LEN(TRIM('Prep Workbook'!$B19))>0, TRIM('Prep Workbook'!$B19), "") | C33: =IF(LEN(TRIM('Prep Workbook'!$B19))=0, "", IF('Prep Workbook'!$I$3="CD", 'Prep Workbook'!J19, RIGHT('Prep Workbook'!I19, 1))) | D33: =IF(LEN($C33)>0, IF('Prep Workbook'!$I$3="CD", VLOOKUP($C33, Indices!$G24:$I$103, 2, FALSE), 'Prep Workbook'!$J19), "") | E33: =IF(AND('Prep Workbook'!$I$3="CD", LEN(D33)>0), VLOOKUP($D33, Indices!$E$8:$F$795, 2, FALSE), IF(LEN(D33)>0, MID(VLOOKUP(D33, OFFSET(Indices!$G$8:$I$103, 0, MATCH("UD-" & $C33, Indices!$G$6:$S$6,0)-1), 2,FALSE), 1, 7), "")) | F33: =IF(AND('Prep Workbook'!$I$3="CD", LEN($C33)>0), VLOOKUP($C33, Indices!$G$8:$I$103, 3, FALSE), IF(AND(LEN($C33)>0, LEN($E33)>0), VLOOKUP($E33&"-7", Indices!$E:$F, 2,FALSE), "")) | G33: =IF(AND('Prep Workbook'!$I$3="CD", LEN(F33)>0), VLOOKUP(F33, Indices!$E$8:$F$795, 2, FALSE), E33) | I33: =IF(LEN('Prep Workbook'!$B14)>0, 'Prep Workbook'!#REF!,"")
A34: =IF(LEN(TRIM('Prep Workbook'!$B20))>0, TRIM('Prep Workbook'!$B20), "") | C34: =IF(LEN(TRIM('Prep Workbook'!$B20))=0, "", IF('Prep Workbook'!$I$3="CD", 'Prep Workbook'!J20, RIGHT('Prep Workbook'!I20, 1))) | D34: =IF(LEN($C34)>0, IF('Prep Workbook'!$I$3="CD", VLOOKUP($C34, Indices!$G25:$I$103, 2, FALSE), 'Prep Workbook'!$J20), "") | E34: =IF(AND('Prep Workbook'!$I$3="CD", LEN(D34)>0), VLOOKUP($D34, Indices!$E$8:$F$795, 2, FALSE), IF(LEN(D34)>0, MID(VLOOKUP(D34, OFFSET(Indices!$G$8:$I$103, 0, MATCH("UD-" & $C34, Indices!$G$6:$S$6,0)-1), 2,FALSE), 1, 7), "")) | F34: =IF(AND('Prep Workbook'!$I$3="CD", LEN($C34)>0), VLOOKUP($C34, Indices!$G$8:$I$103, 3, FALSE), IF(AND(LEN($C34)>0, LEN($E34)>0), VLOOKUP($E34&"-7", Indices!$E:$F, 2,FALSE), "")) | G34: =IF(AND('Prep Workbook'!$I$3="CD", LEN(F34)>0), VLOOKUP(F34, Indices!$E$8:$F$795, 2, FALSE), E34) | I34: =IF(LEN('Prep Workbook'!$B15)>0, 'Prep Workbook'!#REF!,"")
A35: =IF(LEN(TRIM('Prep Workbook'!$B21))>0, TRIM('Prep Workbook'!$B21), "") | C35: =IF(LEN(TRIM('Prep Workbook'!$B21))=0, "", IF('Prep Workbook'!$I$3="CD", 'Prep Workbook'!J21, RIGHT('Prep Workbook'!I21, 1))) | D35: =IF(LEN($C35)>0, IF('Prep Workbook'!$I$3="CD", VLOOKUP($C35, Indices!$G26:$I$103, 2, FALSE), 'Prep Workbook'!$J21), "") | E35: =IF(AND('Prep Workbook'!$I$3="CD", LEN(D35)>0), VLOOKUP($D35, Indices!$E$8:$F$795, 2, FALSE), IF(LEN(D35)>0, MID(VLOOKUP(D35, OFFSET(Indices!$G$8:$I$103, 0, MATCH("UD-" & $C35, Indices!$G$6:$S$6,0)-1), 2,FALSE), 1, 7), "")) | F35: =IF(AND('Prep Workbook'!$I$3="CD", LEN($C35)>0), VLOOKUP($C35, Indices!$G$8:$I$103, 3, FALSE), IF(AND(LEN($C35)>0, LEN($E35)>0), VLOOKUP($E35&"-7", Indices!$E:$F, 2,FALSE), "")) | G35: =IF(AND('Prep Workbook'!$I$3="CD", LEN(F35)>0), VLOOKUP(F35, Indices!$E$8:$F$795, 2, FALSE), E35) | I35: =IF(LEN('Prep Workbook'!$B16)>0, 'Prep Workbook'!#REF!,"")
A36: =IF(LEN(TRIM('Prep Workbook'!$B22))>0, TRIM('Prep Workbook'!$B22), "") | C36: =IF(LEN(TRIM('Prep Workbook'!$B22))=0, "", IF('Prep Workbook'!$I$3="CD", 'Prep Workbook'!J22, RIGHT('Prep Workbook'!I22, 1))) | D36: =IF(LEN($C36)>0, IF('Prep Workbook'!$I$3="CD", VLOOKUP($C36, Indices!$G27:$I$103, 2, FALSE), 'Prep Workbook'!$J22), "") | E36: =IF(AND('Prep Workbook'!$I$3="CD", LEN(D36)>0), VLOOKUP($D36, Indices!$E$8:$F$795, 2, FALSE), IF(LEN(D36)>0, MID(VLOOKUP(D36, OFFSET(Indices!$G$8:$I$103, 0, MATCH("UD-" & $C36, Indices!$G$6:$S$6,0)-1), 2,FALSE), 1, 7), "")) | F36: =IF(AND('Prep Workbook'!$I$3="CD", LEN($C36)>0), VLOOKUP($C36, Indices!$G$8:$I$103, 3, FALSE), IF(AND(LEN($C36)>0, LEN($E36)>0), VLOOKUP($E36&"-7", Indices!$E:$F, 2,FALSE), "")) | G36: =IF(AND('Prep Workbook'!$I$3="CD", LEN(F36)>0), VLOOKUP(F36, Indices!$E$8:$F$795, 2, FALSE), E36) | I36: =IF(LEN('Prep Workbook'!$B17)>0, 'Prep Workbook'!#REF!,"")
... A45: =IF(LEN(TRIM('Prep Workbook'!$B31))>0, TRIM('Prep Workbook'!$B31), "") | C45: =IF(LEN(TRIM('Prep Workbook'!$B31))=0, "", IF('Prep Workbook'!$I$3="CD", 'Prep Workbook'!J31, RIGHT('Prep Workbook'!I31, 1))) | D45: =IF(LEN($C45)>0, IF('Prep Workbook'!$I$3="CD", VLOOKUP($C45, Indices!$G36:$I$103, 2, FALSE), 'Prep Workbook'!$J31), "") | E45: =IF(AND('Prep Workbook'!$I$3="CD", LEN(D45)>0), VLOOKUP($D45, Indices!$E$8:$F$795, 2, FALSE), IF(LEN(D45)>0, MID(VLOOKUP(D45, OFFSET(Indices!$G$8:$I$103, 0, MATCH("UD-" & $C45, Indices!$G$6:$S$6,0)-1), 2,FALSE), 1, 7), "")) | F45: =IF(AND('Prep Workbook'!$I$3="CD", LEN($C45)>0), VLOOKUP($C45, Indices!$G$8:$I$103, 3, FALSE), IF(AND(LEN($C45)>0, LEN($E45)>0), VLOOKUP($E45&"-7", Indices!$E:$F, 2,FALSE), "")) | G45: =IF(AND('Prep Workbook'!$I$3="CD", LEN(F45)>0), VLOOKUP(F45, Indices!$E$8:$F$795, 2, FALSE), E45) | I45: =IF(LEN('Prep Workbook'!$B26)>0, 'Prep Workbook'!#REF!,"")
A46: =IF(LEN(TRIM('Prep Workbook'!$B32))>0, TRIM('Prep Workbook'!$B32), "") | C46: =IF(LEN(TRIM('Prep Workbook'!$B32))=0, "", IF('Prep Workbook'!$I$3="CD", 'Prep Workbook'!J32, RIGHT('Prep Workbook'!I32, 1))) | D46: =IF(LEN($C46)>0, IF('Prep Workbook'!$I$3="CD", VLOOKUP($C46, Indices!$G37:$I$103, 2, FALSE), 'Prep Workbook'!$J32), "") | E46: =IF(AND('Prep Workbook'!$I$3="CD", LEN(D46)>0), VLOOKUP($D46, Indices!$E$8:$F$795, 2, FALSE), IF(LEN(D46)>0, MID(VLOOKUP(D46, OFFSET(Indices!$G$8:$I$103, 0, MATCH("UD-" & $C46, Indices!$G$6:$S$6,0)-1), 2,FALSE), 1, 7), "")) | F46: =IF(AND('Prep Workbook'!$I$3="CD", LEN($C46)>0), VLOOKUP($C46, Indices!$G$8:$I$103, 3, FALSE), IF(AND(LEN($C46)>0, LEN($E46)>0), VLOOKUP($E46&"-7", Indices!$E:$F, 2,FALSE), "")) | G46: =IF(AND('Prep Workbook'!$I$3="CD", LEN(F46)>0), VLOOKUP(F46, Indices!$E$8:$F$795, 2, FALSE), E46)
A47: =IF(LEN(TRIM('Prep Workbook'!$B33))>0, TRIM('Prep Workbook'!$B33), "") | C47: =IF(LEN(TRIM('Prep Workbook'!$B33))=0, "", IF('Prep Workbook'!$I$3="CD", 'Prep Workbook'!J33, RIGHT('Prep Workbook'!I33, 1))) | D47: =IF(LEN($C47)>0, IF('Prep Workbook'!$I$3="CD", VLOOKUP($C47, Indices!$G38:$I$103, 2, FALSE), 'Prep Workbook'!$J33), "") | E47: =IF(AND('Prep Workbook'!$I$3="CD", LEN(D47)>0), VLOOKUP($D47, Indices!$E$8:$F$795, 2, FALSE), IF(LEN(D47)>0, MID(VLOOKUP(D47, OFFSET(Indices!$G$8:$I$103, 0, MATCH("UD-" & $C47, Indices!$G$6:$S$6,0)-1), 2,FALSE), 1, 7), "")) | F47: =IF(AND('Prep Workbook'!$I$3="CD", LEN($C47)>0), VLOOKUP($C47, Indices!$G$8:$I$103, 3, FALSE), IF(AND(LEN($C47)>0, LEN($E47)>0), VLOOKUP($E47&"-7", Indices!$E:$F, 2,FALSE), "")) | G47: =IF(AND('Prep Workbook'!$I$3="CD", LEN(F47)>0), VLOOKUP(F47, Indices!$E$8:$F$795, 2, FALSE), E47)
A48: =IF(LEN(TRIM('Prep Workbook'!$B34))>0, TRIM('Prep Workbook'!$B34), "") | C48: =IF(LEN(TRIM('Prep Workbook'!$B34))=0, "", IF('Prep Workbook'!$I$3="CD", 'Prep Workbook'!J34, RIGHT('Prep Workbook'!I34, 1))) | D48: =IF(LEN($C48)>0, IF('Prep Workbook'!$I$3="CD", VLOOKUP($C48, Indices!$G39:$I$103, 2, FALSE), 'Prep Workbook'!$J34), "") | E48: =IF(AND('Prep Workbook'!$I$3="CD", LEN(D48)>0), VLOOKUP($D48, Indices!$E$8:$F$795, 2, FALSE), IF(LEN(D48)>0, MID(VLOOKUP(D48, OFFSET(Indices!$G$8:$I$103, 0, MATCH("UD-" & $C48, Indices!$G$6:$S$6,0)-1), 2,FALSE), 1, 7), "")) | F48: =IF(AND('Prep Workbook'!$I$3="CD", LEN($C48)>0), VLOOKUP($C48, Indices!$G$8:$I$103, 3, FALSE), IF(AND(LEN($C48)>0, LEN($E48)>0), VLOOKUP($E48&"-7", Indices!$E:$F, 2,FALSE), "")) | G48: =IF(AND('Prep Workbook'!$I$3="CD", LEN(F48)>0), VLOOKUP(F48, Indices!$E$8:$F$795, 2, FALSE), E48)
A49: =IF(LEN(TRIM('Prep Workbook'!$B35))>0, TRIM('Prep Workbook'!$B35), "") | C49: =IF(LEN(TRIM('Prep Workbook'!$B35))=0, "", IF('Prep Workbook'!$I$3="CD", 'Prep Workbook'!J35, RIGHT('Prep Workbook'!I35, 1))) | D49: =IF(LEN($C49)>0, IF('Prep Workbook'!$I$3="CD", VLOOKUP($C49, Indices!$G40:$I$103, 2, FALSE), 'Prep Workbook'!$J35), "") | E49: =IF(AND('Prep Workbook'!$I$3="CD", LEN(D49)>0), VLOOKUP($D49, Indices!$E$8:$F$795, 2, FALSE), IF(LEN(D49)>0, MID(VLOOKUP(D49, OFFSET(Indices!$G$8:$I$103, 0, MATCH("UD-" & $C49, Indices!$G$6:$S$6,0)-1), 2,FALSE), 1, 7), "")) | F49: =IF(AND('Prep Workbook'!$I$3="CD", LEN($C49)>0), VLOOKUP($C49, Indices!$G$8:$I$103, 3, FALSE), IF(AND(LEN($C49)>0, LEN($E49)>0), VLOOKUP($E49&"-7", Indices!$E:$F, 2,FALSE), "")) | G49: =IF(AND('Prep Workbook'!$I$3="CD", LEN(F49)>0), VLOOKUP(F49, Indices!$E$8:$F$795, 2, FALSE), E49)
A50: =IF(LEN(TRIM('Prep Workbook'!$B36))>0, TRIM('Prep Workbook'!$B36), "") | C50: =IF(LEN(TRIM('Prep Workbook'!$B36))=0, "", IF('Prep Workbook'!$I$3="CD", 'Prep Workbook'!J36, RIGHT('Prep Workbook'!I36, 1))) | D50: =IF(LEN($C50)>0, IF('Prep Workbook'!$I$3="CD", VLOOKUP($C50, Indices!$G41:$I$103, 2, FALSE), 'Prep Workbook'!$J36), "") | E50: =IF(AND('Prep Workbook'!$I$3="CD", LEN(D50)>0), VLOOKUP($D50, Indices!$E$8:$F$795, 2, FALSE), IF(LEN(D50)>0, MID(VLOOKUP(D50, OFFSET(Indices!$G$8:$I$103, 0, MATCH("UD-" & $C50, Indices!$G$6:$S$6,0)-1), 2,FALSE), 1, 7), "")) | F50: =IF(AND('Prep Workbook'!$I$3="CD", LEN($C50)>0), VLOOKUP($C50, Indices!$G$8:$I$103, 3, FALSE), IF(AND(LEN($C50)>0, LEN($E50)>0), VLOOKUP($E50&"-7", Indices!$E:$F, 2,FALSE), "")) | G50: =IF(AND('Prep Workbook'!$I$3="CD", LEN(F50)>0), VLOOKUP(F50, Indices!$E$8:$F$795, 2, FALSE), E50)
A51: =IF(LEN(TRIM('Prep Workbook'!$B37))>0, TRIM('Prep Workbook'!$B37), "") | C51: =IF(LEN(TRIM('Prep Workbook'!$B37))=0, "", IF('Prep Workbook'!$I$3="CD", 'Prep Workbook'!J37, RIGHT('Prep Workbook'!I37, 1))) | D51: =IF(LEN($C51)>0, IF('Prep Workbook'!$I$3="CD", VLOOKUP($C51, Indices!$G42:$I$103, 2, FALSE), 'Prep Workbook'!$J37), "") | E51: =IF(AND('Prep Workbook'!$I$3="CD", LEN(D51)>0), VLOOKUP($D51, Indices!$E$8:$F$795, 2, FALSE), IF(LEN(D51)>0, MID(VLOOKUP(D51, OFFSET(Indices!$G$8:$I$103, 0, MATCH("UD-" & $C51, Indices!$G$6:$S$6,0)-1), 2,FALSE), 1, 7), "")) | F51: =IF(AND('Prep Workbook'!$I$3="CD", LEN($C51)>0), VLOOKUP($C51, Indices!$G$8:$I$103, 3, FALSE), IF(AND(LEN($C51)>0, LEN($E51)>0), VLOOKUP($E51&"-7", Indices!$E:$F, 2,FALSE), "")) | G51: =IF(AND('Prep Workbook'!$I$3="CD", LEN(F51)>0), VLOOKUP(F51, Indices!$E$8:$F$795, 2, FALSE), E51)
A52: =IF(LEN(TRIM('Prep Workbook'!$B38))>0, TRIM('Prep Workbook'!$B38), "") | C52: =IF(LEN(TRIM('Prep Workbook'!$B38))=0, "", IF('Prep Workbook'!$I$3="CD", 'Prep Workbook'!J38, RIGHT('Prep Workbook'!I38, 1))) | D52: =IF(LEN($C52)>0, IF('Prep Workbook'!$I$3="CD", VLOOKUP($C52, Indices!$G43:$I$103, 2, FALSE), 'Prep Workbook'!$J38), "") | E52: =IF(AND('Prep Workbook'!$I$3="CD", LEN(D52)>0), VLOOKUP($D52, Indices!$E$8:$F$795, 2, FALSE), IF(LEN(D52)>0, MID(VLOOKUP(D52, OFFSET(Indices!$G$8:$I$103, 0, MATCH("UD-" & $C52, Indices!$G$6:$S$6,0)-1), 2,FALSE), 1, 7), "")) | F52: =IF(AND('Prep Workbook'!$I$3="CD", LEN($C52)>0), VLOOKUP($C52, Indices!$G$8:$I$103, 3, FALSE), IF(AND(LEN($C52)>0, LEN($E52)>0), VLOOKUP($E52&"-7", Indices!$E:$F, 2,FALSE), "")) | G52: =IF(AND('Prep Workbook'!$I$3="CD", LEN(F52)>0), VLOOKUP(F52, Indices!$E$8:$F$795, 2, FALSE), E52)
A53: =IF(LEN(TRIM('Prep Workbook'!$B39))>0, TRIM('Prep Workbook'!$B39), "") | C53: =IF(LEN(TRIM('Prep Workbook'!$B39))=0, "", IF('Prep Workbook'!$I$3="CD", 'Prep Workbook'!J39, RIGHT('Prep Workbook'!I39, 1))) | D53: =IF(LEN($C53)>0, IF('Prep Workbook'!$I$3="CD", VLOOKUP($C53, Indices!$G44:$I$103, 2, FALSE), 'Prep Workbook'!$J39), "") | E53: =IF(AND('Prep Workbook'!$I$3="CD", LEN(D53)>0), VLOOKUP($D53, Indices!$E$8:$F$795, 2, FALSE), IF(LEN(D53)>0, MID(VLOOKUP(D53, OFFSET(Indices!$G$8:$I$103, 0, MATCH("UD-" & $C53, Indices!$G$6:$S$6,0)-1), 2,FALSE), 1, 7), "")) | F53: =IF(AND('Prep Workbook'!$I$3="CD", LEN($C53)>0), VLOOKUP($C53, Indices!$G$8:$I$103, 3, FALSE), IF(AND(LEN($C53)>0, LEN($E53)>0), VLOOKUP($E53&"-7", Indices!$E:$F, 2,FALSE), "")) | G53: =IF(AND('Prep Workbook'!$I$3="CD", LEN(F53)>0), VLOOKUP(F53, Indices!$E$8:$F$795, 2, FALSE), E53)
A54: =IF(LEN(TRIM('Prep Workbook'!$B40))>0, TRIM('Prep Workbook'!$B40), "") | C54: =IF(LEN(TRIM('Prep Workbook'!$B40))=0, "", IF('Prep Workbook'!$I$3="CD", 'Prep Workbook'!J40, RIGHT('Prep Workbook'!I40, 1))) | D54: =IF(LEN($C54)>0, IF('Prep Workbook'!$I$3="CD", VLOOKUP($C54, Indices!$G45:$I$103, 2, FALSE), 'Prep Workbook'!$J40), "") | E54: =IF(AND('Prep Workbook'!$I$3="CD", LEN(D54)>0), VLOOKUP($D54, Indices!$E$8:$F$795, 2, FALSE), IF(LEN(D54)>0, MID(VLOOKUP(D54, OFFSET(Indices!$G$8:$I$103, 0, MATCH("UD-" & $C54, Indices!$G$6:$S$6,0)-1), 2,FALSE), 1, 7), "")) | F54: =IF(AND('Prep Workbook'!$I$3="CD", LEN($C54)>0), VLOOKUP($C54, Indices!$G$8:$I$103, 3, FALSE), IF(AND(LEN($C54)>0, LEN($E54)>0), VLOOKUP($E54&"-7", Indices!$E:$F, 2,FALSE), "")) | G54: =IF(AND('Prep Workbook'!$I$3="CD", LEN(F54)>0), VLOOKUP(F54, Indices!$E$8:$F$795, 2, FALSE), E54)
A55: =IF(LEN(TRIM('Prep Workbook'!$B41))>0, TRIM('Prep Workbook'!$B41), "") | C55: =IF(LEN(TRIM('Prep Workbook'!$B41))=0, "", IF('Prep Workbook'!$I$3="CD", 'Prep Workbook'!J41, RIGHT('Prep Workbook'!I41, 1))) | D55: =IF(LEN($C55)>0, IF('Prep Workbook'!$I$3="CD", VLOOKUP($C55, Indices!$G46:$I$103, 2, FALSE), 'Prep Workbook'!$J41), "") | E55: =IF(AND('Prep Workbook'!$I$3="CD", LEN(D55)>0), VLOOKUP($D55, Indices!$E$8:$F$795, 2, FALSE), IF(LEN(D55)>0, MID(VLOOKUP(D55, OFFSET(Indices!$G$8:$I$103, 0, MATCH("UD-" & $C55, Indices!$G$6:$S$6,0)-1), 2,FALSE), 1, 7), "")) | F55: =IF(AND('Prep Workbook'!$I$3="CD", LEN($C55)>0), VLOOKUP($C55, Indices!$G$8:$I$103, 3, FALSE), IF(AND(LEN($C55)>0, LEN($E55)>0), VLOOKUP($E55&"-7", Indices!$E:$F, 2,FALSE), "")) | G55: =IF(AND('Prep Workbook'!$I$3="CD", LEN(F55)>0), VLOOKUP(F55, Indices!$E$8:$F$795, 2, FALSE), E55)
A56: =IF(LEN(TRIM('Prep Workbook'!$B42))>0, TRIM('Prep Workbook'!$B42), "") | C56: =IF(LEN(TRIM('Prep Workbook'!$B42))=0, "", IF('Prep Workbook'!$I$3="CD", 'Prep Workbook'!J42, RIGHT('Prep Workbook'!I42, 1))) | D56: =IF(LEN($C56)>0, IF('Prep Workbook'!$I$3="CD", VLOOKUP($C56, Indices!$G47:$I$103, 2, FALSE), 'Prep Workbook'!$J42), "") | E56: =IF(AND('Prep Workbook'!$I$3="CD", LEN(D56)>0), VLOOKUP($D56, Indices!$E$8:$F$795, 2, FALSE), IF(LEN(D56)>0, MID(VLOOKUP(D56, OFFSET(Indices!$G$8:$I$103, 0, MATCH("UD-" & $C56, Indices!$G$6:$S$6,0)-1), 2,FALSE), 1, 7), "")) | F56: =IF(AND('Prep Workbook'!$I$3="CD", LEN($C56)>0), VLOOKUP($C56, Indices!$G$8:$I$103, 3, FALSE), IF(AND(LEN($C56)>0, LEN($E56)>0), VLOOKUP($E56&"-7", Indices!$E:$F, 2,FALSE), "")) | G56: =IF(AND('Prep Workbook'!$I$3="CD", LEN(F56)>0), VLOOKUP(F56, Indices!$E$8:$F$795, 2, FALSE), E56)
A57: =IF(LEN(TRIM('Prep Workbook'!$B43))>0, TRIM('Prep Workbook'!$B43), "") | C57: =IF(LEN(TRIM('Prep Workbook'!$B43))=0, "", IF('Prep Workbook'!$I$3="CD", 'Prep Workbook'!J43, RIGHT('Prep Workbook'!I43, 1))) | D57: =IF(LEN($C57)>0, IF('Prep Workbook'!$I$3="CD", VLOOKUP($C57, Indices!$G48:$I$103, 2, FALSE), 'Prep Workbook'!$J43), "") | E57: =IF(AND('Prep Workbook'!$I$3="CD", LEN(D57)>0), VLOOKUP($D57, Indices!$E$8:$F$795, 2, FALSE), IF(LEN(D57)>0, MID(VLOOKUP(D57, OFFSET(Indices!$G$8:$I$103, 0, MATCH("UD-" & $C57, Indices!$G$6:$S$6,0)-1), 2,FALSE), 1, 7), "")) | F57: =IF(AND('Prep Workbook'!$I$3="CD", LEN($C57)>0), VLOOKUP($C57, Indices!$G$8:$I$103, 3, FALSE), IF(AND(LEN($C57)>0, LEN($E57)>0), VLOOKUP($E57&"-7", Indices!$E:$F, 2,FALSE), "")) | G57: =IF(AND('Prep Workbook'!$I$3="CD", LEN(F57)>0), VLOOKUP(F57, Indices!$E$8:$F$795, 2, FALSE), E57)
... A67: =IF(LEN(TRIM('Prep Workbook'!$B53))>0, TRIM('Prep Workbook'!$B53), "") | C67: =IF(LEN(TRIM('Prep Workbook'!$B53))=0, "", IF('Prep Workbook'!$I$3="CD", 'Prep Workbook'!J53, RIGHT('Prep Workbook'!I53, 1))) | D67: =IF(LEN($C67)>0, IF('Prep Workbook'!$I$3="CD", VLOOKUP($C67, Indices!$G58:$I$103, 2, FALSE), 'Prep Workbook'!$J53), "") | E67: =IF(AND('Prep Workbook'!$I$3="CD", LEN(D67)>0), VLOOKUP($D67, Indices!$E$8:$F$795, 2, FALSE), IF(LEN(D67)>0, MID(VLOOKUP(D67, OFFSET(Indices!$G$8:$I$103, 0, MATCH("UD-" & $C67, Indices!$G$6:$S$6,0)-1), 2,FALSE), 1, 7), "")) | F67: =IF(AND('Prep Workbook'!$I$3="CD", LEN($C67)>0), VLOOKUP($C67, Indices!$G$8:$I$103, 3, FALSE), IF(AND(LEN($C67)>0, LEN($E67)>0), VLOOKUP($E67&"-7", Indices!$E:$F, 2,FALSE), "")) | G67: =IF(AND('Prep Workbook'!$I$3="CD", LEN(F67)>0), VLOOKUP(F67, Indices!$E$8:$F$795, 2, FALSE), E67)
C68: =IF(LEN(TRIM('Prep Workbook'!$B54))=0, "", IF('Prep Workbook'!$I$3="CD", 'Prep Workbook'!J54, RIGHT('Prep Workbook'!I54, 1))) | D68: =IF(LEN($C68)>0, IF('Prep Workbook'!$I$3="CD", VLOOKUP($C68, Indices!$G59:$I$103, 2, FALSE), 'Prep Workbook'!$J54), "") | E68: =IF(AND('Prep Workbook'!$I$3="CD", LEN(D68)>0), VLOOKUP($D68, Indices!$E$8:$F$795, 2, FALSE), IF(LEN(D68)>0, MID(VLOOKUP(D68, OFFSET(Indices!$G$8:$I$103, 0, MATCH("UD-" & $C68, Indices!$G$6:$S$6,0)-1), 2,FALSE), 1, 7), "")) | F68: =IF(AND('Prep Workbook'!$I$3="CD", LEN($C68)>0), VLOOKUP($C68, Indices!$G$8:$I$103, 3, FALSE), IF(AND(LEN($C68)>0, LEN($E68)>0), VLOOKUP($E68&"-7", Indices!$E:$F, 2,FALSE), "")) | G68: =IF(AND('Prep Workbook'!$I$3="CD", LEN(F68)>0), VLOOKUP(F68, Indices!$E$8:$F$795, 2, FALSE), E68)
C69: =IF(LEN(TRIM('Prep Workbook'!$B55))=0, "", IF('Prep Workbook'!$I$3="CD", 'Prep Workbook'!J55, RIGHT('Prep Workbook'!I55, 1))) | D69: =IF(LEN($C69)>0, IF('Prep Workbook'!$I$3="CD", VLOOKUP($C69, Indices!$G60:$I$103, 2, FALSE), 'Prep Workbook'!$J55), "") | E69: =IF(AND('Prep Workbook'!$I$3="CD", LEN(D69)>0), VLOOKUP($D69, Indices!$E$8:$F$795, 2, FALSE), IF(LEN(D69)>0, MID(VLOOKUP(D69, OFFSET(Indices!$G$8:$I$103, 0, MATCH("UD-" & $C69, Indices!$G$6:$S$6,0)-1), 2,FALSE), 1, 7), "")) | F69: =IF(AND('Prep Workbook'!$I$3="CD", LEN($C69)>0), VLOOKUP($C69, Indices!$G$8:$I$103, 3, FALSE), IF(AND(LEN($C69)>0, LEN($E69)>0), VLOOKUP($E69&"-7", Indices!$E:$F, 2,FALSE), "")) | G69: =IF(AND('Prep Workbook'!$I$3="CD", LEN(F69)>0), VLOOKUP(F69, Indices!$E$8:$F$795, 2, FALSE), E69)
C70: =IF(LEN(TRIM('Prep Workbook'!$B56))=0, "", IF('Prep Workbook'!$I$3="CD", 'Prep Workbook'!J56, RIGHT('Prep Workbook'!I56, 1))) | D70: =IF(LEN($C70)>0, IF('Prep Workbook'!$I$3="CD", VLOOKUP($C70, Indices!$G61:$I$103, 2, FALSE), 'Prep Workbook'!$J56), "") | E70: =IF(AND('Prep Workbook'!$I$3="CD", LEN(D70)>0), VLOOKUP($D70, Indices!$E$8:$F$795, 2, FALSE), IF(LEN(D70)>0, MID(VLOOKUP(D70, OFFSET(Indices!$G$8:$I$103, 0, MATCH("UD-" & $C70, Indices!$G$6:$S$6,0)-1), 2,FALSE), 1, 7), "")) | F70: =IF(AND('Prep Workbook'!$I$3="CD", LEN($C70)>0), VLOOKUP($C70, Indices!$G$8:$I$103, 3, FALSE), IF(AND(LEN($C70)>0, LEN($E70)>0), VLOOKUP($E70&"-7", Indices!$E:$F, 2,FALSE), "")) | G70: =IF(AND('Prep Workbook'!$I$3="CD", LEN(F70)>0), VLOOKUP(F70, Indices!$E$8:$F$795, 2, FALSE), E70)
C71: =IF(LEN(TRIM('Prep Workbook'!$B57))=0, "", IF('Prep Workbook'!$I$3="CD", 'Prep Workbook'!J57, RIGHT('Prep Workbook'!I57, 1))) | D71: =IF(LEN($C71)>0, IF('Prep Workbook'!$I$3="CD", VLOOKUP($C71, Indices!$G62:$I$103, 2, FALSE), 'Prep Workbook'!$J57), "") | E71: =IF(AND('Prep Workbook'!$I$3="CD", LEN(D71)>0), VLOOKUP($D71, Indices!$E$8:$F$795, 2, FALSE), IF(LEN(D71)>0, MID(VLOOKUP(D71, OFFSET(Indices!$G$8:$I$103, 0, MATCH("UD-" & $C71, Indices!$G$6:$S$6,0)-1), 2,FALSE), 1, 7), "")) | F71: =IF(AND('Prep Workbook'!$I$3="CD", LEN($C71)>0), VLOOKUP($C71, Indices!$G$8:$I$103, 3, FALSE), IF(AND(LEN($C71)>0, LEN($E71)>0), VLOOKUP($E71&"-7", Indices!$E:$F, 2,FALSE), "")) | G71: =IF(AND('Prep Workbook'!$I$3="CD", LEN(F71)>0), VLOOKUP(F71, Indices!$E$8:$F$795, 2, FALSE), E71)
C72: =IF(LEN(TRIM('Prep Workbook'!$B58))=0, "", IF('Prep Workbook'!$I$3="CD", 'Prep Workbook'!J58, RIGHT('Prep Workbook'!I58, 1))) | D72: =IF(LEN($C72)>0, IF('Prep Workbook'!$I$3="CD", VLOOKUP($C72, Indices!$G63:$I$103, 2, FALSE), 'Prep Workbook'!$J58), "") | E72: =IF(AND('Prep Workbook'!$I$3="CD", LEN(D72)>0), VLOOKUP($D72, Indices!$E$8:$F$795, 2, FALSE), IF(LEN(D72)>0, MID(VLOOKUP(D72, OFFSET(Indices!$G$8:$I$103, 0, MATCH("UD-" & $C72, Indices!$G$6:$S$6,0)-1), 2,FALSE), 1, 7), "")) | F72: =IF(AND('Prep Workbook'!$I$3="CD", LEN($C72)>0), VLOOKUP($C72, Indices!$G$8:$I$103, 3, FALSE), IF(AND(LEN($C72)>0, LEN($E72)>0), VLOOKUP($E72&"-7", Indices!$E:$F, 2,FALSE), "")) | G72: =IF(AND('Prep Workbook'!$I$3="CD", LEN(F72)>0), VLOOKUP(F72, Indices!$E$8:$F$795, 2, FALSE), E72)
C73: =IF(LEN(TRIM('Prep Workbook'!$B59))=0, "", IF('Prep Workbook'!$I$3="CD", 'Prep Workbook'!J59, RIGHT('Prep Workbook'!I59, 1))) | D73: =IF(LEN($C73)>0, IF('Prep Workbook'!$I$3="CD", VLOOKUP($C73, Indices!$G64:$I$103, 2, FALSE), 'Prep Workbook'!$J59), "") | E73: =IF(AND('Prep Workbook'!$I$3="CD", LEN(D73)>0), VLOOKUP($D73, Indices!$E$8:$F$795, 2, FALSE), IF(LEN(D73)>0, MID(VLOOKUP(D73, OFFSET(Indices!$G$8:$I$103, 0, MATCH("UD-" & $C73, Indices!$G$6:$S$6,0)-1), 2,FALSE), 1, 7), "")) | F73: =IF(AND('Prep Workbook'!$I$3="CD", LEN($C73)>0), VLOOKUP($C73, Indices!$G$8:$I$103, 3, FALSE), IF(AND(LEN($C73)>0, LEN($E73)>0), VLOOKUP($E73&"-7", Indices!$E:$F, 2,FALSE), "")) | G73: =IF(AND('Prep Workbook'!$I$3="CD", LEN(F73)>0), VLOOKUP(F73, Indices!$E$8:$F$795, 2, FALSE), E73)
C74: =IF(LEN(TRIM('Prep Workbook'!$B60))=0, "", IF('Prep Workbook'!$I$3="CD", 'Prep Workbook'!J60, RIGHT('Prep Workbook'!I60, 1))) | D74: =IF(LEN($C74)>0, IF('Prep Workbook'!$I$3="CD", VLOOKUP($C74, Indices!$G65:$I$103, 2, FALSE), 'Prep Workbook'!$J60), "") | E74: =IF(AND('Prep Workbook'!$I$3="CD", LEN(D74)>0), VLOOKUP($D74, Indices!$E$8:$F$795, 2, FALSE), IF(LEN(D74)>0, MID(VLOOKUP(D74, OFFSET(Indices!$G$8:$I$103, 0, MATCH("UD-" & $C74, Indices!$G$6:$S$6,0)-1), 2,FALSE), 1, 7), "")) | F74: =IF(AND('Prep Workbook'!$I$3="CD", LEN($C74)>0), VLOOKUP($C74, Indices!$G$8:$I$103, 3, FALSE), IF(AND(LEN($C74)>0, LEN($E74)>0), VLOOKUP($E74&"-7", Indices!$E:$F, 2,FALSE), "")) | G74: =IF(AND('Prep Workbook'!$I$3="CD", LEN(F74)>0), VLOOKUP(F74, Indices!$E$8:$F$795, 2, FALSE), E74)
C75: =IF(LEN(TRIM('Prep Workbook'!$B61))=0, "", IF('Prep Workbook'!$I$3="CD", 'Prep Workbook'!J61, RIGHT('Prep Workbook'!I61, 1))) | D75: =IF(LEN($C75)>0, IF('Prep Workbook'!$I$3="CD", VLOOKUP($C75, Indices!$G66:$I$103, 2, FALSE), 'Prep Workbook'!$J61), "") | E75: =IF(AND('Prep Workbook'!$I$3="CD", LEN(D75)>0), VLOOKUP($D75, Indices!$E$8:$F$795, 2, FALSE), IF(LEN(D75)>0, MID(VLOOKUP(D75, OFFSET(Indices!$G$8:$I$103, 0, MATCH("UD-" & $C75, Indices!$G$6:$S$6,0)-1), 2,FALSE), 1, 7), "")) | F75: =IF(AND('Prep Workbook'!$I$3="CD", LEN($C75)>0), VLOOKUP($C75, Indices!$G$8:$I$103, 3, FALSE), IF(AND(LEN($C75)>0, LEN($E75)>0), VLOOKUP($E75&"-7", Indices!$E:$F, 2,FALSE), "")) | G75: =IF(AND('Prep Workbook'!$I$3="CD", LEN(F75)>0), VLOOKUP(F75, Indices!$E$8:$F$795, 2, FALSE), E75)
C76: =IF(LEN(TRIM('Prep Workbook'!$B62))=0, "", IF('Prep Workbook'!$I$3="CD", 'Prep Workbook'!J62, RIGHT('Prep Workbook'!I62, 1))) | D76: =IF(LEN($C76)>0, IF('Prep Workbook'!$I$3="CD", VLOOKUP($C76, Indices!$G67:$I$103, 2, FALSE), 'Prep Workbook'!$J62), "") | E76: =IF(AND('Prep Workbook'!$I$3="CD", LEN(D76)>0), VLOOKUP($D76, Indices!$E$8:$F$795, 2, FALSE), IF(LEN(D76)>0, MID(VLOOKUP(D76, OFFSET(Indices!$G$8:$I$103, 0, MATCH("UD-" & $C76, Indices!$G$6:$S$6,0)-1), 2,FALSE), 1, 7), "")) | F76: =IF(AND('Prep Workbook'!$I$3="CD", LEN($C76)>0), VLOOKUP($C76, Indices!$G$8:$I$103, 3, FALSE), IF(AND(LEN($C76)>0, LEN($E76)>0), VLOOKUP($E76&"-7", Indices!$E:$F, 2,FALSE), "")) | G76: =IF(AND('Prep Workbook'!$I$3="CD", LEN(F76)>0), VLOOKUP(F76, Indices!$E$8:$F$795, 2, FALSE), E76)
C77: =IF(LEN(TRIM('Prep Workbook'!$B63))=0, "", IF('Prep Workbook'!$I$3="CD", 'Prep Workbook'!J63, RIGHT('Prep Workbook'!I63, 1))) | D77: =IF(LEN($C77)>0, IF('Prep Workbook'!$I$3="CD", VLOOKUP($C77, Indices!$G68:$I$103, 2, FALSE), 'Prep Workbook'!$J63), "") | E77: =IF(AND('Prep Workbook'!$I$3="CD", LEN(D77)>0), VLOOKUP($D77, Indices!$E$8:$F$795, 2, FALSE), IF(LEN(D77)>0, MID(VLOOKUP(D77, OFFSET(Indices!$G$8:$I$103, 0, MATCH("UD-" & $C77, Indices!$G$6:$S$6,0)-1), 2,FALSE), 1, 7), "")) | F77: =IF(AND('Prep Workbook'!$I$3="CD", LEN($C77)>0), VLOOKUP($C77, Indices!$G$8:$I$103, 3, FALSE), IF(AND(LEN($C77)>0, LEN($E77)>0), VLOOKUP($E77&"-7", Indices!$E:$F, 2,FALSE), "")) | G77: =IF(AND('Prep Workbook'!$I$3="CD", LEN(F77)>0), VLOOKUP(F77, Indices!$E$8:$F$795, 2, FALSE), E77)
C78: =IF(LEN(TRIM('Prep Workbook'!$B64))=0, "", IF('Prep Workbook'!$I$3="CD", 'Prep Workbook'!J64, RIGHT('Prep Workbook'!I64, 1))) | D78: =IF(LEN($C78)>0, IF('Prep Workbook'!$I$3="CD", VLOOKUP($C78, Indices!$G69:$I$103, 2, FALSE), 'Prep Workbook'!$J64), "") | E78: =IF(AND('Prep Workbook'!$I$3="CD", LEN(D78)>0), VLOOKUP($D78, Indices!$E$8:$F$795, 2, FALSE), IF(LEN(D78)>0, MID(VLOOKUP(D78, OFFSET(Indices!$G$8:$I$103, 0, MATCH("UD-" & $C78, Indices!$G$6:$S$6,0)-1), 2,FALSE), 1, 7), "")) | F78: =IF(AND('Prep Workbook'!$I$3="CD", LEN($C78)>0), VLOOKUP($C78, Indices!$G$8:$I$103, 3, FALSE), IF(AND(LEN($C78)>0, LEN($E78)>0), VLOOKUP($E78&"-7", Indices!$E:$F, 2,FALSE), "")) | G78: =IF(AND('Prep Workbook'!$I$3="CD", LEN(F78)>0), VLOOKUP(F78, Indices!$E$8:$F$795, 2, FALSE), E78)
C79: =IF(LEN(TRIM('Prep Workbook'!$B65))=0, "", IF('Prep Workbook'!$I$3="CD", 'Prep Workbook'!J65, RIGHT('Prep Workbook'!I65, 1))) | D79: =IF(LEN($C79)>0, IF('Prep Workbook'!$I$3="CD", VLOOKUP($C79, Indices!$G70:$I$103, 2, FALSE), 'Prep Workbook'!$J65), "") | E79: =IF(AND('Prep Workbook'!$I$3="CD", LEN(D79)>0), VLOOKUP($D79, Indices!$E$8:$F$795, 2, FALSE), IF(LEN(D79)>0, MID(VLOOKUP(D79, OFFSET(Indices!$G$8:$I$103, 0, MATCH("UD-" & $C79, Indices!$G$6:$S$6,0)-1), 2,FALSE), 1, 7), "")) | F79: =IF(AND('Prep Workbook'!$I$3="CD", LEN($C79)>0), VLOOKUP($C79, Indices!$G$8:$I$103, 3, FALSE), IF(AND(LEN($C79)>0, LEN($E79)>0), VLOOKUP($E79&"-7", Indices!$E:$F, 2,FALSE), "")) | G79: =IF(AND('Prep Workbook'!$I$3="CD", LEN(F79)>0), VLOOKUP(F79, Indices!$E$8:$F$795, 2, FALSE), E79)
... C112: =IF(LEN(TRIM('Prep Workbook'!$B98))=0, "", IF('Prep Workbook'!$I$3="CD", 'Prep Workbook'!J98, RIGHT('Prep Workbook'!I98, 1))) | D112: =IF(LEN($C112)>0, IF('Prep Workbook'!$I$3="CD", VLOOKUP($C112, Indices!$G103:$I$103, 2, FALSE), 'Prep Workbook'!$J98), "") | E112: =IF(AND('Prep Workbook'!$I$3="CD", LEN(D112)>0), VLOOKUP($D112, Indices!$E$8:$F$795, 2, FALSE), IF(LEN(D112)>0, MID(VLOOKUP(D112, OFFSET(Indices!$G$8:$I$103, 0, MATCH("UD-" & $C112, Indices!$G$6:$S$6,0)-1), 2,FALSE), 1, 7), "")) | F112: =IF(AND('Prep Workbook'!$I$3="CD", LEN($C112)>0), VLOOKUP($C112, Indices!$G$8:$I$103, 3, FALSE), IF(AND(LEN($C112)>0, LEN($E112)>0), VLOOKUP($E112&"-7", Indices!$E:$F, 2,FALSE), "")) | G112: =IF(AND('Prep Workbook'!$I$3="CD", LEN(F112)>0), VLOOKUP(F112, Indices!$E$8:$F$795, 2, FALSE), E112)
C113: =IF(LEN(TRIM('Prep Workbook'!$B99))=0, "", IF('Prep Workbook'!$I$3="CD", 'Prep Workbook'!J99, RIGHT('Prep Workbook'!I99, 1))) | D113: =IF(LEN($C113)>0, IF('Prep Workbook'!$I$3="CD", VLOOKUP($C113, Indices!$G$103:$I104, 2, FALSE), 'Prep Workbook'!$J99), "") | E113: =IF(AND('Prep Workbook'!$I$3="CD", LEN(D113)>0), VLOOKUP($D113, Indices!$E$8:$F$795, 2, FALSE), IF(LEN(D113)>0, MID(VLOOKUP(D113, OFFSET(Indices!$G$8:$I$103, 0, MATCH("UD-" & $C113, Indices!$G$6:$S$6,0)-1), 2,FALSE), 1, 7), "")) | F113: =IF(AND('Prep Workbook'!$I$3="CD", LEN($C113)>0), VLOOKUP($C113, Indices!$G$8:$I$103, 3, FALSE), IF(AND(LEN($C113)>0, LEN($E113)>0), VLOOKUP($E113&"-7", Indices!$E:$F, 2,FALSE), "")) | G113: =IF(AND('Prep Workbook'!$I$3="CD", LEN(F113)>0), VLOOKUP(F113, Indices!$E$8:$F$795, 2, FALSE), E113)
C114: =IF(LEN(TRIM('Prep Workbook'!$B100))=0, "", IF('Prep Workbook'!$I$3="CD", 'Prep Workbook'!J100, RIGHT('Prep Workbook'!I100, 1))) | D114: =IF(LEN($C114)>0, IF('Prep Workbook'!$I$3="CD", VLOOKUP($C114, Indices!$G$103:$I105, 2, FALSE), 'Prep Workbook'!$J100), "") | E114: =IF(AND('Prep Workbook'!$I$3="CD", LEN(D114)>0), VLOOKUP($D114, Indices!$E$8:$F$795, 2, FALSE), IF(LEN(D114)>0, MID(VLOOKUP(D114, OFFSET(Indices!$G$8:$I$103, 0, MATCH("UD-" & $C114, Indices!$G$6:$S$6,0)-1), 2,FALSE), 1, 7), "")) | F114: =IF(AND('Prep Workbook'!$I$3="CD", LEN($C114)>0), VLOOKUP($C114, Indices!$G$8:$I$103, 3, FALSE), IF(AND(LEN($C114)>0, LEN($E114)>0), VLOOKUP($E114&"-7", Indices!$E:$F, 2,FALSE), "")) | G114: =IF(AND('Prep Workbook'!$I$3="CD", LEN(F114)>0), VLOOKUP(F114, Indices!$E$8:$F$795, 2, FALSE), E114)
C115: =IF(LEN(TRIM('Prep Workbook'!$B101))=0, "", IF('Prep Workbook'!$I$3="CD", 'Prep Workbook'!J101, RIGHT('Prep Workbook'!I101, 1))) | D115: =IF(LEN($C115)>0, IF('Prep Workbook'!$I$3="CD", VLOOKUP($C115, Indices!$G$103:$I106, 2, FALSE), 'Prep Workbook'!$J101), "") | E115: =IF(AND('Prep Workbook'!$I$3="CD", LEN(D115)>0), VLOOKUP($D115, Indices!$E$8:$F$795, 2, FALSE), IF(LEN(D115)>0, MID(VLOOKUP(D115, OFFSET(Indices!$G$8:$I$103, 0, MATCH("UD-" & $C115, Indices!$G$6:$S$6,0)-1), 2,FALSE), 1, 7), "")) | F115: =IF(AND('Prep Workbook'!$I$3="CD", LEN($C115)>0), VLOOKUP($C115, Indices!$G$8:$I$103, 3, FALSE), IF(AND(LEN($C115)>0, LEN($E115)>0), VLOOKUP($E115&"-7", Indices!$E:$F, 2,FALSE), "")) | G115: =IF(AND('Prep Workbook'!$I$3="CD", LEN(F115)>0), VLOOKUP(F115, Indices!$E$8:$F$795, 2, FALSE), E115)
C116: =IF(LEN(TRIM('Prep Workbook'!$B102))=0, "", IF('Prep Workbook'!$I$3="CD", 'Prep Workbook'!J102, RIGHT('Prep Workbook'!I102, 1))) | D116: =IF(LEN($C116)>0, IF('Prep Workbook'!$I$3="CD", VLOOKUP($C116, Indices!$G$103:$I107, 2, FALSE), 'Prep Workbook'!$J102), "") | E116: =IF(AND('Prep Workbook'!$I$3="CD", LEN(D116)>0), VLOOKUP($D116, Indices!$E$8:$F$795, 2, FALSE), IF(LEN(D116)>0, MID(VLOOKUP(D116, OFFSET(Indices!$G$8:$I$103, 0, MATCH("UD-" & $C116, Indices!$G$6:$S$6,0)-1), 2,FALSE), 1, 7), "")) | F116: =IF(AND('Prep Workbook'!$I$3="CD", LEN($C116)>0), VLOOKUP($C116, Indices!$G$8:$I$103, 3, FALSE), IF(AND(LEN($C116)>0, LEN($E116)>0), VLOOKUP($E116&"-7", Indices!$E:$F, 2,FALSE), "")) | G116: =IF(AND('Prep Workbook'!$I$3="CD", LEN(F116)>0), VLOOKUP(F116, Indices!$E$8:$F$795, 2, FALSE), E116)
C117: =IF(LEN(TRIM('Prep Workbook'!$B103))=0, "", IF('Prep Workbook'!$I$3="CD", 'Prep Workbook'!J103, RIGHT('Prep Workbook'!I103, 1))) | D117: =IF(LEN($C117)>0, IF('Prep Workbook'!$I$3="CD", VLOOKUP($C117, Indices!$G$103:$I108, 2, FALSE), 'Prep Workbook'!$J103), "") | E117: =IF(AND('Prep Workbook'!$I$3="CD", LEN(D117)>0), VLOOKUP($D117, Indices!$E$8:$F$795, 2, FALSE), IF(LEN(D117)>0, MID(VLOOKUP(D117, OFFSET(Indices!$G$8:$I$103, 0, MATCH("UD-" & $C117, Indices!$G$6:$S$6,0)-1), 2,FALSE), 1, 7), "")) | F117: =IF(AND('Prep Workbook'!$I$3="CD", LEN($C117)>0), VLOOKUP($C117, Indices!$G$8:$I$103, 3, FALSE), IF(AND(LEN($C117)>0, LEN($E117)>0), VLOOKUP($E117&"-7", Indices!$E:$F, 2,FALSE), "")) | G117: =IF(AND('Prep Workbook'!$I$3="CD", LEN(F117)>0), VLOOKUP(F117, Indices!$E$8:$F$795, 2, FALSE), E117)
C118: =IF(LEN(TRIM('Prep Workbook'!$B104))=0, "", IF('Prep Workbook'!$I$3="CD", 'Prep Workbook'!J104, RIGHT('Prep Workbook'!I104, 1))) | D118: =IF(LEN($C118)>0, IF('Prep Workbook'!$I$3="CD", VLOOKUP($C118, Indices!$G$103:$I109, 2, FALSE), 'Prep Workbook'!$J104), "") | E118: =IF(AND('Prep Workbook'!$I$3="CD", LEN(D118)>0), VLOOKUP($D118, Indices!$E$8:$F$795, 2, FALSE), IF(LEN(D118)>0, MID(VLOOKUP(D118, OFFSET(Indices!$G$8:$I$103, 0, MATCH("UD-" & $C118, Indices!$G$6:$S$6,0)-1), 2,FALSE), 1, 7), "")) | F118: =IF(AND('Prep Workbook'!$I$3="CD", LEN($C118)>0), VLOOKUP($C118, Indices!$G$8:$I$103, 3, FALSE), IF(AND(LEN($C118)>0, LEN($E118)>0), VLOOKUP($E118&"-7", Indices!$E:$F, 2,FALSE), "")) | G118: =IF(AND('Prep Workbook'!$I$3="CD", LEN(F118)>0), VLOOKUP(F118, Indices!$E$8:$F$795, 2, FALSE), E118)
C119: =IF(LEN(TRIM('Prep Workbook'!$B105))=0, "", IF('Prep Workbook'!$I$3="CD", 'Prep Workbook'!J105, RIGHT('Prep Workbook'!I105, 1))) | D119: =IF(LEN($C119)>0, IF('Prep Workbook'!$I$3="CD", VLOOKUP($C119, Indices!$G$103:$I110, 2, FALSE), 'Prep Workbook'!$J105), "") | E119: =IF(AND('Prep Workbook'!$I$3="CD", LEN(D119)>0), VLOOKUP($D119, Indices!$E$8:$F$795, 2, FALSE), IF(LEN(D119)>0, MID(VLOOKUP(D119, OFFSET(Indices!$G$8:$I$103, 0, MATCH("UD-" & $C119, Indices!$G$6:$S$6,0)-1), 2,FALSE), 1, 7), "")) | F119: =IF(AND('Prep Workbook'!$I$3="CD", LEN($C119)>0), VLOOKUP($C119, Indices!$G$8:$I$103, 3, FALSE), IF(AND(LEN($C119)>0, LEN($E119)>0), VLOOKUP($E119&"-7", Indices!$E:$F, 2,FALSE), "")) | G119: =IF(AND('Prep Workbook'!$I$3="CD", LEN(F119)>0), VLOOKUP(F119, Indices!$E$8:$F$795, 2, FALSE), E119)
C120: =IF(LEN(TRIM('Prep Workbook'!$B106))=0, "", IF('Prep Workbook'!$I$3="CD", 'Prep Workbook'!J106, RIGHT('Prep Workbook'!I106, 1))) | D120: =IF(LEN($C120)>0, IF('Prep Workbook'!$I$3="CD", VLOOKUP($C120, Indices!$G$103:$I111, 2, FALSE), 'Prep Workbook'!$J106), "") | E120: =IF(AND('Prep Workbook'!$I$3="CD", LEN(D120)>0), VLOOKUP($D120, Indices!$E$8:$F$795, 2, FALSE), IF(LEN(D120)>0, MID(VLOOKUP(D120, OFFSET(Indices!$G$8:$I$103, 0, MATCH("UD-" & $C120, Indices!$G$6:$S$6,0)-1), 2,FALSE), 1, 7), "")) | F120: =IF(AND('Prep Workbook'!$I$3="CD", LEN($C120)>0), VLOOKUP($C120, Indices!$G$8:$I$103, 3, FALSE), IF(AND(LEN($C120)>0, LEN($E120)>0), VLOOKUP($E120&"-7", Indices!$E:$F, 2,FALSE), "")) | G120: =IF(AND('Prep Workbook'!$I$3="CD", LEN(F120)>0), VLOOKUP(F120, Indices!$E$8:$F$795, 2, FALSE), E120)
C121: =IF(LEN(TRIM('Prep Workbook'!$B107))=0, "", IF('Prep Workbook'!$I$3="CD", 'Prep Workbook'!J107, RIGHT('Prep Workbook'!I107, 1))) | D121: =IF(LEN($C121)>0, IF('Prep Workbook'!$I$3="CD", VLOOKUP($C121, Indices!$G$103:$I112, 2, FALSE), 'Prep Workbook'!$J107), "") | E121: =IF(AND('Prep Workbook'!$I$3="CD", LEN(D121)>0), VLOOKUP($D121, Indices!$E$8:$F$795, 2, FALSE), IF(LEN(D121)>0, MID(VLOOKUP(D121, OFFSET(Indices!$G$8:$I$103, 0, MATCH("UD-" & $C121, Indices!$G$6:$S$6,0)-1), 2,FALSE), 1, 7), "")) | F121: =IF(AND('Prep Workbook'!$I$3="CD", LEN($C121)>0), VLOOKUP($C121, Indices!$G$8:$I$103, 3, FALSE), IF(AND(LEN($C121)>0, LEN($E121)>0), VLOOKUP($E121&"-7", Indices!$E:$F, 2,FALSE), "")) | G121: =IF(AND('Prep Workbook'!$I$3="CD", LEN(F121)>0), VLOOKUP(F121, Indices!$E$8:$F$795, 2, FALSE), E121)
C122: =IF(LEN(TRIM('Prep Workbook'!$B108))=0, "", IF('Prep Workbook'!$I$3="CD", 'Prep Workbook'!J108, RIGHT('Prep Workbook'!I108, 1))) | D122: =IF(LEN($C122)>0, IF('Prep Workbook'!$I$3="CD", VLOOKUP($C122, Indices!$G$103:$I113, 2, FALSE), 'Prep Workbook'!$J108), "") | E122: =IF(AND('Prep Workbook'!$I$3="CD", LEN(D122)>0), VLOOKUP($D122, Indices!$E$8:$F$795, 2, FALSE), IF(LEN(D122)>0, MID(VLOOKUP(D122, OFFSET(Indices!$G$8:$I$103, 0, MATCH("UD-" & $C122, Indices!$G$6:$S$6,0)-1), 2,FALSE), 1, 7), "")) | F122: =IF(AND('Prep Workbook'!$I$3="CD", LEN($C122)>0), VLOOKUP($C122, Indices!$G$8:$I$103, 3, FALSE), IF(AND(LEN($C122)>0, LEN($E122)>0), VLOOKUP($E122&"-7", Indices!$E:$F, 2,FALSE), "")) | G122: =IF(AND('Prep Workbook'!$I$3="CD", LEN(F122)>0), VLOOKUP(F122, Indices!$E$8:$F$795, 2, FALSE), E122)
C123: =IF(LEN(TRIM('Prep Workbook'!$B109))=0, "", IF('Prep Workbook'!$I$3="CD", 'Prep Workbook'!J109, RIGHT('Prep Workbook'!I109, 1))) | D123: =IF(LEN($C123)>0, IF('Prep Workbook'!$I$3="CD", VLOOKUP($C123, Indices!$G$103:$I114, 2, FALSE), 'Prep Workbook'!$J109), "") | E123: =IF(AND('Prep Workbook'!$I$3="CD", LEN(D123)>0), VLOOKUP($D123, Indices!$E$8:$F$795, 2, FALSE), IF(LEN(D123)>0, MID(VLOOKUP(D123, OFFSET(Indices!$G$8:$I$103, 0, MATCH("UD-" & $C123, Indices!$G$6:$S$6,0)-1), 2,FALSE), 1, 7), "")) | F123: =IF(AND('Prep Workbook'!$I$3="CD", LEN($C123)>0), VLOOKUP($C123, Indices!$G$8:$I$103, 3, FALSE), IF(AND(LEN($C123)>0, LEN($E123)>0), VLOOKUP($E123&"-7", Indices!$E:$F, 2,FALSE), "")) | G123: =IF(AND('Prep Workbook'!$I$3="CD", LEN(F123)>0), VLOOKUP(F123, Indices!$E$8:$F$795, 2, FALSE), E123)
C124: =IF(LEN(TRIM('Prep Workbook'!$B110))=0, "", IF('Prep Workbook'!$I$3="CD", 'Prep Workbook'!J110, RIGHT('Prep Workbook'!I110, 1))) | E124: =IF(AND('Prep Workbook'!$I$3="CD", LEN(D124)>0), VLOOKUP($D124, Indices!$E$8:$F$795, 2, FALSE), IF(LEN(D124)>0, MID(VLOOKUP(D124, OFFSET(Indices!$G$8:$I$103, 0, MATCH("UD-" & $C124, Indices!$G$6:$S$6,0)-1), 2,FALSE), 1, 7), "")) | F124: =IF(AND('Prep Workbook'!$I$3="CD", LEN($C124)>0), VLOOKUP($C124, Indices!$G$8:$I$103, 3, FALSE), IF(AND(LEN($C124)>0, LEN($E124)>0), VLOOKUP($E124&"-7", Indices!$E:$F, 2,FALSE), "")) | G124: =IF(AND('Prep Workbook'!$I$3="CD", LEN(F124)>0), VLOOKUP(F124, Indices!$E$8:$F$795, 2, FALSE), E124)
C125: =IF(LEN(TRIM('Prep Workbook'!$B111))=0, "", IF('Prep Workbook'!$I$3="CD", 'Prep Workbook'!J111, RIGHT('Prep Workbook'!I111, 1))) | E125: =IF(AND('Prep Workbook'!$I$3="CD", LEN(D125)>0), VLOOKUP($D125, Indices!$E$8:$F$795, 2, FALSE), IF(LEN(D125)>0, MID(VLOOKUP(D125, OFFSET(Indices!$G$8:$I$103, 0, MATCH("UD-" & $C125, Indices!$G$6:$S$6,0)-1), 2,FALSE), 1, 7), "")) | F125: =IF(AND('Prep Workbook'!$I$3="CD", LEN($C125)>0), VLOOKUP($C125, Indices!$G$8:$I$103, 3, FALSE), IF(AND(LEN($C125)>0, LEN($E125)>0), VLOOKUP($E125&"-7", Indices!$E:$F, 2,FALSE), "")) | G125: =IF(AND('Prep Workbook'!$I$3="CD", LEN(F125)>0), VLOOKUP(F125, Indices!$E$8:$F$795, 2, FALSE), E125)
C126: =IF(LEN(TRIM('Prep Workbook'!$B112))=0, "", IF('Prep Workbook'!$I$3="CD", 'Prep Workbook'!J112, RIGHT('Prep Workbook'!I112, 1))) | E126: =IF(AND('Prep Workbook'!$I$3="CD", LEN(D126)>0), VLOOKUP($D126, Indices!$E$8:$F$795, 2, FALSE), IF(LEN(D126)>0, MID(VLOOKUP(D126, OFFSET(Indices!$G$8:$I$103, 0, MATCH("UD-" & $C126, Indices!$G$6:$S$6,0)-1), 2,FALSE), 1, 7), "")) | F126: =IF(AND('Prep Workbook'!$I$3="CD", LEN($C126)>0), VLOOKUP($C126, Indices!$G$8:$I$103, 3, FALSE), IF(AND(LEN($C126)>0, LEN($E126)>0), VLOOKUP($E126&"-7", Indices!$E:$F, 2,FALSE), "")) | G126: =IF(AND('Prep Workbook'!$I$3="CD", LEN(F126)>0), VLOOKUP(F126, Indices!$E$8:$F$795, 2, FALSE), E126)
C127: =IF(LEN(TRIM('Prep Workbook'!$B113))=0, "", IF('Prep Workbook'!$I$3="CD", 'Prep Workbook'!J113, RIGHT('Prep Workbook'!I113, 1))) | E127: =IF(AND('Prep Workbook'!$I$3="CD", LEN(D127)>0), VLOOKUP($D127, Indices!$E$8:$F$795, 2, FALSE), IF(LEN(D127)>0, MID(VLOOKUP(D127, OFFSET(Indices!$G$8:$I$103, 0, MATCH("UD-" & $C127, Indices!$G$6:$S$6,0)-1), 2,FALSE), 1, 7), "")) | F127: =IF(AND('Prep Workbook'!$I$3="CD", LEN($C127)>0), VLOOKUP($C127, Indices!$G$8:$I$103, 3, FALSE), IF(AND(LEN($C127)>0, LEN($E127)>0), VLOOKUP($E127&"-7", Indices!$E:$F, 2,FALSE), "")) | G127: =IF(AND('Prep Workbook'!$I$3="CD", LEN(F127)>0), VLOOKUP(F127, Indices!$E$8:$F$795, 2, FALSE), E127)
C128: =IF(LEN(TRIM('Prep Workbook'!$B114))=0, "", IF('Prep Workbook'!$I$3="CD", 'Prep Workbook'!J114, RIGHT('Prep Workbook'!I114, 1))) | E128: =IF(AND('Prep Workbook'!$I$3="CD", LEN(D128)>0), VLOOKUP($D128, Indices!$E$8:$F$795, 2, FALSE), IF(LEN(D128)>0, MID(VLOOKUP(D128, OFFSET(Indices!$G$8:$I$103, 0, MATCH("UD-" & $C128, Indices!$G$6:$S$6,0)-1), 2,FALSE), 1, 7), "")) | F128: =IF(AND('Prep Workbook'!$I$3="CD", LEN($C128)>0), VLOOKUP($C128, Indices!$G$8:$I$103, 3, FALSE), IF(AND(LEN($C128)>0, LEN($E128)>0), VLOOKUP($E128&"-7", Indices!$E:$F, 2,FALSE), "")) | G128: =IF(AND('Prep Workbook'!$I$3="CD", LEN(F128)>0), VLOOKUP(F128, Indices!$E$8:$F$795, 2, FALSE), E128)
C129: =IF(LEN(TRIM('Prep Workbook'!$B115))=0, "", IF('Prep Workbook'!$I$3="CD", 'Prep Workbook'!J115, RIGHT('Prep Workbook'!I115, 1))) | E129: =IF(AND('Prep Workbook'!$I$3="CD", LEN(D129)>0), VLOOKUP($D129, Indices!$E$8:$F$795, 2, FALSE), IF(LEN(D129)>0, MID(VLOOKUP(D129, OFFSET(Indices!$G$8:$I$103, 0, MATCH("UD-" & $C129, Indices!$G$6:$S$6,0)-1), 2,FALSE), 1, 7), "")) | F129: =IF(AND('Prep Workbook'!$I$3="CD", LEN($C129)>0), VLOOKUP($C129, Indices!$G$8:$I$103, 3, FALSE), IF(AND(LEN($C129)>0, LEN($E129)>0), VLOOKUP($E129&"-7", Indices!$E:$F, 2,FALSE), "")) | G129: =IF(AND('Prep Workbook'!$I$3="CD", LEN(F129)>0), VLOOKUP(F129, Indices!$E$8:$F$795, 2, FALSE), E129)
C130: =IF(LEN(TRIM('Prep Workbook'!$B116))=0, "", IF('Prep Workbook'!$I$3="CD", 'Prep Workbook'!J116, RIGHT('Prep Workbook'!I116, 1))) | E130: =IF(AND('Prep Workbook'!$I$3="CD", LEN(D130)>0), VLOOKUP($D130, Indices!$E$8:$F$795, 2, FALSE), IF(LEN(D130)>0, MID(VLOOKUP(D130, OFFSET(Indices!$G$8:$I$103, 0, MATCH("UD-" & $C130, Indices!$G$6:$S$6,0)-1), 2,FALSE), 1, 7), "")) | F130: =IF(AND('Prep Workbook'!$I$3="CD", LEN($C130)>0), VLOOKUP($C130, Indices!$G$8:$I$103, 3, FALSE), IF(AND(LEN($C130)>0, LEN($E130)>0), VLOOKUP($E130&"-7", Indices!$E:$F, 2,FALSE), "")) | G130: =IF(AND('Prep Workbook'!$I$3="CD", LEN(F130)>0), VLOOKUP(F130, Indices!$E$8:$F$795, 2, FALSE), E130)
E131: =IF(AND('Prep Workbook'!$I$3="CD", LEN(D131)>0), VLOOKUP($D131, Indices!$E$8:$F$795, 2, FALSE), IF(LEN(D131)>0, MID(VLOOKUP(D131, OFFSET(Indices!$G$8:$I$103, 0, MATCH("UD-" & $C131, Indices!$G$6:$S$6,0)-1), 2,FALSE), 1, 7), "")) | F131: =IF(AND('Prep Workbook'!$I$3="CD", LEN($C131)>0), VLOOKUP($C131, Indices!$G$8:$I$103, 3, FALSE), IF(AND(LEN($C131)>0, LEN($E131)>0), VLOOKUP($E131&"-7", Indices!$E:$F, 2,FALSE), "")) | G131: =IF(AND('Prep Workbook'!$I$3="CD", LEN(F131)>0), VLOOKUP(F131, Indices!$E$8:$F$795, 2, FALSE), E131)
E132: =IF(AND('Prep Workbook'!$I$3="CD", LEN(D132)>0), VLOOKUP($D132, Indices!$E$8:$F$795, 2, FALSE), IF(LEN(D132)>0, MID(VLOOKUP(D132, OFFSET(Indices!$G$8:$I$103, 0, MATCH("UD-" & $C132, Indices!$G$6:$S$6,0)-1), 2,FALSE), 1, 7), "")) | G132: =IF(AND('Prep Workbook'!$I$3="CD", LEN(F132)>0), VLOOKUP(F132, Indices!$E$8:$F$795, 2, FALSE), E132)

Sheet Indices
A1: DO NOT ALTER THIS TAB, or the SampleSheet tab
G6: CD | J6: UD-A | M6: UD-B | P6: UD-C | S6: UD-D
A7: IndexKits | B7: IEM_Assay | C7: IEM_IndexAdapters | D7: LRM_LibraryPrepKit | E7: IndexName | F7: BasesForSampleSheet | G7: Index Plate Well List | H7: Index i7 Name | I7: Index i5 Name | J7: Index Plate Well List | K7: Index i7 Name | L7: Index i5 Name | M7: Index Plate Well List | N7: Index i7 Name | O7: Index i5 Name | P7: Index Plate Well List | Q7: Index i7 Name | R7: Index i5 Name | S7: Index Plate Well List | T7: Index i7 Name | U7: Index i5 Name
A8: CD | B8: Nextera DNA Flex | C8: Nextera DNA CD Indexes (96 Indexes plated) | D8: Nextera DNA CD Indexes - 96 Indexes Plated | E8: H503 | F8: TATCCTCT | G8: A01 | H8: H701 | I8: H505 | J8: A01 | K8: UDP0001-7 | L8: UDP0001-5 | M8: A01 | N8: UDP0097-7 | O8: UDP0097-5 | P8: A01 | Q8: UDP0193-7 | R8: UDP0193-5 | S8: A01 | T8: UDP0289-7 | U8: UDP0289-5
A9: UD-A | B9: Nextera DNA Flex | C9: IDT-ILMN Nextera DNA UD Indexes (384 Indexes) | D9: Nextera DNA UD Indexes Set A - 96 Indexes Plated | E9: H505 | F9: GTAAGGAG | G9: B01 | H9: H702 | I9: H517 | J9: B01 | K9: UDP0002-7 | L9: UDP0002-5 | M9: B01 | N9: UDP0098-7 | O9: UDP0098-5 | P9: B01 | Q9: UDP0194-7 | R9: UDP0194-5 | S9: B01 | T9: UDP0290-7 | U9: UDP0290-5
A10: UD-B | B10: Nextera DNA Flex | C10: IDT-ILMN Nextera DNA UD Indexes (384 Indexes) | D10: Nextera DNA UD Indexes Set B - 96 Indexes Plated | E10: H506 | F10: ACTGCATA | G10: C01 | H10: H703 | I10: H506 | J10: C01 | K10: UDP0003-7 | L10: UDP0003-5 | M10: C01 | N10: UDP0099-7 | O10: UDP0099-5 | P10: C01 | Q10: UDP0195-7 | R10: UDP0195-5 | S10: C01 | T10: UDP0291-7 | U10: UDP0291-5
A11: UD-C | B11: Nextera DNA Flex | C11: IDT-ILMN Nextera DNA UD Indexes (384 Indexes) | D11: Nextera DNA UD Indexes Set C - 96 Indexes Plated | E11: H510 | F11: CGTCTAAT | G11: D01 | H11: H705 | I11: H503 | J11: D01 | K11: UDP0004-7 | L11: UDP0004-5 | M11: D01 | N11: UDP0100-7 | O11: UDP0100-5 | P11: D01 | Q11: UDP0196-7 | R11: UDP0196-5 | S11: D01 | T11: UDP0292-7 | U11: UDP0292-5
A12: UD-D | B12: Nextera DNA Flex | C12: IDT-ILMN Nextera DNA UD Indexes (384 Indexes) | D12: Nextera DNA UD Indexes Set D - 96 Indexes Plated | E12: H513 | F12: TCGACTAG | G12: E01 | H12: H706 | I12: H516 | J12: E01 | K12: UDP0005-7 | L12: UDP0005-5 | M12: E01 | N12: UDP0101-7 | O12: UDP0101-5 | P12: E01 | Q12: UDP0197-7 | R12: UDP0197-5 | S12: E01 | T12: UDP0293-7 | U12: UDP0293-5
A13: UD-A | B13: Nextera DNA Flex | C13: IDT-ILMN Nextera DNA UD Indexes 384 - Nextera DNA Flex | D13: IDT-ILMN Nextera DNA UD Indexes Set A B C D - 384 Indexes | E13: H516 | F13: CCTAGAGT | G13: F01 | H13: H710 | I13: H522 | J13: F01 | K13: UDP0006-7 | L13: UDP0006-5 | M13: F01 | N13: UDP0102-7 | O13: UDP0102-5 | P13: F01 | Q13: UDP0198-7 | R13: UDP0198-5 | S13: F01 | T13: UDP0294-7 | U13: UDP0294-5
A14: UD-B | B14: Nextera DNA Flex | C14: IDT-ILMN Nextera DNA UD Indexes 384 - Nextera DNA Flex | D14: IDT-ILMN Nextera DNA UD Indexes Set A B C D - 384 Indexes | E14: H517 | F14: GCGTAAGA | G14: G01 | H14: H711 | I14: H513 | J14: G01 | K14: UDP0007-7 | L14: UDP0007-5 | M14: G01 | N14: UDP0103-7 | O14: UDP0103-5 | P14: G01 | Q14: UDP0199-7 | R14: UDP0199-5 | S14: G01 | T14: UDP0295-7 | U14: UDP0295-5
A15: UD-C | B15: Nextera DNA Flex | C15: IDT-ILMN Nextera DNA UD Indexes 384 - Nextera DNA Flex | D15: IDT-ILMN Nextera DNA UD Indexes Set A B C D - 384 Indexes | E15: H522 | F15: TTATGCGA | G15: H01 | H15: H714 | I15: H510 | J15: H01 | K15: UDP0008-7 | L15: UDP0008-5 | M15: H01 | N15: UDP0104-7 | O15: UDP0104-5 | P15: H01 | Q15: UDP0200-7 | R15: UDP0200-5 | S15: H01 | T15: UDP0296-7 | U15: UDP0296-5
A16: UD-D | B16: Nextera DNA Flex | C16: IDT-ILMN Nextera DNA UD Indexes 384 - Nextera DNA Flex | D16: IDT-ILMN Nextera DNA UD Indexes Set A B C D - 384 Indexes | E16: H701 | F16: TAAGGCGA | G16: A02 | H16: H702 | I16: H506 | J16: A02 | K16: UDP0009-7 | L16: UDP0009-5 | M16: A02 | N16: UDP0105-7 | O16: UDP0105-5 | P16: A02 | Q16: UDP0201-7 | R16: UDP0201-5 | S16: A02 | T16: UDP0297-7 | U16: UDP0297-5
A17: CD | B17: Nextera DNA Flex | C17: Nextera DNA CD Indexes - 96 Indexes Plated | D17: Nextera DNA CD Indexes - 96 Indexes Plated | E17: H702 | F17: CGTACTAG | G17: B02 | H17: H703 | I17: H505 | J17: B02 | K17: UDP0010-7 | L17: UDP0010-5 | M17: B02 | N17: UDP0106-7 | O17: UDP0106-5 | P17: B02 | Q17: UDP0202-7 | R17: UDP0202-5 | S17: B02 | T17: UDP0298-7 | U17: UDP0298-5
E18: H703 | F18: AGGCAGAA | G18: C02 | H18: H701 | I18: H517 | J18: C02 | K18: UDP0011-7 | L18: UDP0011-5 | M18: C02 | N18: UDP0107-7 | O18: UDP0107-5 | P18: C02 | Q18: UDP0203-7 | R18: UDP0203-5 | S18: C02 | T18: UDP0299-7 | U18: UDP0299-5
E19: H705 | F19: GGACTCCT | G19: D02 | H19: H707 | I19: H503 | J19: D02 | K19: UDP0012-7 | L19: UDP0012-5 | M19: D02 | N19: UDP0108-7 | O19: UDP0108-5 | P19: D02 | Q19: UDP0204-7 | R19: UDP0204-5 | S19: D02 | T19: UDP0300-7 | U19: UDP0300-5
E20: H706 | F20: TAGGCATG | G20: E02 | H20: H712 | I20: H516 | J20: E02 | K20: UDP0013-7 | L20: UDP0013-5 | M20: E02 | N20: UDP0109-7 | O20: UDP0109-5 | P20: E02 | Q20: UDP0205-7 | R20: UDP0205-5 | S20: E02 | T20: UDP0301-7 | U20: UDP0301-5
E21: H707 | F21: CTCTCTAC | G21: F02 | H21: H711 | I21: H510 | J21: F02 | K21: UDP0014-7 | L21: UDP0014-5 | M21: F02 | N21: UDP0110-7 | O21: UDP0110-5 | P21: F02 | Q21: UDP0206-7 | R21: UDP0206-5 | S21: F02 | T21: UDP0302-7 | U21: UDP0302-5
E22: H710 | F22: CGAGGCTG | G22: G02 | H22: H714 | I22: H522 | J22: G02 | K22: UDP0015-7 | L22: UDP0015-5 | M22: G02 | N22: UDP0111-7 | O22: UDP0111-5 | P22: G02 | Q22: UDP0207-7 | R22: UDP0207-5 | S22: G02 | T22: UDP0303-7 | U22: UDP0303-5
E23: H711 | F23: AAGAGGCA | G23: H02 | H23: H710 | I23: H513 | J23: H02 | K23: UDP0016-7 | L23: UDP0016-5 | M23: H02 | N23: UDP0112-7 | O23: UDP0112-5 | P23: H02 | Q23: UDP0208-7 | R23: UDP0208-5 | S23: H02 | T23: UDP0304-7 | U23: UDP0304-5
E24: H712 | F24: GTAGAGGA | G24: A03 | H24: H703 | I24: H517 | J24: A03 | K24: UDP0017-7 | L24: UDP0017-5 | M24: A03 | N24: UDP0113-7 | O24: UDP0113-5 | P24: A03 | Q24: UDP0209-7 | R24: UDP0209-5 | S24: A03 | T24: UDP0305-7 | U24: UDP0305-5
E25: H714 | F25: GCTCATGA | G25: B03 | H25: H701 | I25: H506 | J25: B03 | K25: UDP0018-7 | L25: UDP0018-5 | M25: B03 | N25: UDP0114-7 | O25: UDP0114-5 | P25: B03 | Q25: UDP0210-7 | R25: UDP0210-5 | S25: B03 | T25: UDP0306-7 | U25: UDP0306-5
E26: H720 | F26: CGGAGCCT | G26: C03 | H26: H702 | I26: H505 | J26: C03 | K26: UDP0019-7 | L26: UDP0019-5 | M26: C03 | N26: UDP0115-7 | O26: UDP0115-5 | P26: C03 | Q26: UDP0211-7 | R26: UDP0211-5 | S26: C03 | T26: UDP0307-7 | U26: UDP0307-5
E27: H723 | F27: TAGCGCTC | G27: D03 | H27: H723 | I27: H503 | J27: D03 | K27: UDP0020-7 | L27: UDP0020-5 | M27: D03 | N27: UDP0116-7 | O27: UDP0116-5 | P27: D03 | Q27: UDP0212-7 | R27: UDP0212-5 | S27: D03 | T27: UDP0308-7 | U27: UDP0308-5
E28: UDP0001-7 | F28: GAACTGAGCG | G28: E03 | H28: H720 | I28: H516 | J28: E03 | K28: UDP0021-7 | L28: UDP0021-5 | M28: E03 | N28: UDP0117-7 | O28: UDP0117-5 | P28: E03 | Q28: UDP0213-7 | R28: UDP0213-5 | S28: E03 | T28: UDP0309-7 | U28: UDP0309-5
E29: UDP0002-7 | F29: AGGTCAGATA | G29: F03 | H29: H714 | I29: H513 | J29: F03 | K29: UDP0022-7 | L29: UDP0022-5 | M29: F03 | N29: UDP0118-7 | O29: UDP0118-5 | P29: F03 | Q29: UDP0214-7 | R29: UDP0214-5 | S29: F03 | T29: UDP0310-7 | U29: UDP0310-5
... E103: UDP0076-7 | F103: CTGACTCTAC | G103: H12 | H103: H712 | I103: H522 | J103: H12 | K103: UDP0096-7 | L103: UDP0096-5 | M103: H12 | N103: UDP0192-7 | O103: UDP0192-5 | P103: H12 | Q103: UDP0288-7 | R103: UDP0288-5 | S103: H12 | T103: UDP0384-7 | U103: UDP0384-5
E104: UDP0077-7 | F104: TCTGGTATCC
E105: UDP0078-7 | F105: CATTAGTGCG
E106: UDP0079-7 | F106: ACGGTCAGGA
E107: UDP0080-7 | F107: GGCAAGCCAG
E108: UDP0081-7 | F108: TGTCGCTGGT
E109: UDP0082-7 | F109: ACCGTTACAA
E110: UDP0083-7 | F110: TATGCCTTAC
E111: UDP0084-7 | F111: ACAAGTGGAC
E112: UDP0085-7 | F112: TGGTACCTAA
E113: UDP0086-7 | F113: TTGGAATTCC
E114: UDP0087-7 | F114: CCTCTACATG
E115: UDP0088-7 | F115: GGAGCGTGTA
... E795: UDP0384-5 | F795: GGTGGAATAC
