Workbook

Sheet User Input
A1: TERRA ENTITY | B1: Submission ID Prefix
A2: {Terra Entity} | B2: {Sample Submission Prefix}
A4: LABORATORY METADATA
A5: Submitter | B5: Authors | C5: BioProject | D5: State | E5: Country | F5: Continent | G5: Originiating Lab | H5: Originating Lab Address | I5: Submitting Laboratory | J5: Submitting Laboratory Address
A6: {GISAID Submitter's Username} | B6: {Comma-Separated List of Authors} | C6: {BioProject #} | D6: {State Name Spelled Out Entirely} | E6: {Country} | F6: {Continent} | G6: {Originating Laboratory} | H6: {Originating Laboratory Address} | I6: {Submitting Laboratory} | J6: {Submitting Laboratory Address}
A8: SAMPLE METADATA | D8: OPTIONAL SAMPLE METADATA
A9: Samples | B9: Submission ID | C9: Collection Date | D9: Run ID | E9: Gender | F9: Patient Age | G9: County
A10: {Sample Identifier} | B10: {Submisssion Identifer (without prefix)} | C10: {YYYY-MM-DD} | D10: {Sequencing Run ID} | E10: {Gender} | F10: {Patient Age} | G10: {County}

Sheet Terra Data Table
A1: ="entity:"&'User Input'!A2 -> entity:{Terra Entity} | B1: submission_id | C1: collection_date | D1: gisaid_submitter | E1: Authors | F1: bioproject_accession | G1: iso_state | H1: iso_country | I1: iso_continent | J1: collecting_lab | K1: collecting_lab_address | L1: submitting_lab | M1: subLab_address | N1: run_id | O1: gender | P1: patient_age | Q1: iso_county
A2: =IF('User Input'!A10<>"",'User Input'!A10,"") -> {Sample Identifier} | B2: =IF('User Input'!A10<>"",'User Input'!B$2 & 'User Input'!B10,"") -> {Sample Submission Prefix}{Submisssion Identifer (without prefix)} | C2: =IF('User Input'!A10<>"", IF('User Input'!C10<>"",'User Input'!C10,"required_for_submission"), "") -> {YYYY-MM-DD} | D2: =IF('User Input'!A10<>"",'User Input'!A$6,"") -> {GISAID Submitter's Username} | E2: =IF('User Input'!A10<>"",'User Input'!B$6,"") -> {Comma-Separated List of Authors} | F2: =IF('User Input'!A10<>"", IF('User Input'!C$6<>"",'User Input'!C$6,"required_for_NCBI_submission"), "") -> {BioProject #} | G2: =IF('User Input'!A10<>"",'User Input'!D$6,"") -> {State Name Spelled Out Entirely} | H2: =IF('User Input'!A10<>"",'User Input'!E$6,"") -> {Country} | I2: =IF('User Input'!A10<>"",'User Input'!F$6,"") -> {Continent} | J2: =IF('User Input'!A10<>"",'User Input'!G$6,"") -> {Originating Laboratory} | K2: =IF('User Input'!A10<>"",'User Input'!H$6,"") -> {Originating Laboratory Address} | L2: =IF('User Input'!A10<>"",'User Input'!I$6,"") -> {Submitting Laboratory} | M2: =IF('User Input'!A10<>"",'User Input'!J$6,"") -> {Submitting Laboratory Address} | N2: =IF('User Input'!A10<>"", IF('User Input'!D10<>"",'User Input'!D10,""), "") -> {Sequencing Run ID} | O2: =IF('User Input'!A10<>"", IF('User Input'!E10<>"",'User Input'!E10,""), "") -> {Gender} | P2: =IF('User Input'!A10<>"", IF('User Input'!F10<>"",'User Input'!F10,""), "") -> {Patient Age} | Q2: =IF('User Input'!A10<>"", IF('User Input'!G10<>"",'User Input'!G10,""), "") -> {County}
A3: =IF('User Input'!A11<>"",'User Input'!A11,"") | B3: =IF('User Input'!A11<>"",'User Input'!B$2 & 'User Input'!B11,"") | C3: =IF('User Input'!A11<>"", IF('User Input'!C11<>"",'User Input'!C11,"required_for_submission"), "") | D3: =IF('User Input'!A11<>"",'User Input'!A$6,"") | E3: =IF('User Input'!A11<>"",'User Input'!B$6,"") | F3: =IF('User Input'!A11<>"", IF('User Input'!C$6<>"",'User Input'!C$6,"required_for_NCBI_submission"), "") | G3: =IF('User Input'!A11<>"",'User Input'!D$6,"") | H3: =IF('User Input'!A11<>"",'User Input'!E$6,"") | I3: =IF('User Input'!A11<>"",'User Input'!F$6,"") | J3: =IF('User Input'!A11<>"",'User Input'!G$6,"") | K3: =IF('User Input'!A11<>"",'User Input'!H$6,"") | L3: =IF('User Input'!A11<>"",'User Input'!I$6,"") | M3: =IF('User Input'!A11<>"",'User Input'!J$6,"") | N3: =IF('User Input'!A11<>"", IF('User Input'!D11<>"",'User Input'!D11,""), "") | O3: =IF('User Input'!A11<>"", IF('User Input'!E11<>"",'User Input'!E11,""), "") | P3: =IF('User Input'!A11<>"", IF('User Input'!F11<>"",'User Input'!F11,""), "") | Q3: =IF('User Input'!A11<>"", IF('User Input'!G11<>"",'User Input'!G11,""), "")
A4: =IF('User Input'!A12<>"",'User Input'!A12,"") | B4: =IF('User Input'!A12<>"",'User Input'!B$2 & 'User Input'!B12,"") | C4: =IF('User Input'!A12<>"", IF('User Input'!C12<>"",'User Input'!C12,"required_for_submission"), "") | D4: =IF('User Input'!A12<>"",'User Input'!A$6,"") | E4: =IF('User Input'!A12<>"",'User Input'!B$6,"") | F4: =IF('User Input'!A12<>"", IF('User Input'!C$6<>"",'User Input'!C$6,"required_for_NCBI_submission"), "") | G4: =IF('User Input'!A12<>"",'User Input'!D$6,"") | H4: =IF('User Input'!A12<>"",'User Input'!E$6,"") | I4: =IF('User Input'!A12<>"",'User Input'!F$6,"") | J4: =IF('User Input'!A12<>"",'User Input'!G$6,"") | K4: =IF('User Input'!A12<>"",'User Input'!H$6,"") | L4: =IF('User Input'!A12<>"",'User Input'!I$6,"") | M4: =IF('User Input'!A12<>"",'User Input'!J$6,"") | N4: =IF('User Input'!A12<>"", IF('User Input'!D12<>"",'User Input'!D12,""), "") | O4: =IF('User Input'!A12<>"", IF('User Input'!E12<>"",'User Input'!E12,""), "") | P4: =IF('User Input'!A12<>"", IF('User Input'!F12<>"",'User Input'!F12,""), "") | Q4: =IF('User Input'!A12<>"", IF('User Input'!G12<>"",'User Input'!G12,""), "")
A5: =IF('User Input'!A13<>"",'User Input'!A13,"") | B5: =IF('User Input'!A13<>"",'User Input'!B$2 & 'User Input'!B13,"") | C5: =IF('User Input'!A13<>"", IF('User Input'!C13<>"",'User Input'!C13,"required_for_submission"), "") | D5: =IF('User Input'!A13<>"",'User Input'!A$6,"") | E5: =IF('User Input'!A13<>"",'User Input'!B$6,"") | F5: =IF('User Input'!A13<>"", IF('User Input'!C$6<>"",'User Input'!C$6,"required_for_NCBI_submission"), "") | G5: =IF('User Input'!A13<>"",'User Input'!D$6,"") | H5: =IF('User Input'!A13<>"",'User Input'!E$6,"") | I5: =IF('User Input'!A13<>"",'User Input'!F$6,"") | J5: =IF('User Input'!A13<>"",'User Input'!G$6,"") | K5: =IF('User Input'!A13<>"",'User Input'!H$6,"") | L5: =IF('User Input'!A13<>"",'User Input'!I$6,"") | M5: =IF('User Input'!A13<>"",'User Input'!J$6,"") | N5: =IF('User Input'!A13<>"", IF('User Input'!D13<>"",'User Input'!D13,""), "") | O5: =IF('User Input'!A13<>"", IF('User Input'!E13<>"",'User Input'!E13,""), "") | P5: =IF('User Input'!A13<>"", IF('User Input'!F13<>"",'User Input'!F13,""), "") | Q5: =IF('User Input'!A13<>"", IF('User Input'!G13<>"",'User Input'!G13,""), "")
A6: =IF('User Input'!A14<>"",'User Input'!A14,"") | B6: =IF('User Input'!A14<>"",'User Input'!B$2 & 'User Input'!B14,"") | C6: =IF('User Input'!A14<>"", IF('User Input'!C14<>"",'User Input'!C14,"required_for_submission"), "") | D6: =IF('User Input'!A14<>"",'User Input'!A$6,"") | E6: =IF('User Input'!A14<>"",'User Input'!B$6,"") | F6: =IF('User Input'!A14<>"", IF('User Input'!C$6<>"",'User Input'!C$6,"required_for_NCBI_submission"), "") | G6: =IF('User Input'!A14<>"",'User Input'!D$6,"") | H6: =IF('User Input'!A14<>"",'User Input'!E$6,"") | I6: =IF('User Input'!A14<>"",'User Input'!F$6,"") | J6: =IF('User Input'!A14<>"",'User Input'!G$6,"") | K6: =IF('User Input'!A14<>"",'User Input'!H$6,"") | L6: =IF('User Input'!A14<>"",'User Input'!I$6,"") | M6: =IF('User Input'!A14<>"",'User Input'!J$6,"") | N6: =IF('User Input'!A14<>"", IF('User Input'!D14<>"",'User Input'!D14,""), "") | O6: =IF('User Input'!A14<>"", IF('User Input'!E14<>"",'User Input'!E14,""), "") | P6: =IF('User Input'!A14<>"", IF('User Input'!F14<>"",'User Input'!F14,""), "") | Q6: =IF('User Input'!A14<>"", IF('User Input'!G14<>"",'User Input'!G14,""), "")
A7: =IF('User Input'!A15<>"",'User Input'!A15,"") | B7: =IF('User Input'!A15<>"",'User Input'!B$2 & 'User Input'!B15,"") | C7: =IF('User Input'!A15<>"", IF('User Input'!C15<>"",'User Input'!C15,"required_for_submission"), "") | D7: =IF('User Input'!A15<>"",'User Input'!A$6,"") | E7: =IF('User Input'!A15<>"",'User Input'!B$6,"") | F7: =IF('User Input'!A15<>"", IF('User Input'!C$6<>"",'User Input'!C$6,"required_for_NCBI_submission"), "") | G7: =IF('User Input'!A15<>"",'User Input'!D$6,"") | H7: =IF('User Input'!A15<>"",'User Input'!E$6,"") | I7: =IF('User Input'!A15<>"",'User Input'!F$6,"") | J7: =IF('User Input'!A15<>"",'User Input'!G$6,"") | K7: =IF('User Input'!A15<>"",'User Input'!H$6,"") | L7: =IF('User Input'!A15<>"",'User Input'!I$6,"") | M7: =IF('User Input'!A15<>"",'User Input'!J$6,"") | N7: =IF('User Input'!A15<>"", IF('User Input'!D15<>"",'User Input'!D15,""), "") | O7: =IF('User Input'!A15<>"", IF('User Input'!E15<>"",'User Input'!E15,""), "") | P7: =IF('User Input'!A15<>"", IF('User Input'!F15<>"",'User Input'!F15,""), "") | Q7: =IF('User Input'!A15<>"", IF('User Input'!G15<>"",'User Input'!G15,""), "")
A8: =IF('User Input'!A16<>"",'User Input'!A16,"") | B8: =IF('User Input'!A16<>"",'User Input'!B$2 & 'User Input'!B16,"") | C8: =IF('User Input'!A16<>"", IF('User Input'!C16<>"",'User Input'!C16,"required_for_submission"), "") | D8: =IF('User Input'!A16<>"",'User Input'!A$6,"") | E8: =IF('User Input'!A16<>"",'User Input'!B$6,"") | F8: =IF('User Input'!A16<>"", IF('User Input'!C$6<>"",'User Input'!C$6,"required_for_NCBI_submission"), "") | G8: =IF('User Input'!A16<>"",'User Input'!D$6,"") | H8: =IF('User Input'!A16<>"",'User Input'!E$6,"") | I8: =IF('User Input'!A16<>"",'User Input'!F$6,"") | J8: =IF('User Input'!A16<>"",'User Input'!G$6,"") | K8: =IF('User Input'!A16<>"",'User Input'!H$6,"") | L8: =IF('User Input'!A16<>"",'User Input'!I$6,"") | M8: =IF('User Input'!A16<>"",'User Input'!J$6,"") | N8: =IF('User Input'!A16<>"", IF('User Input'!D16<>"",'User Input'!D16,""), "") | O8: =IF('User Input'!A16<>"", IF('User Input'!E16<>"",'User Input'!E16,""), "") | P8: =IF('User Input'!A16<>"", IF('User Input'!F16<>"",'User Input'!F16,""), "") | Q8: =IF('User Input'!A16<>"", IF('User Input'!G16<>"",'User Input'!G16,""), "")
A9: =IF('User Input'!A17<>"",'User Input'!A17,"") | B9: =IF('User Input'!A17<>"",'User Input'!B$2 & 'User Input'!B17,"") | C9: =IF('User Input'!A17<>"", IF('User Input'!C17<>"",'User Input'!C17,"required_for_submission"), "") | D9: =IF('User Input'!A17<>"",'User Input'!A$6,"") | E9: =IF('User Input'!A17<>"",'User Input'!B$6,"") | F9: =IF('User Input'!A17<>"", IF('User Input'!C$6<>"",'User Input'!C$6,"required_for_NCBI_submission"), "") | G9: =IF('User Input'!A17<>"",'User Input'!D$6,"") | H9: =IF('User Input'!A17<>"",'User Input'!E$6,"") | I9: =IF('User Input'!A17<>"",'User Input'!F$6,"") | J9: =IF('User Input'!A17<>"",'User Input'!G$6,"") | K9: =IF('User Input'!A17<>"",'User Input'!H$6,"") | L9: =IF('User Input'!A17<>"",'User Input'!I$6,"") | M9: =IF('User Input'!A17<>"",'User Input'!J$6,"") | N9: =IF('User Input'!A17<>"", IF('User Input'!D17<>"",'User Input'!D17,""), "") | O9: =IF('User Input'!A17<>"", IF('User Input'!E17<>"",'User Input'!E17,""), "") | P9: =IF('User Input'!A17<>"", IF('User Input'!F17<>"",'User Input'!F17,""), "") | Q9: =IF('User Input'!A17<>"", IF('User Input'!G17<>"",'User Input'!G17,""), "")
A10: =IF('User Input'!A18<>"",'User Input'!A18,"") | B10: =IF('User Input'!A18<>"",'User Input'!B$2 & 'User Input'!B18,"") | C10: =IF('User Input'!A18<>"", IF('User Input'!C18<>"",'User Input'!C18,"required_for_submission"), "") | D10: =IF('User Input'!A18<>"",'User Input'!A$6,"") | E10: =IF('User Input'!A18<>"",'User Input'!B$6,"") | F10: =IF('User Input'!A18<>"", IF('User Input'!C$6<>"",'User Input'!C$6,"required_for_NCBI_submission"), "") | G10: =IF('User Input'!A18<>"",'User Input'!D$6,"") | H10: =IF('User Input'!A18<>"",'User Input'!E$6,"") | I10: =IF('User Input'!A18<>"",'User Input'!F$6,"") | J10: =IF('User Input'!A18<>"",'User Input'!G$6,"") | K10: =IF('User Input'!A18<>"",'User Input'!H$6,"") | L10: =IF('User Input'!A18<>"",'User Input'!I$6,"") | M10: =IF('User Input'!A18<>"",'User Input'!J$6,"") | N10: =IF('User Input'!A18<>"", IF('User Input'!D18<>"",'User Input'!D18,""), "") | O10: =IF('User Input'!A18<>"", IF('User Input'!E18<>"",'User Input'!E18,""), "") | P10: =IF('User Input'!A18<>"", IF('User Input'!F18<>"",'User Input'!F18,""), "") | Q10: =IF('User Input'!A18<>"", IF('User Input'!G18<>"",'User Input'!G18,""), "")
A11: =IF('User Input'!A19<>"",'User Input'!A19,"") | B11: =IF('User Input'!A19<>"",'User Input'!B$2 & 'User Input'!B19,"") | C11: =IF('User Input'!A19<>"", IF('User Input'!C19<>"",'User Input'!C19,"required_for_submission"), "") | D11: =IF('User Input'!A19<>"",'User Input'!A$6,"") | E11: =IF('User Input'!A19<>"",'User Input'!B$6,"") | F11: =IF('User Input'!A19<>"", IF('User Input'!C$6<>"",'User Input'!C$6,"required_for_NCBI_submission"), "") | G11: =IF('User Input'!A19<>"",'User Input'!D$6,"") | H11: =IF('User Input'!A19<>"",'User Input'!E$6,"") | I11: =IF('User Input'!A19<>"",'User Input'!F$6,"") | J11: =IF('User Input'!A19<>"",'User Input'!G$6,"") | K11: =IF('User Input'!A19<>"",'User Input'!H$6,"") | L11: =IF('User Input'!A19<>"",'User Input'!I$6,"") | M11: =IF('User Input'!A19<>"",'User Input'!J$6,"") | N11: =IF('User Input'!A19<>"", IF('User Input'!D19<>"",'User Input'!D19,""), "") | O11: =IF('User Input'!A19<>"", IF('User Input'!E19<>"",'User Input'!E19,""), "") | P11: =IF('User Input'!A19<>"", IF('User Input'!F19<>"",'User Input'!F19,""), "") | Q11: =IF('User Input'!A19<>"", IF('User Input'!G19<>"",'User Input'!G19,""), "")
A12: =IF('User Input'!A20<>"",'User Input'!A20,"") | B12: =IF('User Input'!A20<>"",'User Input'!B$2 & 'User Input'!B20,"") | C12: =IF('User Input'!A20<>"", IF('User Input'!C20<>"",'User Input'!C20,"required_for_submission"), "") | D12: =IF('User Input'!A20<>"",'User Input'!A$6,"") | E12: =IF('User Input'!A20<>"",'User Input'!B$6,"") | F12: =IF('User Input'!A20<>"", IF('User Input'!C$6<>"",'User Input'!C$6,"required_for_NCBI_submission"), "") | G12: =IF('User Input'!A20<>"",'User Input'!D$6,"") | H12: =IF('User Input'!A20<>"",'User Input'!E$6,"") | I12: =IF('User Input'!A20<>"",'User Input'!F$6,"") | J12: =IF('User Input'!A20<>"",'User Input'!G$6,"") | K12: =IF('User Input'!A20<>"",'User Input'!H$6,"") | L12: =IF('User Input'!A20<>"",'User Input'!I$6,"") | M12: =IF('User Input'!A20<>"",'User Input'!J$6,"") | N12: =IF('User Input'!A20<>"", IF('User Input'!D20<>"",'User Input'!D20,""), "") | O12: =IF('User Input'!A20<>"", IF('User Input'!E20<>"",'User Input'!E20,""), "") | P12: =IF('User Input'!A20<>"", IF('User Input'!F20<>"",'User Input'!F20,""), "") | Q12: =IF('User Input'!A20<>"", IF('User Input'!G20<>"",'User Input'!G20,""), "")
A13: =IF('User Input'!A21<>"",'User Input'!A21,"") | B13: =IF('User Input'!A21<>"",'User Input'!B$2 & 'User Input'!B21,"") | C13: =IF('User Input'!A21<>"", IF('User Input'!C21<>"",'User Input'!C21,"required_for_submission"), "") | D13: =IF('User Input'!A21<>"",'User Input'!A$6,"") | E13: =IF('User Input'!A21<>"",'User Input'!B$6,"") | F13: =IF('User Input'!A21<>"", IF('User Input'!C$6<>"",'User Input'!C$6,"required_for_NCBI_submission"), "") | G13: =IF('User Input'!A21<>"",'User Input'!D$6,"") | H13: =IF('User Input'!A21<>"",'User Input'!E$6,"") | I13: =IF('User Input'!A21<>"",'User Input'!F$6,"") | J13: =IF('User Input'!A21<>"",'User Input'!G$6,"") | K13: =IF('User Input'!A21<>"",'User Input'!H$6,"") | L13: =IF('User Input'!A21<>"",'User Input'!I$6,"") | M13: =IF('User Input'!A21<>"",'User Input'!J$6,"") | N13: =IF('User Input'!A21<>"", IF('User Input'!D21<>"",'User Input'!D21,""), "") | O13: =IF('User Input'!A21<>"", IF('User Input'!E21<>"",'User Input'!E21,""), "") | P13: =IF('User Input'!A21<>"", IF('User Input'!F21<>"",'User Input'!F21,""), "") | Q13: =IF('User Input'!A21<>"", IF('User Input'!G21<>"",'User Input'!G21,""), "")
... A230: =IF('User Input'!A238<>"",'User Input'!A238,"") | B230: =IF('User Input'!A238<>"",'User Input'!B$2 & 'User Input'!B238,"") | C230: =IF('User Input'!A238<>"", IF('User Input'!C238<>"",'User Input'!C238,"required_for_submission"), "") | D230: =IF('User Input'!A238<>"",'User Input'!A$6,"") | E230: =IF('User Input'!A238<>"",'User Input'!B$6,"") | F230: =IF('User Input'!A238<>"", IF('User Input'!C$6<>"",'User Input'!C$6,"required_for_NCBI_submission"), "") | G230: =IF('User Input'!A238<>"",'User Input'!D$6,"") | H230: =IF('User Input'!A238<>"",'User Input'!E$6,"") | I230: =IF('User Input'!A238<>"",'User Input'!F$6,"") | J230: =IF('User Input'!A238<>"",'User Input'!G$6,"") | K230: =IF('User Input'!A238<>"",'User Input'!H$6,"") | L230: =IF('User Input'!A238<>"",'User Input'!I$6,"") | M230: =IF('User Input'!A238<>"",'User Input'!J$6,"") | N230: =IF('User Input'!A238<>"", IF('User Input'!D238<>"",'User Input'!D238,""), "") | O230: =IF('User Input'!A238<>"", IF('User Input'!E238<>"",'User Input'!E238,""), "") | P230: =IF('User Input'!A238<>"", IF('User Input'!F238<>"",'User Input'!F238,""), "") | Q230: =IF('User Input'!A238<>"", IF('User Input'!G238<>"",'User Input'!G238,""), "")
