Workbook

Sheet BarCode
A1: Origin | B1: No. | C1: Transponder | D1: BarCode | E1: Match | F1: well | G1: Spleen Box | H1: Spleen Position in Box | I1: Comments | J1: Tissue Type
B2: 1 | E2: =IF(TEXT(C2, "0")=(TEXT(D2, "0")), "PASS", "FAIL") -> PASS | F2: A1
B3: 2 | E3: =IF(TEXT(C3, "0")=(TEXT(D3, "0")), "PASS", "FAIL") -> PASS | F3: B1
B4: 3 | E4: =IF(TEXT(C4, "0")=(TEXT(D4, "0")), "PASS", "FAIL") -> PASS | F4: C1
B5: 4 | E5: =IF(TEXT(C5, "0")=(TEXT(D5, "0")), "PASS", "FAIL") -> PASS | F5: D1
B6: 5 | E6: =IF(TEXT(C6, "0")=(TEXT(D6, "0")), "PASS", "FAIL") -> PASS | F6: E1
B7: 6 | E7: =IF(TEXT(C7, "0")=(TEXT(D7, "0")), "PASS", "FAIL") -> PASS | F7: F1
B8: 7 | E8: =IF(TEXT(C8, "0")=(TEXT(D8, "0")), "PASS", "FAIL") -> PASS | F8: G1
B9: 8 | E9: =IF(TEXT(C9, "0")=(TEXT(D9, "0")), "PASS", "FAIL") -> PASS | F9: H1
B10: 9 | E10: =IF(TEXT(C10, "0")=(TEXT(D10, "0")), "PASS", "FAIL") -> PASS | F10: A2
B11: 10 | E11: =IF(TEXT(C11, "0")=(TEXT(D11, "0")), "PASS", "FAIL") -> PASS | F11: B2
B12: 11 | E12: =IF(TEXT(C12, "0")=(TEXT(D12, "0")), "PASS", "FAIL") -> PASS | F12: C2
B13: 12 | E13: =IF(TEXT(C13, "0")=(TEXT(D13, "0")), "PASS", "FAIL") -> PASS | F13: D2
... B97: 96 | E97: =IF(TEXT(C97, "0")=(TEXT(D97, "0")), "PASS", "FAIL") -> PASS | F97: H12

Sheet Print
A1: =CONCATENATE("*", BarCode!D2, "*") -> ** | B1: =CONCATENATE("*", BarCode!D19, "*") -> ** | C1: =CONCATENATE("*", BarCode!D36, "*") -> ** | D1: =CONCATENATE("*", BarCode!D53, "*") -> ** | E1: =CONCATENATE("*", BarCode!D70, "*") -> ** | F1: =CONCATENATE("*", BarCode!D87, "*") -> **
A2: =BarCode!D2 -> 0 | B2: =BarCode!D19 -> 0 | C2: =BarCode!D36 -> 0 | D2: =BarCode!D53 -> 0 | E2: =BarCode!D70 -> 0 | F2: =BarCode!D87 -> 0
A4: =CONCATENATE("*", BarCode!D3, "*") -> ** | B4: =CONCATENATE("*", BarCode!D20, "*") -> ** | C4: =CONCATENATE("*", BarCode!D37, "*") -> ** | D4: =CONCATENATE("*", BarCode!D54, "*") -> ** | E4: =CONCATENATE("*", BarCode!D71, "*") -> ** | F4: =CONCATENATE("*", BarCode!D88, "*") -> **
A5: =BarCode!D3 -> 0 | B5: =BarCode!D20 -> 0 | C5: =BarCode!D37 -> 0 | D5: =BarCode!D54 -> 0 | E5: =BarCode!D71 -> 0 | F5: =BarCode!D88 -> 0
A7: =CONCATENATE("*", BarCode!D4, "*") -> ** | B7: =CONCATENATE("*", BarCode!D21, "*") -> ** | C7: =CONCATENATE("*", BarCode!D38, "*") -> ** | D7: =CONCATENATE("*", BarCode!D55, "*") -> ** | E7: =CONCATENATE("*", BarCode!D72, "*") -> ** | F7: =CONCATENATE("*", BarCode!D89, "*") -> **
A8: =BarCode!D4 -> 0 | B8: =BarCode!D21 -> 0 | C8: =BarCode!D38 -> 0 | D8: =BarCode!D55 -> 0 | E8: =BarCode!D72 -> 0 | F8: =BarCode!D89 -> 0
A10: =CONCATENATE("*", BarCode!D5, "*") -> ** | B10: =CONCATENATE("*", BarCode!D22, "*") -> ** | C10: =CONCATENATE("*", BarCode!D39, "*") -> ** | D10: =CONCATENATE("*", BarCode!D56, "*") -> ** | E10: =CONCATENATE("*", BarCode!D73, "*") -> ** | F10: =CONCATENATE("*", BarCode!D90, "*") -> **
A11: =BarCode!D5 -> 0 | B11: =BarCode!D22 -> 0 | C11: =BarCode!D39 -> 0 | D11: =BarCode!D56 -> 0 | E11: =BarCode!D73 -> 0 | F11: =BarCode!D90 -> 0
A13: =CONCATENATE("*", BarCode!D6, "*") -> ** | B13: =CONCATENATE("*", BarCode!D23, "*") -> ** | C13: =CONCATENATE("*", BarCode!D40, "*") -> ** | D13: =CONCATENATE("*", BarCode!D57, "*") -> ** | E13: =CONCATENATE("*", BarCode!D74, "*") -> ** | F13: =CONCATENATE("*", BarCode!D91, "*") -> **
A14: =BarCode!D6 -> 0 | B14: =BarCode!D23 -> 0 | C14: =BarCode!D40 -> 0 | D14: =BarCode!D57 -> 0 | E14: =BarCode!D74 -> 0 | F14: =BarCode!D91 -> 0
A16: =CONCATENATE("*", BarCode!D7, "*") -> ** | B16: =CONCATENATE("*", BarCode!D24, "*") -> ** | C16: =CONCATENATE("*", BarCode!D41, "*") -> ** | D16: =CONCATENATE("*", BarCode!D58, "*") -> ** | E16: =CONCATENATE("*", BarCode!D75, "*") -> ** | F16: =CONCATENATE("*", BarCode!D92, "*") -> **
A17: =BarCode!D7 -> 0 | B17: =BarCode!D24 -> 0 | C17: =BarCode!D41 -> 0 | D17: =BarCode!D58 -> 0 | E17: =BarCode!D75 -> 0 | F17: =BarCode!D92 -> 0
A19: =CONCATENATE("*", BarCode!D8, "*") -> ** | B19: =CONCATENATE("*", BarCode!D25, "*") -> ** | C19: =CONCATENATE("*", BarCode!D42, "*") -> ** | D19: =CONCATENATE("*", BarCode!D59, "*") -> ** | E19: =CONCATENATE("*", BarCode!D76, "*") -> ** | F19: =CONCATENATE("*", BarCode!D93, "*") -> **
A20: =BarCode!D8 -> 0 | B20: =BarCode!D25 -> 0 | C20: =BarCode!D42 -> 0 | D20: =BarCode!D59 -> 0 | E20: =BarCode!D76 -> 0 | F20: =BarCode!D93 -> 0
A22: =CONCATENATE("*", BarCode!D9, "*") -> ** | B22: =CONCATENATE("*", BarCode!D26, "*") -> ** | C22: =CONCATENATE("*", BarCode!D43, "*") -> ** | D22: =CONCATENATE("*", BarCode!D60, "*") -> ** | E22: =CONCATENATE("*", BarCode!D77, "*") -> ** | F22: =CONCATENATE("*", BarCode!D94, "*") -> **
A23: =BarCode!D9 -> 0 | B23: =BarCode!D26 -> 0 | C23: =BarCode!D43 -> 0 | D23: =BarCode!D60 -> 0 | E23: =BarCode!D77 -> 0 | F23: =BarCode!D94 -> 0
A25: =CONCATENATE("*", BarCode!D10, "*") -> ** | B25: =CONCATENATE("*", BarCode!D27, "*") -> ** | C25: =CONCATENATE("*", BarCode!D44, "*") -> ** | D25: =CONCATENATE("*", BarCode!D61, "*") -> ** | E25: =CONCATENATE("*", BarCode!D78, "*") -> ** | F25: =CONCATENATE("*", BarCode!D95, "*") -> **
A26: =BarCode!D10 -> 0 | B26: =BarCode!D27 -> 0 | C26: =BarCode!D44 -> 0 | D26: =BarCode!D61 -> 0 | E26: =BarCode!D78 -> 0 | F26: =BarCode!D95 -> 0
A28: =CONCATENATE("*", BarCode!D11, "*") -> ** | B28: =CONCATENATE("*", BarCode!D28, "*") -> ** | C28: =CONCATENATE("*", BarCode!D45, "*") -> ** | D28: =CONCATENATE("*", BarCode!D62, "*") -> ** | E28: =CONCATENATE("*", BarCode!D79, "*") -> ** | F28: =CONCATENATE("*", BarCode!D96, "*") -> **
A29: =BarCode!D11 -> 0 | B29: =BarCode!D28 -> 0 | C29: =BarCode!D45 -> 0 | D29: =BarCode!D62 -> 0 | E29: =BarCode!D79 -> 0 | F29: =BarCode!D96 -> 0
A31: =CONCATENATE("*", BarCode!D12, "*") -> ** | B31: =CONCATENATE("*", BarCode!D29, "*") -> ** | C31: =CONCATENATE("*", BarCode!D46, "*") -> ** | D31: =CONCATENATE("*", BarCode!D63, "*") -> ** | E31: =CONCATENATE("*", BarCode!D80, "*") -> ** | F31: =CONCATENATE("*", BarCode!D97, "*") -> **
A32: =BarCode!D12 -> 0 | B32: =BarCode!D29 -> 0 | C32: =BarCode!D46 -> 0 | D32: =BarCode!D63 -> 0 | E32: =BarCode!D80 -> 0 | F32: =BarCode!D97 -> 0
A34: =CONCATENATE("*", BarCode!D13, "*") -> ** | B34: =CONCATENATE("*", BarCode!D30, "*") -> ** | C34: =CONCATENATE("*", BarCode!D47, "*") -> ** | D34: =CONCATENATE("*", BarCode!D64, "*") -> ** | E34: =CONCATENATE("*", BarCode!D81, "*") -> **
A35: =BarCode!D13 -> 0 | B35: =BarCode!D30 -> 0 | C35: =BarCode!D47 -> 0 | D35: =BarCode!D64 -> 0 | E35: =BarCode!D81 -> 0
A37: =CONCATENATE("*", BarCode!D14, "*") -> ** | B37: =CONCATENATE("*", BarCode!D31, "*") -> ** | C37: =CONCATENATE("*", BarCode!D48, "*") -> ** | D37: =CONCATENATE("*", BarCode!D65, "*") -> ** | E37: =CONCATENATE("*", BarCode!D82, "*") -> **
A38: =BarCode!D14 -> 0 | B38: =BarCode!D31 -> 0 | C38: =BarCode!D48 -> 0 | D38: =BarCode!D65 -> 0 | E38: =BarCode!D82 -> 0
A40: =CONCATENATE("*", BarCode!D15, "*") -> ** | B40: =CONCATENATE("*", BarCode!D32, "*") -> ** | C40: =CONCATENATE("*", BarCode!D49, "*") -> ** | D40: =CONCATENATE("*", BarCode!D66, "*") -> ** | E40: =CONCATENATE("*", BarCode!D83, "*") -> **
A41: =BarCode!D15 -> 0 | B41: =BarCode!D32 -> 0 | C41: =BarCode!D49 -> 0 | D41: =BarCode!D66 -> 0 | E41: =BarCode!D83 -> 0
A43: =CONCATENATE("*", BarCode!D16, "*") -> ** | B43: =CONCATENATE("*", BarCode!D33, "*") -> ** | C43: =CONCATENATE("*", BarCode!D50, "*") -> ** | D43: =CONCATENATE("*", BarCode!D67, "*") -> ** | E43: =CONCATENATE("*", BarCode!D84, "*") -> **
A44: =BarCode!D16 -> 0 | B44: =BarCode!D33 -> 0 | C44: =BarCode!D50 -> 0 | D44: =BarCode!D67 -> 0 | E44: =BarCode!D84 -> 0
A46: =CONCATENATE("*", BarCode!D17, "*") -> ** | B46: =CONCATENATE("*", BarCode!D34, "*") -> ** | C46: =CONCATENATE("*", BarCode!D51, "*") -> ** | D46: =CONCATENATE("*", BarCode!D68, "*") -> ** | E46: =CONCATENATE("*", BarCode!D85, "*") -> **
A47: =BarCode!D17 -> 0 | B47: =BarCode!D34 -> 0 | C47: =BarCode!D51 -> 0 | D47: =BarCode!D68 -> 0 | E47: =BarCode!D85 -> 0
A49: =CONCATENATE("*", BarCode!D18, "*") -> ** | B49: =CONCATENATE("*", BarCode!D35, "*") -> ** | C49: =CONCATENATE("*", BarCode!D52, "*") -> ** | D49: =CONCATENATE("*", BarCode!D69, "*") -> ** | E49: =CONCATENATE("*", BarCode!D86, "*") -> **
A50: =BarCode!D18 -> 0 | B50: =BarCode!D35 -> 0 | C50: =BarCode!D52 -> 0 | D50: =BarCode!D69 -> 0 | E50: =BarCode!D86 -> 0

Sheet Plate
B1: 1 | C1: 2 | D1: 3 | E1: 4 | F1: 5 | G1: 6 | H1: 7 | I1: 8 | J1: 9 | K1: 10 | L1: 11 | M1: 12
A2: A | B2: =BarCode!D2 -> 0 | C2: =BarCode!D10 -> 0 | D2: =BarCode!D18 -> 0 | E2: =BarCode!D26 -> 0 | F2: =BarCode!D34 -> 0 | G2: =BarCode!D42 -> 0 | H2: =BarCode!D50 -> 0 | I2: =BarCode!D58 -> 0 | J2: =BarCode!D66 -> 0 | K2: =BarCode!D74 -> 0 | L2: =BarCode!D82 -> 0 | M2: =BarCode!D90 -> 0
A3: B | B3: =BarCode!D3 -> 0 | C3: =BarCode!D11 -> 0 | D3: =BarCode!D19 -> 0 | E3: =BarCode!D27 -> 0 | F3: =BarCode!D35 -> 0 | G3: =BarCode!D43 -> 0 | H3: =BarCode!D51 -> 0 | I3: =BarCode!D59 -> 0 | J3: =BarCode!D67 -> 0 | K3: =BarCode!D75 -> 0 | L3: =BarCode!D83 -> 0 | M3: =BarCode!D91 -> 0
A4: C | B4: =BarCode!D4 -> 0 | C4: =BarCode!D12 -> 0 | D4: =BarCode!D20 -> 0 | E4: =BarCode!D28 -> 0 | F4: =BarCode!D36 -> 0 | G4: =BarCode!D44 -> 0 | H4: =BarCode!D52 -> 0 | I4: =BarCode!D60 -> 0 | J4: =BarCode!D68 -> 0 | K4: =BarCode!D76 -> 0 | L4: =BarCode!D84 -> 0 | M4: =BarCode!D92 -> 0
A5: D | B5: =BarCode!D5 -> 0 | C5: =BarCode!D13 -> 0 | D5: =BarCode!D21 -> 0 | E5: =BarCode!D29 -> 0 | F5: =BarCode!D37 -> 0 | G5: =BarCode!D45 -> 0 | H5: =BarCode!D53 -> 0 | I5: =BarCode!D61 -> 0 | J5: =BarCode!D69 -> 0 | K5: =BarCode!D77 -> 0 | L5: =BarCode!D85 -> 0 | M5: =BarCode!D93 -> 0
A6: E | B6: =BarCode!D6 -> 0 | C6: =BarCode!D14 -> 0 | D6: =BarCode!D22 -> 0 | E6: =BarCode!D30 -> 0 | F6: =BarCode!D38 -> 0 | G6: =BarCode!D46 -> 0 | H6: =BarCode!D54 -> 0 | I6: =BarCode!D62 -> 0 | J6: =BarCode!D70 -> 0 | K6: =BarCode!D78 -> 0 | L6: =BarCode!D86 -> 0 | M6: =BarCode!D94 -> 0
A7: F | B7: =BarCode!D7 -> 0 | C7: =BarCode!D15 -> 0 | D7: =BarCode!D23 -> 0 | E7: =BarCode!D31 -> 0 | F7: =BarCode!D39 -> 0 | G7: =BarCode!D47 -> 0 | H7: =BarCode!D55 -> 0 | I7: =BarCode!D63 -> 0 | J7: =BarCode!D71 -> 0 | K7: =BarCode!D79 -> 0 | L7: =BarCode!D87 -> 0 | M7: =BarCode!D95 -> 0
A8: G | B8: =BarCode!D8 -> 0 | C8: =BarCode!D16 -> 0 | D8: =BarCode!D24 -> 0 | E8: =BarCode!D32 -> 0 | F8: =BarCode!D40 -> 0 | G8: =BarCode!D48 -> 0 | H8: =BarCode!D56 -> 0 | I8: =BarCode!D64 -> 0 | J8: =BarCode!D72 -> 0 | K8: =BarCode!D80 -> 0 | L8: =BarCode!D88 -> 0 | M8: =BarCode!D96 -> 0
A9: H | B9: =BarCode!D9 -> 0 | C9: =BarCode!D17 -> 0 | D9: =BarCode!D25 -> 0 | E9: =BarCode!D33 -> 0 | F9: =BarCode!D41 -> 0 | G9: =BarCode!D49 -> 0 | H9: =BarCode!D57 -> 0 | I9: =BarCode!D65 -> 0 | J9: =BarCode!D73 -> 0 | K9: =BarCode!D81 -> 0 | L9: =BarCode!D89 -> 0 | M9: =BarCode!D97 -> 0
B12: Comments
