Workbook
Name _LU2007: 'List details'!$A$2:$A$53
Name _LU2011: 'List details'!$A$2:$A$53
Name apple: 'List details'!$C$2:$C$189
Name BC: 'List details'!$F$1:$F$6
Name BCPRIMERS: 'List details'!$E$2:$E$15
Name BCREGIONS: 'List details'!$F$1:$F$6
Name Countries: #REF!
Name hello: 'List details'!$B$2:$B$76
Name Primer: 'List details'!$C$2:$C$126
Name Primer1: 'List details'!$C$2:$C$112
Name Primer2: 'List details'!$D$28:$D$39
Name Primer3: 'List details'!$C$124:$C$126
Name Primers: 'List details'!$C$2:$C$164
Name Region: 'List details'!$B$2:$B$57
Name Region1: 'List details'!$B$2:$B$47
Name Region2: 'List details'!#REF!
Name Region3: 'List details'!$B$63
Name Regions: 'List details'!$B$2:$B$63
Name Service: 'List details'!$D$2:$D$4
Name test: 'List details'!$F$1:$F$7
Name User: 'List details'!$A$2:$A$3
Name Users: 'List details'!$A$2:$A$41
Name Users2007: 'List details'!$A$2:$A$43
Name UsersCK: '[1]List details'!$A$2:$A$4

Sheet Info
B1: Sequencing registration form
B5: Tube label | C5: Information written on your tube ready for sequencing (i.e. AP1, AP2…) or position in plate (A01-H12)
B6: Lab user | C6: Your name, in standard format, using the drop down list if possible
B7: Sample name | C7: EDNA number given by RBGE, required to process samples in the laboratory (e.g. sequencing, storage,,,)
B8: Gene | C8: PCR region to be analysed (trnL-trnF, ITS, AFLPs…) using the drop down list or typing region name
B9: Primer | C9: Primer used for sequencing (trnLc, ITS 5p…) using the drop down list or typing primer name
B10: Extra info | C10: Any extra info you would like adding into the SEQ file name e.g. band 1 from a gel extraction
B11: SEQ name | C11: SEQ file name is automatically generated by the computer
B12: Species name | C12: Species name of the sample - will autofill if STS have processed your EDNA numbers.

Sheet Sequencing form
A1: Please ensure your SEQ name only has period, dash, underscore and alphanumeric characters as other characters (?, !, *, &, %, / etc) are NOT accepted at genepool - CHECK YOUR PRIMER NAME
A2: Plate no. | B2: Sample | C2: Tube label | D2: Lab user | E2: Sample name | F2: Gene | G2: Primer | H2: Extra info | I2: SEQ name | J2: Species name | K2: Service required
B3: Ex | C3: AC1 | D3: Alex Clark | E3: EDNA06-00156 | F3: trnL-trnF | G3: trnL.c | H3: AC2.1 | I3: =CONCATENATE(E3," ",H3,"_",G3) -> EDNA06-00156 AC2.1_trnL.c | J3: Araucaria rulei | K3: Analysis
B4: 1 | I4: =CONCATENATE(E4," ",H4,"_",G4) -> _ | J4: =VLOOKUP(E4,'EDNA numbers'!$A$3:$B$62958,2,0) -> #N/A
B5: 2 | I5: =CONCATENATE(E5," ",H5,"_",G5) -> _ | J5: =VLOOKUP(E5,'EDNA numbers'!$A$3:$B$62958,2,0) -> #N/A
B6: 3 | I6: =CONCATENATE(E6," ",H6,"_",G6) -> _ | J6: =VLOOKUP(E6,'EDNA numbers'!$A$3:$B$62958,2,0) -> #N/A
B7: 4 | I7: =CONCATENATE(E7," ",H7,"_",G7) -> _ | J7: =VLOOKUP(E7,'EDNA numbers'!$A$3:$B$62958,2,0) -> #N/A
B8: 5 | I8: =CONCATENATE(E8," ",H8,"_",G8) -> _ | J8: =VLOOKUP(E8,'EDNA numbers'!$A$3:$B$62958,2,0) -> #N/A
B9: 6 | I9: =CONCATENATE(E9," ",H9,"_",G9) -> _ | J9: =VLOOKUP(E9,'EDNA numbers'!$A$3:$B$62958,2,0) -> #N/A
B10: 7 | I10: =CONCATENATE(E10," ",H10,"_",G10) -> _ | J10: =VLOOKUP(E10,'EDNA numbers'!$A$3:$B$62958,2,0) -> #N/A
B11: 8 | I11: =CONCATENATE(E11," ",H11,"_",G11) -> _ | J11: =VLOOKUP(E11,'EDNA numbers'!$A$3:$B$62958,2,0) -> #N/A
B12: 9 | I12: =CONCATENATE(E12," ",H12,"_",G12) -> _ | J12: =VLOOKUP(E12,'EDNA numbers'!$A$3:$B$62958,2,0) -> #N/A
B13: 10 | I13: =CONCATENATE(E13," ",H13,"_",G13) -> _ | J13: =VLOOKUP(E13,'EDNA numbers'!$A$3:$B$62958,2,0) -> #N/A
B14: 11 | I14: =CONCATENATE(E14," ",H14,"_",G14) -> _ | J14: =VLOOKUP(E14,'EDNA numbers'!$A$3:$B$62958,2,0) -> #N/A
B15: 12 | I15: =CONCATENATE(E15," ",H15,"_",G15) -> _ | J15: =VLOOKUP(E15,'EDNA numbers'!$A$3:$B$62958,2,0) -> #N/A
... B99: 96 | I99: =CONCATENATE(E99," ",H99,"_",G99) -> _ | J99: =VLOOKUP(E99,'EDNA numbers'!$A$3:$B$62958,2,0) -> #N/A
B100: 1 | I100: =CONCATENATE(E100," ",H100,"_",G100) -> _ | J100: =VLOOKUP(E100,'EDNA numbers'!$A$3:$B$55632,2,0) -> #N/A
B101: 2 | I101: =CONCATENATE(E101," ",H101,"_",G101) -> _ | J101: =VLOOKUP(E101,'EDNA numbers'!$A$3:$B$55632,2,0) -> #N/A
B102: 3 | I102: =CONCATENATE(E102," ",H102,"_",G102) -> _ | J102: =VLOOKUP(E102,'EDNA numbers'!$A$3:$B$55632,2,0) -> #N/A
B103: 4 | I103: =CONCATENATE(E103," ",H103,"_",G103) -> _ | J103: =VLOOKUP(E103,'EDNA numbers'!$A$3:$B$55632,2,0) -> #N/A
B104: 5 | I104: =CONCATENATE(E104," ",H104,"_",G104) -> _ | J104: =VLOOKUP(E104,'EDNA numbers'!$A$3:$B$55632,2,0) -> #N/A
B105: 6 | I105: =CONCATENATE(E105," ",H105,"_",G105) -> _ | J105: =VLOOKUP(E105,'EDNA numbers'!$A$3:$B$55632,2,0) -> #N/A
B106: 7 | I106: =CONCATENATE(E106," ",H106,"_",G106) -> _ | J106: =VLOOKUP(E106,'EDNA numbers'!$A$3:$B$55632,2,0) -> #N/A
B107: 8 | I107: =CONCATENATE(E107," ",H107,"_",G107) -> _ | J107: =VLOOKUP(E107,'EDNA numbers'!$A$3:$B$55632,2,0) -> #N/A
B108: 9 | I108: =CONCATENATE(E108," ",H108,"_",G108) -> _ | J108: =VLOOKUP(E108,'EDNA numbers'!$A$3:$B$55632,2,0) -> #N/A
B109: 10 | I109: =CONCATENATE(E109," ",H109,"_",G109) -> _ | J109: =VLOOKUP(E109,'EDNA numbers'!$A$3:$B$55632,2,0) -> #N/A
B110: 11 | I110: =CONCATENATE(E110," ",H110,"_",G110) -> _ | J110: =VLOOKUP(E110,'EDNA numbers'!$A$3:$B$55632,2,0) -> #N/A
B111: 12 | I111: =CONCATENATE(E111," ",H111,"_",G111) -> _ | J111: =VLOOKUP(E111,'EDNA numbers'!$A$3:$B$55632,2,0) -> #N/A
... B387: 96 | I387: =CONCATENATE(E387," ",H387,"_",G387) -> _ | J387: =VLOOKUP(E387,'EDNA numbers'!$A$3:$B$55632,2,0) -> #N/A

Sheet EDNA numbers
A1: EDNA06-00000 | B1: NEGATIVE_TEST
A2: EDNA06-00001 | B2: Araucaria_araucana | C2: Vimi Lomax | W2: Vimi Lomax
A3: EDNA06-00002 | B3: Araucaria_angustifolia | C3: Vimi Lomax | W3: Vimi Lomax
A4: EDNA06-00003 | B4: Araucaria_bidwillii | C4: Vimi Lomax | W4: Vimi Lomax
A5: EDNA06-00004 | B5: Araucaria_hunsteinii | C5: Vimi Lomax | W5: Vimi Lomax
A6: EDNA06-00005 | B6: Araucaria_bernieri | C6: Vimi Lomax | W6: Vimi Lomax
A7: EDNA06-00006 | B7: Araucaria_biramulata | C7: Vimi Lomax | W7: Vimi Lomax
A8: EDNA06-00007 | B8: Araucaria_columnaris | C8: Vimi Lomax | W8: Vimi Lomax
A9: EDNA06-00008 | B9: Araucaria_nemorosa | C9: Vimi Lomax | W9: Vimi Lomax
A10: EDNA06-00009 | B10: Araucaria_muelleri | C10: Vimi Lomax | W10: Vimi Lomax
A11: EDNA06-00010 | B11: Araucaria_rulei | C11: Vimi Lomax | W11: Vimi Lomax
A12: EDNA06-00011 | B12: Araucaria_muelleri | C12: Vimi Lomax | W12: Vimi Lomax
A13: EDNA06-00012 | B13: Araucaria_muelleri | C13: Vimi Lomax | W13: Vimi Lomax
... A1981: EDNA06-01980 | B1981: Acmopyle_pancheri | C1981: Sheena McKendrick | W1981: Sheena McKendrick
A1982: EDNA06-01981 | B1982: Missing_data
A1983: EDNA06-01982 | B1983: Araucaria_luxurians | C1983: Sheena McKendrick | W1983: Sheena McKendrick
A1984: EDNA06-01983 | B1984: Araucaria_subulata | C1984: Sheena McKendrick | W1984: Sheena McKendrick
A1985: EDNA06-01984 | B1985: Araucaria_subulata | C1985: Sheena McKendrick | W1985: Sheena McKendrick
A1986: EDNA06-01985 | B1986: Araucaria_luxurians | C1986: Sheena McKendrick | W1986: Sheena McKendrick
A1987: EDNA06-01986 | B1987: Araucaria_scopulorum | C1987: Sheena McKendrick | W1987: Sheena McKendrick
A1988: EDNA06-01987 | B1988: Araucaria_humboldtensis | C1988: Sheena McKendrick | W1988: Sheena McKendrick
A1989: EDNA06-01988 | B1989: Araucaria_biramulata | C1989: Sheena McKendrick | W1989: Sheena McKendrick
A1990: EDNA06-01989 | B1990: Araucaria_montana | C1990: Sheena McKendrick | W1990: Sheena McKendrick
A1991: EDNA06-01990 | B1991: Araucaria_montana | C1991: Sheena McKendrick | W1991: Sheena McKendrick
A1992: EDNA06-01991 | B1992: Araucaria_bernieri | C1992: Sheena McKendrick | W1992: Sheena McKendrick
A1993: EDNA06-01992 | B1993: Araucaria_scopulorum | C1993: Sheena McKendrick | W1993: Sheena McKendrick
A1994: EDNA06-01993 | B1994: Araucaria_humboldtensis | C1994: Sheena McKendrick | W1994: Sheena McKendrick
... A2039: EDNA06-02038 | B2039: Rumex_aquaticus_x_obtusifolius_backcross_x_obtusifolius | C2039: Jane Squirrell | W2039: Jane Squirrell
A2040: EDNA06-02039 | B2040: BLANK
A2041: EDNA06-02040 | B2041: Rumex_aquaticus_? | C2041: Jane Squirrell | W2041: Jane Squirrell
A2042: EDNA06-02041 | B2042: Rumex_aquaticus_x_obtusifolius | C2042: Jane Squirrell | W2042: Jane Squirrell
A2043: EDNA06-02042 | B2043: Rumex_aquaticus_? | C2043: Jane Squirrell | W2043: Jane Squirrell
A2044: EDNA06-02043 | B2044: Rumex_aquaticus | C2044: Jane Squirrell | W2044: Jane Squirrell
A2045: EDNA06-02044 | B2045: Rumex_obtusifolius | C2045: Jane Squirrell | W2045: Jane Squirrell
A2046: EDNA06-02045 | B2046: Rumex_aquaticus | C2046: Jane Squirrell | W2046: Jane Squirrell
A2047: EDNA06-02046 | B2047: Rumex_aquaticus | C2047: Jane Squirrell | W2047: Jane Squirrell
A2048: EDNA06-02047 | B2048: Rumex_aquaticus | C2048: Jane Squirrell | W2048: Jane Squirrell
A2049: EDNA06-02048 | B2049: Rumex_aquaticus | C2049: Jane Squirrell | W2049: Jane Squirrell
A2050: EDNA06-02049 | B2050: Rumex_aquaticus_x_obtusifolius_backcross | C2050: Jane Squirrell | W2050: Jane Squirrell
A2051: EDNA06-02050 | B2051: Rumex_aquaticus_x_obtusifolius_backcross | C2051: Jane Squirrell | W2051: Jane Squirrell
A2052: EDNA06-02051 | B2052: Rumex_aquaticus | C2052: Jane Squirrell | W2052: Jane Squirrell
... A3760: EDNA06-03759 | B3760: Heracleum_kingdonii | C3760: Jin Hyub Paik | W3760: Jin Hyub Paik
A3761: EDNA06-03760 | C3761: Jin Hyub Paik | W3761: Jin Hyub Paik
A3762: EDNA06-03761 | C3762: Jin Hyub Paik | W3762: Jin Hyub Paik
A3763: EDNA06-03762 | C3763: Jin Hyub Paik | W3763: Jin Hyub Paik
A3764: EDNA06-03763 | C3764: Jin Hyub Paik | W3764: Jin Hyub Paik
A3765: EDNA06-03764 | B3765: Missing_data | C3765: Jane Squirrell | W3765: Jane Squirrell
A3766: EDNA06-03765 | B3766: Missing_data | C3766: Jane Squirrell | W3766: Jane Squirrell
A3767: EDNA06-03766 | B3767: Missing_data | C3767: Jane Squirrell | W3767: Jane Squirrell
A3768: EDNA06-03767 | B3768: Missing_data | C3768: Jane Squirrell | W3768: Jane Squirrell
A3769: EDNA06-03768 | B3769: Missing_data | C3769: Jane Squirrell | W3769: Jane Squirrell
A3770: EDNA06-03769 | B3770: Missing_data | C3770: Jane Squirrell | W3770: Jane Squirrell
A3771: EDNA06-03770 | B3771: Missing_data | C3771: Jane Squirrell | W3771: Jane Squirrell
A3772: EDNA06-03771 | B3772: Missing_data | C3772: Jane Squirrell | W3772: Jane Squirrell
A3773: EDNA06-03772 | B3773: Missing_data | C3773: Jane Squirrell | W3773: Jane Squirrell
A3774: EDNA06-03773 | B3774: Missing_data | C3774: Jane Squirrell | W3774: Jane Squirrell
A3775: EDNA06-03774 | B3775: Missing_data | C3775: Jane Squirrell | W3775: Jane Squirrell
A3776: EDNA06-03775 | B3776: Missing_data | C3776: Jane Squirrell | W3776: Jane Squirrell
... A4145: EDNA06-04122 | B4145: Davallia_corniculata | C4145: Haja Kader | W4145: Haja Kader
A4146: EDNA06-04123 | C4146: Haja Kader | W4146: Haja Kader
A4147: EDNA06-04124 | B4147: Davallia_divaricata? | C4147: Haja Kader | W4147: Haja Kader
A4148: EDNA06-04125 | B4148: Humataangustata | C4148: Haja Kader | W4148: Haja Kader
A4149: EDNA06-04126 | B4149: Davalliacorniculata | C4149: Haja Kader | W4149: Haja Kader
A4150: EDNA06-04127 | C4150: Haja Kader | W4150: Haja Kader
A4151: EDNA06-04128 | B4151: Davallia_divaricata | C4151: Haja Kader | W4151: Haja Kader
A4152: EDNA06-04129 | B4152: Araiostegia_hymenophylloides | C4152: Haja Kader | W4152: Haja Kader
A4153: EDNA06-04130 | B4153: Humata_repens | C4153: Haja Kader | W4153: Haja Kader
A4154: EDNA06-04131 | B4154: Davallia_sp1 | C4154: Haja Kader | W4154: Haja Kader
A4155: EDNA06-04132 | B4155: Humata_vestita | C4155: Haja Kader | W4155: Haja Kader
A4156: EDNA06-04133 | B4156: Leucostegia_immersa | C4156: Haja Kader | W4156: Haja Kader
A4157: EDNA06-04134 | B4157: Humata_parvula | C4157: Haja Kader | W4157: Haja Kader
A4158: EDNA06-04135 | B4158: Leucostegia_pallida | C4158: Haja Kader | W4158: Haja Kader
A4159: EDNA06-04136 | B4159: Davallia_divaricata | C4159: Haja Kader | W4159: Haja Kader
A4160: EDNA06-04137 | B4160: Davallia_sp_2 | C4160: Haja Kader | W4160: Haja Kader
A4161: EDNA06-04138 | B4161: Davallia_corniculata | C4161: Haja Kader | W4161: Haja Kader
A4162: EDNA06-04139 | B4162: Humata_pectinata | C4162: Haja Kader | W4162: Haja Kader
... A4179: EDNA06-04156 | B4179: Leucostegia_pallida | C4179: Haja Kader | W4179: Haja Kader
A4180: EDNA06-04157 | C4180: Haja Kader | W4180: Haja Kader
A4181: EDNA06-04158 | C4181: Haja Kader | W4181: Haja Kader
A4182: EDNA06-04159 | B4182: Hamatoshepta_concinna | C4182: Laura Forrest | W4182: Laura Forrest
A4183: EDNA06-04160 | B4183: Moerckia_flotowiana | C4183: Laura Forrest | W4183: Laura Forrest
A4184: EDNA06-04161 | B4184: Riccia_gougetiana_Mont_ | C4184: Laura Forrest | W4184: Laura Forrest
A4185: EDNA06-04162 | B4185: Conocephalum_salebrosum_ | C4185: Laura Forrest | W4185: Laura Forrest
A4186: EDNA06-04163 | B4186: Cyathodium_spruceanum | C4186: Helena Korpelainen | W4186: Helena Korpelainen
A4187: EDNA06-04164 | B4187: Cyathodium_cavernarum | C4187: Helena Korpelainen | W4187: Helena Korpelainen
A4188: EDNA06-04165 | B4188: Cyathodium_foetidissimum | C4188: Helena Korpelainen | W4188: Helena Korpelainen
A4189: EDNA06-04166 | B4189: Cyathodium_foetidissimum | C4189: Helena Korpelainen | W4189: Helena Korpelainen
A4190: EDNA06-04167 | B4190: Cyathodium_cavernarum | C4190: Helena Korpelainen | W4190: Helena Korpelainen
A4191: EDNA06-04168 | B4191: Cyathodium_spruceanum | C4191: Helena Korpelainen | W4191: Helena Korpelainen
A4192: EDNA06-04169 | B4192: Alpinia_luteocarpa_Elmer | C4192: Laura Forrest | W4192: Laura Forrest
A4193: EDNA06-04170 | B4193: Inga_striata | C4193: Vimi Lomax | W4193: Vimi Lomax
... A4992: EDNA06-04969 | B4992: Heracleum_ceylanicum_ | C4992: Jin Hyub Paik | W4992: Jin Hyub Paik
A4993: EDNA06-04970 | C4993: Jin Hyub Paik | W4993: Jin Hyub Paik
A4994: EDNA06-04971 | B4994: Heracleumsprengelianum | C4994: Jin Hyub Paik | W4994: Jin Hyub Paik
A4995: EDNA06-04972 | B4995: Heracleumcandolleanum | C4995: Jin Hyub Paik | W4995: Jin Hyub Paik
A4996: EDNA06-04973 | B4996: Heracleum_woodii | C4996: Jin Hyub Paik | W4996: Jin Hyub Paik
A4997: EDNA06-04974 | B4997: Heracleum_ceylanicum | C4997: Jin Hyub Paik | W4997: Jin Hyub Paik
A4998: EDNA06-04975 | B4998: Heracleum_canescens | C4998: Jin Hyub Paik | W4998: Jin Hyub Paik
A4999: EDNA06-04976 | B4999: Heracleum_nepalense | C4999: Jin Hyub Paik | W4999: Jin Hyub Paik
A5000: EDNA06-04977 | B5000: Heracleum_lallii | C5000: Jin Hyub Paik | W5000: Jin Hyub Paik
...

Sheet List details
A1: Lab users | D1: SERVICE | E1: BCPRIMERS | F1: REGIONS | H1: ADDED INFO
A2: DToL | D2: SEQ RX NOT DONE | E2: a_f | F2: trnH-psbA | H2: _BDX_
A3: Laura Forrest | D3: normal | E3: ajf636R | F3: rbcL
A4: David Bell | E4: 501F | F4: ITS2
E5: trnHR | F5: matK
E6: seqF
E7: 4bryo
E8: RBGE-LIV-F1A
E9: RBGE-LIV-R1A
E10: S2F
E11: S3R

Sheet BC Seq form 
A1: THIS FORM IS FOR BARCODING SEQUENCING ONLY - USE THE RED COLOURED SEQUENCING FORM; please ensure your SEQ name only has dash, underscore and alphanumeric characters as other characters (?, !, *, &, % etc) are NOT accepted at genepool
A2: Sample | B2: Tube label | C2: Lab user | D2: Sample name | E2: Gene | F2: Primer | G2: Extra info | H2: SEQ name | I2: Species name | J2: Service required
A3: Example | B3: AC1 | C3: Alex Clark | D3: EDNA06-00156 | E3: trnL-trnF | F3: rbcL_af | G3: AC2.1 | H3: =CONCATENATE(I3,"_",D3,"_",F3) -> Araucaria_rulei_EDNA06-00156_rbcL_af | I3: Araucaria_rulei | J3: Analysis
A4: 1 | H4: =CONCATENATE(I4,"_",D4,"_",F4) -> #N/A | I4: =VLOOKUP(D4,'EDNA numbers'!$A$3:$B$62958,2, 0) -> #N/A
A5: 2 | H5: =CONCATENATE(I5,"_",D5,"_",F5) -> #N/A | I5: =VLOOKUP(D5,'EDNA numbers'!$A$3:$B$62958,2, 0) -> #N/A
A6: 3 | H6: =CONCATENATE(I6,"_",D6,"_",F6) -> #N/A | I6: =VLOOKUP(D6,'EDNA numbers'!$A$3:$B$62958,2, 0) -> #N/A
A7: 4 | H7: =CONCATENATE(I7,"_",D7,"_",F7) -> #N/A | I7: =VLOOKUP(D7,'EDNA numbers'!$A$3:$B$62958,2, 0) -> #N/A
A8: 5 | H8: =CONCATENATE(I8,"_",D8,"_",F8) -> #N/A | I8: =VLOOKUP(D8,'EDNA numbers'!$A$3:$B$62958,2, 0) -> #N/A
A9: 6 | H9: =CONCATENATE(I9,"_",D9,"_",F9) -> #N/A | I9: =VLOOKUP(D9,'EDNA numbers'!$A$3:$B$62958,2, 0) -> #N/A
A10: 7 | H10: =CONCATENATE(I10,"_",D10,"_",F10) -> #N/A | I10: =VLOOKUP(D10,'EDNA numbers'!$A$3:$B$62958,2, 0) -> #N/A
A11: 8 | H11: =CONCATENATE(I11,"_",D11,"_",F11) -> #N/A | I11: =VLOOKUP(D11,'EDNA numbers'!$A$3:$B$62958,2, 0) -> #N/A
A12: 9 | H12: =CONCATENATE(I12,"_",D12,"_",F12) -> #N/A | I12: =VLOOKUP(D12,'EDNA numbers'!$A$3:$B$62958,2, 0) -> #N/A
A13: 10 | H13: =CONCATENATE(I13,"_",D13,"_",F13) -> #N/A | I13: =VLOOKUP(D13,'EDNA numbers'!$A$3:$B$62958,2, 0) -> #N/A
A14: 11 | H14: =CONCATENATE(I14,"_",D14,"_",F14) -> #N/A | I14: =VLOOKUP(D14,'EDNA numbers'!$A$3:$B$62958,2, 0) -> #N/A
A15: 12 | H15: =CONCATENATE(I15,"_",D15,"_",F15) -> #N/A | I15: =VLOOKUP(D15,'EDNA numbers'!$A$3:$B$62958,2, 0) -> #N/A
... A99: 96 | H99: =CONCATENATE(I99,"_",D99,"_",F99) -> #N/A | I99: =VLOOKUP(D99,'EDNA numbers'!$A$3:$B$62958,2, 0) -> #N/A

Sheet DTOL sequencing
A1: THIS FORM IS FOR DToL SEQUENCING ONLY; Please ensure your SEQ name only has dash, underscore and alphanumeric characters as other characters (., ?, !, *, &, %, whitespace etc) are NOT accepted at genepool. | N1: REDUCE IF RED
A2: Sample | B2: Plate no./Strip no. | C2: Project / User | D2: EDNA number | E2: Gene | F2: Primer | G2: ADDED INFO | H2: DToL no. | I2: SEQ name | J2: Species name | K2: Dundee Service required | M2: CURRENT NAME LENGTH | N2: ABI FILE NAME LENGTH
C3: DROPDOWN | E3: DROPDOWN | F3: DROPDOWN | G3: _BDX | H3: AUTOFILL | I3: AUTOFILL | J3: AUTOFILL | K3: DROPDOWN | N3: RBGE name plus RBGE extension + Dundee extension
A4: 1 | H4: =VLOOKUP(D4,'EDNA numbers'!$A$3:$D56765,4, 0) -> #N/A | I4: =CONCATENATE(J4,"_",D4,"_",H4,"_",E4,"_",F4,G4) -> #N/A | J4: =VLOOKUP(D4,'EDNA numbers'!$A$3:$B56765,2, 0) -> #N/A | M4: =LEN(I4) -> #N/A | N4: =M4+13+8 -> #N/A
A5: 2 | H5: =VLOOKUP(D5,'EDNA numbers'!$A$3:$D56766,4, 0) -> #N/A | I5: =CONCATENATE(J5,"_",D5,"_",H5,"_",E5,"_",F5,G5) -> #N/A | J5: =VLOOKUP(D5,'EDNA numbers'!$A$3:$B56766,2, 0) -> #N/A | M5: =LEN(I5) -> #N/A | N5: =M5+13+8 -> #N/A
A6: 3 | H6: =VLOOKUP(D6,'EDNA numbers'!$A$3:$D56767,4, 0) -> #N/A | I6: =CONCATENATE(J6,"_",D6,"_",H6,"_",E6,"_",F6,G6) -> #N/A | J6: =VLOOKUP(D6,'EDNA numbers'!$A$3:$B56767,2, 0) -> #N/A | M6: =LEN(I6) -> #N/A | N6: =M6+13+8 -> #N/A
A7: 4 | H7: =VLOOKUP(D7,'EDNA numbers'!$A$3:$D56768,4, 0) -> #N/A | I7: =CONCATENATE(J7,"_",D7,"_",H7,"_",E7,"_",F7,G7) -> #N/A | J7: =VLOOKUP(D7,'EDNA numbers'!$A$3:$B56768,2, 0) -> #N/A | M7: =LEN(I7) -> #N/A | N7: =M7+13+8 -> #N/A
A8: 5 | H8: =VLOOKUP(D8,'EDNA numbers'!$A$3:$D56769,4, 0) -> #N/A | I8: =CONCATENATE(J8,"_",D8,"_",H8,"_",E8,"_",F8,G8) -> #N/A | J8: =VLOOKUP(D8,'EDNA numbers'!$A$3:$B56769,2, 0) -> #N/A | M8: =LEN(I8) -> #N/A | N8: =M8+13+8 -> #N/A
A9: 6 | H9: =VLOOKUP(D9,'EDNA numbers'!$A$3:$D56770,4, 0) -> #N/A | I9: =CONCATENATE(J9,"_",D9,"_",H9,"_",E9,"_",F9,G9) -> #N/A | J9: =VLOOKUP(D9,'EDNA numbers'!$A$3:$B56770,2, 0) -> #N/A | M9: =LEN(I9) -> #N/A | N9: =M9+13+8 -> #N/A
A10: 7 | H10: =VLOOKUP(D10,'EDNA numbers'!$A$3:$D56771,4, 0) -> #N/A | I10: =CONCATENATE(J10,"_",D10,"_",H10,"_",E10,"_",F10,G10) -> #N/A | J10: =VLOOKUP(D10,'EDNA numbers'!$A$3:$B56771,2, 0) -> #N/A | M10: =LEN(I10) -> #N/A | N10: =M10+13+8 -> #N/A
A11: 8 | H11: =VLOOKUP(D11,'EDNA numbers'!$A$3:$D56772,4, 0) -> #N/A | I11: =CONCATENATE(J11,"_",D11,"_",H11,"_",E11,"_",F11,G11) -> #N/A | J11: =VLOOKUP(D11,'EDNA numbers'!$A$3:$B56772,2, 0) -> #N/A | M11: =LEN(I11) -> #N/A | N11: =M11+13+8 -> #N/A
A12: 9 | H12: =VLOOKUP(D12,'EDNA numbers'!$A$3:$D56773,4, 0) -> #N/A | I12: =CONCATENATE(J12,"_",D12,"_",H12,"_",E12,"_",F12,G12) -> #N/A | J12: =VLOOKUP(D12,'EDNA numbers'!$A$3:$B56773,2, 0) -> #N/A | M12: =LEN(I12) -> #N/A | N12: =M12+13+8 -> #N/A
A13: 10 | H13: =VLOOKUP(D13,'EDNA numbers'!$A$3:$D56774,4, 0) -> #N/A | I13: =CONCATENATE(J13,"_",D13,"_",H13,"_",E13,"_",F13,G13) -> #N/A | J13: =VLOOKUP(D13,'EDNA numbers'!$A$3:$B56774,2, 0) -> #N/A | M13: =LEN(I13) -> #N/A | N13: =M13+13+8 -> #N/A
A14: 11 | H14: =VLOOKUP(D14,'EDNA numbers'!$A$3:$D56775,4, 0) -> #N/A | I14: =CONCATENATE(J14,"_",D14,"_",H14,"_",E14,"_",F14,G14) -> #N/A | J14: =VLOOKUP(D14,'EDNA numbers'!$A$3:$B56775,2, 0) -> #N/A | M14: =LEN(I14) -> #N/A | N14: =M14+13+8 -> #N/A
A15: 12 | H15: =VLOOKUP(D15,'EDNA numbers'!$A$3:$D56776,4, 0) -> #N/A | I15: =CONCATENATE(J15,"_",D15,"_",H15,"_",E15,"_",F15,G15) -> #N/A | J15: =VLOOKUP(D15,'EDNA numbers'!$A$3:$B56776,2, 0) -> #N/A | M15: =LEN(I15) -> #N/A | N15: =M15+13+8 -> #N/A
... A503: 500 | H503: =VLOOKUP(D503,'EDNA numbers'!$A$3:$D57264,4, 0) -> #N/A | I503: =CONCATENATE(J503,"_",D503,"_",H503,"_",E503,"_",F503,G503) -> #N/A | J503: =VLOOKUP(D503,'EDNA numbers'!$A$3:$B57264,2, 0) -> #N/A | M503: =LEN(I503) -> #N/A | N503: =M503+13+8 -> #N/A

Sheet DToL sample list
A1: edna_number | B1: taxon_name | C1: sample_notes | D1: user_dna_id | E1: user_name | F1: rbge_contact_name | G1: collector_name | H1: collector_number | I1: collection_country | J1: notes
A2: EDNA20-0060319 | B2: Equisetum hyemale | C2: EDTOL00084 | D2: F005 | E2: Laura Forrest | F2: Michelle Hart | G2: Zoe Goodwin, David Bell | H2: 1913 | I2: GB | J2: Darwin Tree of Life sample
A3: EDNA20-0060320 | B3: Equisetum arvense | C3: EDTOL00083 | D3: F006 | E3: Laura Forrest | F3: Michelle Hart | G3: Zoe Goodwin, David Bell | H3: 1912 | I3: GB | J3: Darwin Tree of Life sample
A4: EDNA20-0060321 | B4: Pilularia globulifera | C4: EDTOL00087 | D4: F007 | E4: Laura Forrest | F4: Michelle Hart | G4: Zoe Goodwin, David Bell | H4: 1916 | I4: GB | J4: Darwin Tree of Life sample
A5: EDNA20-0060322 | B5: Woodsia alpina | C5: EDTOL00081 | D5: F008 | E5: Laura Forrest | F5: Michelle Hart | G5: Zoe Goodwin, David Bell | H5: 1910 | I5: GB | J5: Darwin Tree of Life sample
A6: EDNA20-0060323 | B6: Thelypteris palustris | C6: EDTOL00086 | D6: F009 | E6: Laura Forrest | F6: Michelle Hart | G6: Zoe Goodwin, David Bell | H6: 1915 | I6: GB | J6: Darwin Tree of Life sample
A7: EDNA20-0060324 | B7: Woodsia ilvensis | C7: EDTOL00082 | D7: F010 | E7: Laura Forrest | F7: Michelle Hart | G7: Zoe Goodwin, David Bell | H7: 1911 | I7: GB | J7: Darwin Tree of Life sample
A8: EDNA20-0060325 | B8: Gymnocarpium robertianum | C8: EDTOL00085 | D8: F011 | E8: Laura Forrest | F8: Michelle Hart | G8: Zoe Goodwin, David Bell | H8: 1914 | I8: GB | J8: Darwin Tree of Life sample
A9: EDNA20-0060326 | B9: Athyrium distentifolium | C9: EDTOL00067 | D9: F012 | E9: Laura Forrest | F9: Michelle Hart | G9: Zoe Goodwin, David Bell | H9: 1896 | I9: GB | J9: Darwin Tree of Life sample
A10: EDNA20-0060327 | B10: Blechnum spicant | C10: EDTOL00061 | D10: F013 | E10: Laura Forrest | F10: Michelle Hart | G10: Zoe Goodwin | H10: 1890 | I10: GB | J10: Darwin Tree of Life sample
A11: EDNA20-0060328 | B11: Pteridium aquilinum | C11: EDTOL00046 | D11: F014 | E11: Laura Forrest | F11: Michelle Hart | G11: Zoe Goodwin | H11: 1875 | I11: GB | J11: Darwin Tree of Life sample
A12: EDNA20-0060329 | B12: Lycopodium clavatum | C12: EDTOL00058 | D12: F015 | E12: Laura Forrest | F12: Michelle Hart | G12: Zoe Goodwin | H12: 1887 | I12: GB | J12: Darwin Tree of Life sample
A13: EDNA20-0060330 | B13: Equisetum telmateia | C13: KDTOL10050 | D13: F016 | E13: Laura Forrest | F13: Michelle Hart | G13: Maarten J. M. Christenhusz | H13: MC 9046 | I13: GB | J13: Darwin Tree of Life sample
A14: EDNA20-0060331 | B14: Osmunda regalis | C14: KDTOL10032 | D14: F017 | E14: Laura Forrest | F14: Michelle Hart | G14: Maarten J. M. Christenhusz | H14: MC 9029 | I14: GB | J14: Darwin Tree of Life sample
A15: EDNA20-0060332 | B15: Asplenium scolopendrium | C15: KDTOL10026 | D15: F018 | E15: Laura Forrest | F15: Michelle Hart | G15: Maarten J. M. Christenhusz | H15: MC 9023 | I15: GB | J15: Darwin Tree of Life sample
A16: EDNA20-0060333 | B16: Adiantum capillus-veneris | C16: KDTOL10025 | D16: F019 | E16: Laura Forrest | F16: Michelle Hart | G16: Maarten J. M. Christenhusz | H16: MC 9022 | I16: GB | J16: Darwin Tree of Life sample
A17: EDNA20-0060334 | B17: Equisetum palustre | C17: KDTOL10095 | D17: F020 | E17: Laura Forrest | F17: Michelle Hart | G17: Maarten J. M. Christenhusz | H17: MC 9089 | I17: GB | J17: Darwin Tree of Life sample
A18: EDNA20-0060335 | B18: Equisetum arvense | C18: KDTOL10094 | D18: F021 | E18: Laura Forrest | F18: Michelle Hart | G18: Maarten J. M. Christenhusz | H18: MC 9088 | I18: GB | J18: Darwin Tree of Life sample
A19: EDNA20-0060336 | B19: Polypodium vulgare | C19: KDTOL10098 | D19: F022 | E19: Laura Forrest | F19: Michelle Hart | G19: Maarten J. M. Christenhusz | H19: MC 9092 | I19: GB | J19: Darwin Tree of Life sample
A20: EDNA20-0060337 | B20: Asplenium ruta-muraria | C20: KDTOL10097 | D20: F023 | E20: Laura Forrest | F20: Michelle Hart | G20: Maarten J. M. Christenhusz | H20: MC 9091 | I20: GB | J20: Darwin Tree of Life sample
A21: EDNA20-0060338 | B21: Lycopodium clavatum | C21: EDTOL00197 | D21: F024 | E21: Laura Forrest | F21: Michelle Hart | G21: Laura L Forrest | H21: EDTOL4 | I21: GB | J21: Darwin Tree of Life sample
A22: EDNA20-0060339 | B22: Huperzia | C22: barcode library | D22: F025 | E22: Laura Forrest | F22: Michelle Hart | G22: Roger Golding | H22: 7 | I22: GB | J22: DToL reference
A23: EDNA20-0060340 | B23: Huperzia | C23: barcode library | D23: F026 | E23: Laura Forrest | F23: Michelle Hart | G23: Roger Golding | H23: 8 | I23: GB | J23: DToL reference
A24: EDNA20-0060341 | B24: Huperzia seligo | C24: barcode library | D24: F027 | E24: Laura Forrest | F24: Michelle Hart | G24: Roger Golding | H24: 1 | I24: GB | J24: DToL reference
A25: EDNA20-0060342 | B25: Huperzia | C25: barcode library | D25: F028 | E25: Laura Forrest | F25: Michelle Hart | G25: Roger Golding | H25: 2 | I25: GB | J25: DToL reference
A26: EDNA20-0060343 | B26: Huperzia | C26: barcode library | D26: F029 | E26: Laura Forrest | F26: Michelle Hart | G26: Roger Golding | H26: 3 | I26: GB | J26: DToL reference
A27: EDNA20-0060344 | B27: Huperzia | C27: barcode library | D27: F030 | E27: Laura Forrest | F27: Michelle Hart | G27: Roger Golding | H27: 4 | I27: GB | J27: DToL reference
A28: EDNA20-0060345 | B28: Huperzia | C28: barcode library | D28: F031 | E28: Laura Forrest | F28: Michelle Hart | G28: Roger Golding | H28: 5 | I28: GB | J28: DToL reference
A29: EDNA20-0060346 | B29: Huperzia | C29: barcode library | D29: F032 | E29: Laura Forrest | F29: Michelle Hart | G29: Roger Golding | H29: 6 | I29: GB | J29: DToL reference
A30: EDNA20-0060347 | B30: Neoorthocaulis floerkei | C30: EDTOL00188,EDTOL00189,EDTOL00190,EDTOL00191,EDTOL00192,EDTOL00193,EDTOL00194,EDTOL00195,00196 | D30: L001 | E30: Laura Forrest | F30: Michelle Hart | G30: David G Long | H30: EDTOL3 | I30: GB | J30: Darwin Tree of Life sample
A31: EDNA20-0060348 | B31: Apopellia endiviifolia | C31: EDTOL00202,EDTOL00203,EDTOL00204,EDTOL00205,EDTOL00206,EDTOL00207,EDTOL00208,EDTOL00209 | D31: L002 | E31: Laura Forrest | F31: Michelle Hart | G31: Laura L Forrest | H31: EDTOL6h | I31: GB | J31: Darwin Tree of Life sample
A32: EDNA20-0060349 | B32: Conocephalum conicum | C32: EDTOL00198,EDTOL00199,EDTOL00200,EDTOL00201 | D32: L003 | E32: Laura Forrest | F32: Michelle Hart | G32: Laura L Forrest | H32: EDTOL5a | I32: GB | J32: Darwin Tree of Life sample
A33: EDNA20-0060350 | B33: Metzgeria furcata | C33: EDTOL00260,EDTOL00261 | D33: L004 | E33: Laura Forrest | F33: Michelle Hart | G33: David Bell, David G Long | H33: 1466 | I33: GB | J33: Darwin Tree of Life sample
A34: EDNA20-0060351 | B34: Radula complanata | C34: EDTOL00272,EDTOL00273 | D34: L005 | E34: Laura Forrest | F34: Michelle Hart | G34: David Bell, David G Long | H34: 1470 | I34: GB | J34: Darwin Tree of Life sample
A35: EDNA20-0060352 | B35: Frullania dilatata | C35: EDTOL00275,EDTOL00276 | D35: L006 | E35: Laura Forrest | F35: Michelle Hart | G35: David Bell, David G Long | H35: 1471 | I35: GB | J35: Darwin Tree of Life sample
A36: EDNA20-0060353 | B36: Lepidozia reptans | C36: EDTOL00278,EDTOL00279 | D36: L007 | E36: Laura Forrest | F36: Michelle Hart | G36: David Bell, David G Long | H36: 1472 | I36: GB | J36: Darwin Tree of Life sample
A37: EDNA20-0060354 | B37: Lophocolea bidentata | C37: EDTOL00287,EDTOL00288 | D37: L008 | E37: Laura Forrest | F37: Michelle Hart | G37: David Bell, David G Long | H37: 1475 | I37: GB | J37: Darwin Tree of Life sample
A38: EDNA20-0060355 | B38: Riccardia palmata | C38: EDTOL | D38: L009 | E38: Laura Forrest | F38: Michelle Hart | G38: David Bell, Elizabeth Kungu | H38: 1444 | I38: GB | J38: Darwin Tree of Life sample
A39: EDNA20-0060356 | B39: Porella cordaeana | C39: EDTOL | D39: L010 | E39: Laura Forrest | F39: Michelle Hart | G39: David Bell, Elizabeth Kungu | H39: 1446 | I39: GB | J39: Darwin Tree of Life sample
A40: EDNA20-0060357 | B40: Tritomaria quinquedentata | C40: EDTOL00245,EDTOL00246,EDTOL00247 | D40: L011 | E40: Laura Forrest | F40: Michelle Hart | G40: David Bell, David G Long | H40: 1461 | I40: GB | J40: Darwin Tree of Life sample
A41: EDNA20-0060358 | B41: Lejeunea patens | C41: EDTOL | D41: L012 | E41: Laura Forrest | F41: Michelle Hart | G41: David Bell | H41: 1429 | I41: GB | J41: Darwin Tree of Life sample
A42: EDNA20-0060359 | B42: Marsupella emarginata | C42: EDTOL | D42: L013 | E42: Laura Forrest | F42: Michelle Hart | G42: David Bell | H42: 1430 | I42: GB | J42: Darwin Tree of Life sample
A43: EDNA20-0060360 | B43: Ptilidium ciliare | C43: EDTOL00150,EDTOL00151,EDTOL00152 | D43: L014 | E43: Laura Forrest | F43: Michelle Hart | G43: David Bell | H43: 1435 | I43: GB | J43: Darwin Tree of Life sample
A44: EDNA20-0060361 | B44: Frullania tamarisci | C44: EDTOL00153,EDTOL00154,EDTOL00155 | D44: L015 | E44: Laura Forrest | F44: Michelle Hart | G44: David Bell | H44: 1433 | I44: GB | J44: Darwin Tree of Life sample
... A51: EDNA20-0060368 | B51: Aneura | C51: barcode library | D51: L022 | E51: Laura Forrest | F51: Michelle Hart | G51: David G Long | H51: 46990 | I51: GB | J51: Liverwort barcoding
A52: EDNA20-0060369 | B52: Nardia complanata | C52: barcode library | D52: L023 | E52: Laura Forrest | F52: Michelle Hart | G52: Tim Blackstock | H52: s.n. | I52: GB | J52: Liverwort barcoding
A53: EDNA20-0060370 | B53: Aneura | C53: barcode library | D53: L024 | E53: Laura Forrest | F53: Michelle Hart | G53: David G Long | H53: 47011 | I53: GB | J53: Liverwort barcoding
A54: EDNA20-0060371 | B54: Nardia complanata | C54: barcode library | D54: L025 | E54: Laura Forrest | F54: Michelle Hart | G54: Tim Blackstock | H54: s.n. | I54: GB | J54: Liverwort barcoding
A55: EDNA20-0060372 | B55: Nardia complanata | C55: barcode library | D55: L026 | E55: Laura Forrest | F55: Michelle Hart | G55: Tom Blockeel | H55: 41/422 | I55: GB | J55: Liverwort barcoding
A56: EDNA20-0060373 | B56: Aneura grandis | C56: barcode library | D56: L027 | E56: Laura Forrest | F56: Michelle Hart | G56: David G Long | H56: 46944 | I56: GB | J56: Liverwort barcoding
A57: EDNA20-0060374 | B57: Aneura | C57: barcode library | D57: L028 | E57: Laura Forrest | F57: Michelle Hart | G57: Lawley | H57: 41790 | I57: GB | J57: Liverwort barcoding
A58: EDNA20-0060375 | B58: Aneura | C58: barcode library | D58: L029 | E58: Laura Forrest | F58: Michelle Hart | G58: RR Martin | H58: s.n. | I58: GB | J58: Liverwort barcoding
A59: EDNA20-0060376 | B59: Aneura | C59: barcode library | D59: L030 | E59: Laura Forrest | F59: Michelle Hart | G59: David G Long | H59: 46610 | I59: CN | J59: Liverwort barcoding
A60: EDNA20-0060377 | B60: Aneura | C60: barcode library | D60: L031 | E60: Laura Forrest | F60: Michelle Hart | G60: Lawley | H60: 41729 | I60: GB | J60: Liverwort barcoding
A61: EDNA20-0060378 | B61: Aneura euromaxima | C61: barcode library | D61: L032 | E61: Laura Forrest | F61: Michelle Hart | G61: David G Long | H61: 46943 | I61: GB | J61: Liverwort barcoding
A62: EDNA20-0060379 | B62: Aneura | C62: barcode library | D62: L033 | E62: Laura Forrest | F62: Michelle Hart | G62: David G Long | H62: 46889 | I62: GB | J62: Liverwort barcoding
A63: EDNA20-0060380 | B63: Aneura hogwartsii | C63: barcode library | D63: L034 | E63: Laura Forrest | F63: Michelle Hart | G63: David G Long | H63: 46935 | I63: GB | J63: Liverwort barcoding
A64: EDNA20-0060381 | B64: Aneura | C64: barcode library | D64: L035 | E64: Laura Forrest | F64: Michelle Hart | G64: Lawley | H64: 22/7/19A | I64: GB | J64: Liverwort barcoding
A65: EDNA20-0060382 | B65: Aneura euromaxima | C65: barcode library | D65: L036 | E65: Laura Forrest | F65: Michelle Hart | G65: David G Long | H65: 46945 | I65: GB | J65: Liverwort barcoding
A66: EDNA20-0060383 | B66: Aneura hogwartsii | C66: barcode library | D66: L037 | E66: Laura Forrest | F66: Michelle Hart | G66: Lawley | H66: 22/7/19B | I66: GB | J66: Liverwort barcoding
A67: EDNA20-0060384 | B67: Aneura hogwartsii | C67: barcode library | D67: L038 | E67: Laura Forrest | F67: Michelle Hart | G67: David G Long | H67: 46934 | I67: GB | J67: Liverwort barcoding
A68: EDNA20-0060385 | B68: Riccardia multifida | C68: barcode library | D68: L039 | E68: Laura Forrest | F68: Michelle Hart | G68: David G Long | H68: 45488 | I68: IE | J68: Liverwort barcoding
A69: EDNA20-0060386 | B69: Jamesoniella undulifolia | C69: barcode library | D69: L040 | E69: Laura Forrest | F69: Michelle Hart | G69: Jan Larsen | H69: 2019 | I69: DK | J69: Liverwort barcoding
A70: EDNA20-0060387 | B70: Jamesoniella autumnalis | C70: barcode library | D70: L041 | E70: Laura Forrest | F70: Michelle Hart | G70: David G Long | H70: 45472 | I70: GB | J70: Liverwort barcoding
A71: EDNA20-0060388 | B71: Lophozia ventricosa | C71: barcode library | D71: L042 | E71: Laura Forrest | F71: Michelle Hart | G71: David G Long | H71: 48339 | I71: US | J71: Liverwort barcoding
A72: EDNA20-0060389 | B72: Moerckia hibernica | C72: barcode library | D72: L043 | E72: Laura Forrest | F72: Michelle Hart | G72: David G Long | H72: 48392 | I72: GB | J72: Liverwort barcoding
A73: EDNA20-0060390 | B73: Lophozia incisa | C73: barcode library | D73: L044 | E73: Laura Forrest | F73: Michelle Hart | G73: David G Long | H73: 45343 | I73: US | J73: Liverwort barcoding
A74: EDNA20-0060391 | B74: Adelanthus decipiens | C74: barcode library | D74: L045 | E74: Laura Forrest | F74: Michelle Hart | G74: David G Long | H74: 46118 | I74: IE | J74: Liverwort barcoding
A75: EDNA20-0060392 | B75: Telaranea | C75: barcode library | D75: L046 | E75: Laura Forrest | F75: Michelle Hart | G75: Keith Watson | H75: 42035 | I75: GB | J75: Liverwort barcoding
A76: EDNA20-0060393 | B76: Chiloscyphus polyanthos | C76: barcode library | D76: L047 | E76: Laura Forrest | F76: Michelle Hart | G76: David G Long | H76: 45854 | I76: GB | J76: Liverwort barcoding
A77: EDNA20-0060394 | B77: Calypogeia integristipula | C77: barcode library | D77: L048 | E77: Laura Forrest | F77: Michelle Hart | G77: David G Long | H77: 45628 | I77: GB | J77: Liverwort barcoding
A78: EDNA20-0060395 | B78: Pellia neesiana | C78: barcode library | D78: L049 | E78: Laura Forrest | F78: Michelle Hart | G78: David G Long | H78: 45566 | I78: GB | J78: Liverwort barcoding
... A87: EDNA20-0060404 | B87: Denotarisia linguifolia | C87: barcode library | D87: L058 | E87: Laura Forrest | F87: Michelle Hart | G87: David G Long | H87: 46735 | I87: CN | J87: Liverwort barcoding
A88: EDNA20-0060405 | B88: Riccia fluitans | C88: barcode library | D88: L059 | E88: Laura Forrest | F88: Michelle Hart | G88: Chris D Preston et al. | H88: s.n. | I88: IE | J88: Liverwort barcoding
A89: EDNA20-0060406 | B89: Clevea hyalina | C89: barcode library | D89: L060 | E89: Laura Forrest | F89: Michelle Hart | G89: David G Long | H89: 45361 | I89: US | J89: Liverwort barcoding
A90: EDNA20-0060407 | B90: Unknown | C90: barcode library | D90: L061 | E90: Laura Forrest | F90: Michelle Hart | G90: Bakalin, Klimova | H90: VBG 167698 | I90: VN | J90: Liverwort barcoding
A91: EDNA20-0060408 | B91: Marchantia formosana | C91: barcode library | D91: L062 | E91: Laura Forrest | F91: Michelle Hart | G91: David G Long | H91: 46467 | I91: CN | J91: Liverwort barcoding
A92: EDNA20-0060409 | B92: Asterella wallichiana | C92: barcode library | D92: L063 | E92: Laura Forrest | F92: Michelle Hart | G92: David G Long | H92: 46550 | I92: CN | J92: Liverwort barcoding
A93: EDNA20-0060410 | B93: Marchantia formosana | C93: barcode library | D93: L064 | E93: Laura Forrest | F93: Michelle Hart | G93: David G Long | H93: 46739 | I93: CN | J93: Liverwort barcoding
A94: EDNA20-0060411 | B94: Wiesnerella denudata | C94: barcode library | D94: L065 | E94: Laura Forrest | F94: Michelle Hart | G94: David G Long | H94: 46465 | I94: CN | J94: Liverwort barcoding
A95: EDNA20-0060412 | B95: Dumortiera | C95: barcode library | D95: L066 | E95: Laura Forrest | F95: Michelle Hart | G95: David G Long | H95: 46594 | I95: CN | J95: Liverwort barcoding
A96: EDNA20-0060413 | B96: Monosolenium tenerum | C96: barcode library | D96: L067 | E96: Laura Forrest | F96: Michelle Hart | G96: David G Long | H96: 46448 | I96: CN | J96: Liverwort barcoding
A97: EDNA20-0060414 | B97: Haplomitrium mnioides | C97: barcode library | D97: L068 | E97: Laura Forrest | F97: Michelle Hart | G97: David G Long | H97: 46751 | I97: CN | J97: Liverwort barcoding
A98: EDNA20-0060415 | B98: Haplomitrium mnioides | C98: barcode library | D98: L069 | E98: Laura Forrest | F98: Michelle Hart | G98: David G Long | H98: 46531 | I98: CN | J98: Liverwort barcoding
A99: EDNA20-0060416 | B99: Megaceros flagellaris | C99: barcode library | D99: L070 | E99: Laura Forrest | F99: Michelle Hart | G99: David G Long | H99: 46593 | I99: CN | J99: Hornwort barcoding
A100: EDNA20-0060417 | B100: Lunularia cruciata | C100: EDTOL00329,EDTOL00330,EDTOL00331,EDTOL00332,EDTOL00333,EDTOL00334,EDTOL00335,EDTOL00336 | D100: L071 | E100: Laura Forrest | F100: Michelle Hart | G100: David Bell | H100: 1482 | I100: GB | J100: Darwin Tree of Life sample
A101: EDNA20-0060418 | B101: Aneura | C101: barcode library | D101: L072 | E101: Laura Forrest | F101: Michelle Hart | G101: David G Long Elizabeth Kungu | H101: 47015 | I101: GB | J101: Liverwort barcoding
A102: EDNA20-0059133 | B102: Euphrasia foulaensis | C102: EDTOL00020,EDTOL00021,EDTOL00022,EDTOL00023,EDTOL00024,EDTOL00025 | D102: A001 | E102: Laura Forrest | F102: Michelle Hart | G102: Alex Twyford | H102: FIH098-1 | I102: GB | J102: Darwin Tree of Life sample
A103: EDNA20-0059134 | B103: Euphrasia arctica | C103: EDTOL00026,EDTOL00027,EDTOL00028,EDTOL00029,EDTOL00030,EDTOL00031 | D103: A002 | E103: Laura Forrest | F103: Michelle Hart | G103: Alex Twyford | H103: BER-1 | I103: GB | J103: Darwin Tree of Life sample
A104: EDNA20-0059135 | B104: Euphrasia confusa | C104: EDTOL00032,EDTOL00033,EDTOL00034,EDTOL00035,EDTOL00036,EDTOL00037 | D104: A003 | E104: Laura Forrest | F104: Michelle Hart | G104: Alex Twyford | H104: WHP-1 | I104: GB | J104: Darwin Tree of Life sample
A105: EDNA20-0059136 | B105: Euphrasia anglica | C105: EDTOL00038,EDTOL00039,EDTOL00040,EDTOL00041,EDTOL00042,EDTOL00043 | D105: A004 | E105: Laura Forrest | F105: Michelle Hart | G105: Alex Twyford | H105: BED-1 | I105: GB | J105: Darwin Tree of Life sample
A106: EDNA20-0059137 | B106: Prunella vulgaris | C106: EDTOL00088 | D106: A005 | E106: Laura Forrest | F106: Michelle Hart | G106: Zoe Goodwin, David Bell | H106: 1917 | I106: GB | J106: Darwin Tree of Life sample
A107: EDNA20-0059138 | B107: Fraxinus excelsior | C107: EDTOL00089 | D107: A006 | E107: Laura Forrest | F107: Michelle Hart | G107: Zoe Goodwin, David Bell | H107: 1918 | I107: GB | J107: Darwin Tree of Life sample
A108: EDNA20-0059139 | B108: Sorbus aucuparia | C108: EDTOL00080 | D108: A007 | E108: Laura Forrest | F108: Michelle Hart | G108: Zoe Goodwin, David Bell | H108: 1909 | I108: GB | J108: Darwin Tree of Life sample
A109: EDNA20-0059140 | B109: Frangula alnus | C109: EDTOL00065 | D109: A008 | E109: Laura Forrest | F109: Michelle Hart | G109: Zoe Goodwin, David Bell | H109: 1894 | I109: GB | J109: Darwin Tree of Life sample
A110: EDNA20-0059141 | B110: Ulmus glabra | C110: EDTOL00068 | D110: A009 | E110: Laura Forrest | F110: Michelle Hart | G110: Zoe Goodwin, David Bell | H110: 1897 | I110: GB | J110: Darwin Tree of Life sample
A111: EDNA20-0059142 | B111: Cicerbita alpina | C111: EDTOL00078 | D111: A010 | E111: Laura Forrest | F111: Michelle Hart | G111: Zoe Goodwin, David Bell | H111: 1907 | I111: GB | J111: Darwin Tree of Life sample
A112: EDNA20-0059143 | B112: Luzula sylvatica | C112: EDTOL00071 | D112: A011 | E112: Laura Forrest | F112: Michelle Hart | G112: Zoe Goodwin, David Bell | H112: 1900 | I112: GB | J112: Darwin Tree of Life sample
A113: EDNA20-0059144 | B113: Alnus glutinosa | C113: EDTOL00069 | D113: A012 | E113: Laura Forrest | F113: Michelle Hart | G113: Zoe Goodwin, David Bell | H113: 1898 | I113: GB | J113: Darwin Tree of Life sample
A114: EDNA20-0059145 | B114: Melampyrum sylvaticum | C114: EDTOL00079 | D114: A013 | E114: Laura Forrest | F114: Michelle Hart | G114: Zoe Goodwin, David Bell | H114: 1908 | I114: GB | J114: Darwin Tree of Life sample
...
