Workbook
Name _LU2007: 'List details'!$A$2:$A$53
Name _LU2011: 'List details'!$A$2:$A$53
Name apple: 'List details'!$C$2:$C$189
Name BC: 'List details'!$F$1:$F$6
Name BCPRIMERS: 'List details'!$E$2:$E$15
Name BCREGIONS: 'List details'!$F$1:$F$6
Name Countries: #REF!
Name hello: 'List details'!$B$2:$B$76
Name Primer: 'List details'!$C$2:$C$126
Name Primer1: 'List details'!$C$2:$C$112
Name Primer2: 'List details'!$D$28:$D$39
Name Primer3: 'List details'!$C$124:$C$126
Name Primers: 'List details'!$C$2:$C$164
Name Region: 'List details'!$B$2:$B$57
Name Region1: 'List details'!$B$2:$B$47
Name Region2: 'List details'!#REF!
Name Region3: 'List details'!$B$63
Name Regions: 'List details'!$B$2:$B$63
Name Service: 'List details'!$D$2:$D$4
Name test: 'List details'!$F$1:$F$7
Name User: 'List details'!$A$2:$A$3
Name Users: 'List details'!$A$2:$A$41
Name Users2007: 'List details'!$A$2:$A$43
Name UsersCK: '[1]List details'!$A$2:$A$4

Sheet Info
B1: Sequencing registration form
B5: Tube label | C5: Information written on your tube ready for sequencing (i.e. AP1, AP2…) or position in plate (A01-H12)
B6: Lab user | C6: Your name, in standard format, using the drop down list if possible
B7: Sample name | C7: EDNA number given by RBGE, required to process samples in the laboratory (e.g. sequencing, storage,,,)
B8: Gene | C8: PCR region to be analysed (trnL-trnF, ITS, AFLPs…) using the drop down list or typing region name
B9: Primer | C9: Primer used for sequencing (trnLc, ITS 5p…) using the drop down list or typing primer name
B10: Extra info | C10: Any extra info you would like adding into the SEQ file name e.g. band 1 from a gel extraction
B11: SEQ name | C11: SEQ file name is automatically generated by the computer
B12: Species name | C12: Species name of the sample - will autofill if STS have processed your EDNA numbers.

Sheet Sequencing form
A1: Please ensure your SEQ name only has period, dash, underscore and alphanumeric characters as other characters (?, !, *, &, %, / etc) are NOT accepted at genepool - CHECK YOUR PRIMER NAME
A2: Plate no. | B2: Sample | C2: Tube label | D2: Lab user | E2: Sample name | F2: Gene | G2: Primer | H2: Extra info | I2: SEQ name | J2: Species name | K2: Service required
B3: Ex | C3: AC1 | D3: Alex Clark | E3: EDNA06-00156 | F3: trnL-trnF | G3: trnL.c | H3: AC2.1 | I3: =CONCATENATE(E3," ",H3,"_",G3) -> EDNA06-00156 AC2.1_trnL.c | J3: Araucaria rulei | K3: Analysis
B4: 1 | I4: =CONCATENATE(E4," ",H4,"_",G4) -> _ | J4: =VLOOKUP(E4,'EDNA numbers'!$A$3:$B$62958,2,0) -> #N/A
B5: 2 | I5: =CONCATENATE(E5," ",H5,"_",G5) -> _ | J5: =VLOOKUP(E5,'EDNA numbers'!$A$3:$B$62958,2,0) -> #N/A
B6: 3 | I6: =CONCATENATE(E6," ",H6,"_",G6) -> _ | J6: =VLOOKUP(E6,'EDNA numbers'!$A$3:$B$62958,2,0) -> #N/A
B7: 4 | I7: =CONCATENATE(E7," ",H7,"_",G7) -> _ | J7: =VLOOKUP(E7,'EDNA numbers'!$A$3:$B$62958,2,0) -> #N/A
B8: 5 | I8: =CONCATENATE(E8," ",H8,"_",G8) -> _ | J8: =VLOOKUP(E8,'EDNA numbers'!$A$3:$B$62958,2,0) -> #N/A
B9: 6 | I9: =CONCATENATE(E9," ",H9,"_",G9) -> _ | J9: =VLOOKUP(E9,'EDNA numbers'!$A$3:$B$62958,2,0) -> #N/A
B10: 7 | I10: =CONCATENATE(E10," ",H10,"_",G10) -> _ | J10: =VLOOKUP(E10,'EDNA numbers'!$A$3:$B$62958,2,0) -> #N/A
B11: 8 | I11: =CONCATENATE(E11," ",H11,"_",G11) -> _ | J11: =VLOOKUP(E11,'EDNA numbers'!$A$3:$B$62958,2,0) -> #N/A
B12: 9 | I12: =CONCATENATE(E12," ",H12,"_",G12) -> _ | J12: =VLOOKUP(E12,'EDNA numbers'!$A$3:$B$62958,2,0) -> #N/A
B13: 10 | I13: =CONCATENATE(E13," ",H13,"_",G13) -> _ | J13: =VLOOKUP(E13,'EDNA numbers'!$A$3:$B$62958,2,0) -> #N/A
B14: 11 | I14: =CONCATENATE(E14," ",H14,"_",G14) -> _ | J14: =VLOOKUP(E14,'EDNA numbers'!$A$3:$B$62958,2,0) -> #N/A
B15: 12 | I15: =CONCATENATE(E15," ",H15,"_",G15) -> _ | J15: =VLOOKUP(E15,'EDNA numbers'!$A$3:$B$62958,2,0) -> #N/A
... B99: 96 | I99: =CONCATENATE(E99," ",H99,"_",G99) -> _ | J99: =VLOOKUP(E99,'EDNA numbers'!$A$3:$B$62958,2,0) -> #N/A
B100: 1 | I100: =CONCATENATE(E100," ",H100,"_",G100) -> _ | J100: =VLOOKUP(E100,'EDNA numbers'!$A$3:$B$55632,2,0) -> #N/A
B101: 2 | I101: =CONCATENATE(E101," ",H101,"_",G101) -> _ | J101: =VLOOKUP(E101,'EDNA numbers'!$A$3:$B$55632,2,0) -> #N/A
B102: 3 | I102: =CONCATENATE(E102," ",H102,"_",G102) -> _ | J102: =VLOOKUP(E102,'EDNA numbers'!$A$3:$B$55632,2,0) -> #N/A
B103: 4 | I103: =CONCATENATE(E103," ",H103,"_",G103) -> _ | J103: =VLOOKUP(E103,'EDNA numbers'!$A$3:$B$55632,2,0) -> #N/A
B104: 5 | I104: =CONCATENATE(E104," ",H104,"_",G104) -> _ | J104: =VLOOKUP(E104,'EDNA numbers'!$A$3:$B$55632,2,0) -> #N/A
B105: 6 | I105: =CONCATENATE(E105," ",H105,"_",G105) -> _ | J105: =VLOOKUP(E105,'EDNA numbers'!$A$3:$B$55632,2,0) -> #N/A
B106: 7 | I106: =CONCATENATE(E106," ",H106,"_",G106) -> _ | J106: =VLOOKUP(E106,'EDNA numbers'!$A$3:$B$55632,2,0) -> #N/A
B107: 8 | I107: =CONCATENATE(E107," ",H107,"_",G107) -> _ | J107: =VLOOKUP(E107,'EDNA numbers'!$A$3:$B$55632,2,0) -> #N/A
B108: 9 | I108: =CONCATENATE(E108," ",H108,"_",G108) -> _ | J108: =VLOOKUP(E108,'EDNA numbers'!$A$3:$B$55632,2,0) -> #N/A
B109: 10 | I109: =CONCATENATE(E109," ",H109,"_",G109) -> _ | J109: =VLOOKUP(E109,'EDNA numbers'!$A$3:$B$55632,2,0) -> #N/A
B110: 11 | I110: =CONCATENATE(E110," ",H110,"_",G110) -> _ | J110: =VLOOKUP(E110,'EDNA numbers'!$A$3:$B$55632,2,0) -> #N/A
B111: 12 | I111: =CONCATENATE(E111," ",H111,"_",G111) -> _ | J111: =VLOOKUP(E111,'EDNA numbers'!$A$3:$B$55632,2,0) -> #N/A
... B387: 96 | I387: =CONCATENATE(E387," ",H387,"_",G387) -> _ | J387: =VLOOKUP(E387,'EDNA numbers'!$A$3:$B$55632,2,0) -> #N/A

Sheet EDNA numbers
A1: EDNA06-00000 | B1: NEGATIVE_TEST
A2: EDNA06-00001 | B2: Araucaria_araucana | C2: Vimi Lomax | W2: Vimi Lomax
A3: EDNA06-00002 | B3: Araucaria_angustifolia | C3: Vimi Lomax | W3: Vimi Lomax
A4: EDNA06-00003 | B4: Araucaria_bidwillii | C4: Vimi Lomax | W4: Vimi Lomax
A5: EDNA06-00004 | B5: Araucaria_hunsteinii | C5: Vimi Lomax | W5: Vimi Lomax
A6: EDNA06-00005 | B6: Araucaria_bernieri | C6: Vimi Lomax | W6: Vimi Lomax
A7: EDNA06-00006 | B7: Araucaria_biramulata | C7: Vimi Lomax | W7: Vimi Lomax
A8: EDNA06-00007 | B8: Araucaria_columnaris | C8: Vimi Lomax | W8: Vimi Lomax
A9: EDNA06-00008 | B9: Araucaria_nemorosa | C9: Vimi Lomax | W9: Vimi Lomax
A10: EDNA06-00009 | B10: Araucaria_muelleri | C10: Vimi Lomax | W10: Vimi Lomax
A11: EDNA06-00010 | B11: Araucaria_rulei | C11: Vimi Lomax | W11: Vimi Lomax
A12: EDNA06-00011 | B12: Araucaria_muelleri | C12: Vimi Lomax | W12: Vimi Lomax
A13: EDNA06-00012 | B13: Araucaria_muelleri | C13: Vimi Lomax | W13: Vimi Lomax
... A1981: EDNA06-01980 | B1981: Acmopyle_pancheri | C1981: Sheena McKendrick | W1981: Sheena McKendrick
A1982: EDNA06-01981 | B1982: Missing_data
A1983: EDNA06-01982 | B1983: Araucaria_luxurians | C1983: Sheena McKendrick | W1983: Sheena McKendrick
A1984: EDNA06-01983 | B1984: Araucaria_subulata | C1984: Sheena McKendrick | W1984: Sheena McKendrick
A1985: EDNA06-01984 | B1985: Araucaria_subulata | C1985: Sheena McKendrick | W1985: Sheena McKendrick
A1986: EDNA06-01985 | B1986: Araucaria_luxurians | C1986: Sheena McKendrick | W1986: Sheena McKendrick
A1987: EDNA06-01986 | B1987: Araucaria_scopulorum | C1987: Sheena McKendrick | W1987: Sheena McKendrick
A1988: EDNA06-01987 | B1988: Araucaria_humboldtensis | C1988: Sheena McKendrick | W1988: Sheena McKendrick
A1989: EDNA06-01988 | B1989: Araucaria_biramulata | C1989: Sheena McKendrick | W1989: Sheena McKendrick
A1990: EDNA06-01989 | B1990: Araucaria_montana | C1990: Sheena McKendrick | W1990: Sheena McKendrick
A1991: EDNA06-01990 | B1991: Araucaria_montana | C1991: Sheena McKendrick | W1991: Sheena McKendrick
A1992: EDNA06-01991 | B1992: Araucaria_bernieri | C1992: Sheena McKendrick | W1992: Sheena McKendrick
A1993: EDNA06-01992 | B1993: Araucaria_scopulorum | C1993: Sheena McKendrick | W1993: Sheena McKendrick
A1994: EDNA06-01993 | B1994: Araucaria_humboldtensis | C1994: Sheena McKendrick | W1994: Sheena McKendrick
... A2039: EDNA06-02038 | B2039: Rumex_aquaticus_x_obtusifolius_backcross_x_obtusifolius | C2039: Jane Squirrell | W2039: Jane Squirrell
A2040: EDNA06-02039 | B2040: BLANK
A2041: EDNA06-02040 | B2041: Rumex_aquaticus_? | C2041: Jane Squirrell | W2041: Jane Squirrell
A2042: EDNA06-02041 | B2042: Rumex_aquaticus_x_obtusifolius | C2042: Jane Squirrell | W2042: Jane Squirrell
A2043: EDNA06-02042 | B2043: Rumex_aquaticus_? | C2043: Jane Squirrell | W2043: Jane Squirrell
A2044: EDNA06-02043 | B2044: Rumex_aquaticus | C2044: Jane Squirrell | W2044: Jane Squirrell
A2045: EDNA06-02044 | B2045: Rumex_obtusifolius | C2045: Jane Squirrell | W2045: Jane Squirrell
A2046: EDNA06-02045 | B2046: Rumex_aquaticus | C2046: Jane Squirrell | W2046: Jane Squirrell
A2047: EDNA06-02046 | B2047: Rumex_aquaticus | C2047: Jane Squirrell | W2047: Jane Squirrell
A2048: EDNA06-02047 | B2048: Rumex_aquaticus | C2048: Jane Squirrell | W2048: Jane Squirrell
A2049: EDNA06-02048 | B2049: Rumex_aquaticus | C2049: Jane Squirrell | W2049: Jane Squirrell
A2050: EDNA06-02049 | B2050: Rumex_aquaticus_x_obtusifolius_backcross | C2050: Jane Squirrell | W2050: Jane Squirrell
A2051: EDNA06-02050 | B2051: Rumex_aquaticus_x_obtusifolius_backcross | C2051: Jane Squirrell | W2051: Jane Squirrell
...

Sheet List details
A1: Lab users | D1: SERVICE | E1: BCPRIMERS | F1: REGIONS | H1: ADDED INFO
A2: DToL | D2: SEQ RX NOT DONE | E2: a_f | F2: trnH-psbA | H2: _BDX_
A3: Laura Forrest | D3: normal | E3: ajf636R | F3: rbcL
A4: David Bell | E4: 501F | F4: ITS2
E5: trnHR | F5: matK
E6: seqF
E7: 4bryo
E8: RBGE-LIV-F1A
E9: RBGE-LIV-R1A
E10: S2F
E11: S3R

Sheet BC Seq form 
A1: THIS FORM IS FOR BARCODING SEQUENCING ONLY - USE THE RED COLOURED SEQUENCING FORM; please ensure your SEQ name only has dash, underscore and alphanumeric characters as other characters (?, !, *, &, % etc) are NOT accepted at genepool
A2: Sample | B2: Tube label | C2: Lab user | D2: Sample name | E2: Gene | F2: Primer | G2: Extra info | H2: SEQ name | I2: Species name | J2: Service required
A3: Example | B3: AC1 | C3: Alex Clark | D3: EDNA06-00156 | E3: trnL-trnF | F3: rbcL_af | G3: AC2.1 | H3: =CONCATENATE(I3,"_",D3,"_",F3) -> Araucaria_rulei_EDNA06-00156_rbcL_af | I3: Araucaria_rulei | J3: Analysis
A4: 1 | H4: =CONCATENATE(I4,"_",D4,"_",F4) -> #N/A | I4: =VLOOKUP(D4,'EDNA numbers'!$A$3:$B$62958,2, 0) -> #N/A
A5: 2 | H5: =CONCATENATE(I5,"_",D5,"_",F5) -> #N/A | I5: =VLOOKUP(D5,'EDNA numbers'!$A$3:$B$62958,2, 0) -> #N/A
A6: 3 | H6: =CONCATENATE(I6,"_",D6,"_",F6) -> #N/A | I6: =VLOOKUP(D6,'EDNA numbers'!$A$3:$B$62958,2, 0) -> #N/A
A7: 4 | H7: =CONCATENATE(I7,"_",D7,"_",F7) -> #N/A | I7: =VLOOKUP(D7,'EDNA numbers'!$A$3:$B$62958,2, 0) -> #N/A
A8: 5 | H8: =CONCATENATE(I8,"_",D8,"_",F8) -> #N/A | I8: =VLOOKUP(D8,'EDNA numbers'!$A$3:$B$62958,2, 0) -> #N/A
A9: 6 | H9: =CONCATENATE(I9,"_",D9,"_",F9) -> #N/A | I9: =VLOOKUP(D9,'EDNA numbers'!$A$3:$B$62958,2, 0) -> #N/A
A10: 7 | H10: =CONCATENATE(I10,"_",D10,"_",F10) -> #N/A | I10: =VLOOKUP(D10,'EDNA numbers'!$A$3:$B$62958,2, 0) -> #N/A
A11: 8 | H11: =CONCATENATE(I11,"_",D11,"_",F11) -> #N/A | I11: =VLOOKUP(D11,'EDNA numbers'!$A$3:$B$62958,2, 0) -> #N/A
A12: 9 | H12: =CONCATENATE(I12,"_",D12,"_",F12) -> #N/A | I12: =VLOOKUP(D12,'EDNA numbers'!$A$3:$B$62958,2, 0) -> #N/A
A13: 10 | H13: =CONCATENATE(I13,"_",D13,"_",F13) -> #N/A | I13: =VLOOKUP(D13,'EDNA numbers'!$A$3:$B$62958,2, 0) -> #N/A
A14: 11 | H14: =CONCATENATE(I14,"_",D14,"_",F14) -> #N/A | I14: =VLOOKUP(D14,'EDNA numbers'!$A$3:$B$62958,2, 0) -> #N/A
A15: 12 | H15: =CONCATENATE(I15,"_",D15,"_",F15) -> #N/A | I15: =VLOOKUP(D15,'EDNA numbers'!$A$3:$B$62958,2, 0) -> #N/A
... A99: 96 | H99: =CONCATENATE(I99,"_",D99,"_",F99) -> #N/A | I99: =VLOOKUP(D99,'EDNA numbers'!$A$3:$B$62958,2, 0) -> #N/A

Sheet DTOL sequencing
A1: THIS FORM IS FOR DToL SEQUENCING ONLY; Please ensure your SEQ name only has dash, underscore and alphanumeric characters as other characters (., ?, !, *, &, %, whitespace etc) are NOT accepted at genepool. | N1: REDUCE IF RED
A2: Sample | B2: Plate no./Strip no. | C2: Project / User | D2: EDNA number | E2: Gene | F2: Primer | G2: ADDED INFO | H2: DToL no. | I2: SEQ name | J2: Species name | K2: Dundee Service required | M2: CURRENT NAME LENGTH | N2: ABI FILE NAME LENGTH
C3: DROPDOWN | E3: DROPDOWN | F3: DROPDOWN | G3: _BDX | H3: AUTOFILL | I3: AUTOFILL | J3: AUTOFILL | K3: DROPDOWN | N3: RBGE name plus RBGE extension + Dundee extension
A4: 1 | H4: =VLOOKUP(D4,'EDNA numbers'!$A$3:$D56765,4, 0) -> #N/A | I4: =CONCATENATE(J4,"_",D4,"_",H4,"_",E4,"_",F4,G4) -> #N/A | J4: =VLOOKUP(D4,'EDNA numbers'!$A$3:$B56765,2, 0) -> #N/A | M4: =LEN(I4) -> #N/A | N4: =M4+13+8 -> #N/A
A5: 2 | H5: =VLOOKUP(D5,'EDNA numbers'!$A$3:$D56766,4, 0) -> #N/A | I5: =CONCATENATE(J5,"_",D5,"_",H5,"_",E5,"_",F5,G5) -> #N/A | J5: =VLOOKUP(D5,'EDNA numbers'!$A$3:$B56766,2, 0) -> #N/A | M5: =LEN(I5) -> #N/A | N5: =M5+13+8 -> #N/A
A6: 3 | H6: =VLOOKUP(D6,'EDNA numbers'!$A$3:$D56767,4, 0) -> #N/A | I6: =CONCATENATE(J6,"_",D6,"_",H6,"_",E6,"_",F6,G6) -> #N/A | J6: =VLOOKUP(D6,'EDNA numbers'!$A$3:$B56767,2, 0) -> #N/A | M6: =LEN(I6) -> #N/A | N6: =M6+13+8 -> #N/A
A7: 4 | H7: =VLOOKUP(D7,'EDNA numbers'!$A$3:$D56768,4, 0) -> #N/A | I7: =CONCATENATE(J7,"_",D7,"_",H7,"_",E7,"_",F7,G7) -> #N/A | J7: =VLOOKUP(D7,'EDNA numbers'!$A$3:$B56768,2, 0) -> #N/A | M7: =LEN(I7) -> #N/A | N7: =M7+13+8 -> #N/A
A8: 5 | H8: =VLOOKUP(D8,'EDNA numbers'!$A$3:$D56769,4, 0) -> #N/A | I8: =CONCATENATE(J8,"_",D8,"_",H8,"_",E8,"_",F8,G8) -> #N/A | J8: =VLOOKUP(D8,'EDNA numbers'!$A$3:$B56769,2, 0) -> #N/A | M8: =LEN(I8) -> #N/A | N8: =M8+13+8 -> #N/A
A9: 6 | H9: =VLOOKUP(D9,'EDNA numbers'!$A$3:$D56770,4, 0) -> #N/A | I9: =CONCATENATE(J9,"_",D9,"_",H9,"_",E9,"_",F9,G9) -> #N/A | J9: =VLOOKUP(D9,'EDNA numbers'!$A$3:$B56770,2, 0) -> #N/A | M9: =LEN(I9) -> #N/A | N9: =M9+13+8 -> #N/A
A10: 7 | H10: =VLOOKUP(D10,'EDNA numbers'!$A$3:$D56771,4, 0) -> #N/A | I10: =CONCATENATE(J10,"_",D10,"_",H10,"_",E10,"_",F10,G10) -> #N/A | J10: =VLOOKUP(D10,'EDNA numbers'!$A$3:$B56771,2, 0) -> #N/A | M10: =LEN(I10) -> #N/A | N10: =M10+13+8 -> #N/A
A11: 8 | H11: =VLOOKUP(D11,'EDNA numbers'!$A$3:$D56772,4, 0) -> #N/A | I11: =CONCATENATE(J11,"_",D11,"_",H11,"_",E11,"_",F11,G11) -> #N/A | J11: =VLOOKUP(D11,'EDNA numbers'!$A$3:$B56772,2, 0) -> #N/A | M11: =LEN(I11) -> #N/A | N11: =M11+13+8 -> #N/A
A12: 9 | H12: =VLOOKUP(D12,'EDNA numbers'!$A$3:$D56773,4, 0) -> #N/A | I12: =CONCATENATE(J12,"_",D12,"_",H12,"_",E12,"_",F12,G12) -> #N/A | J12: =VLOOKUP(D12,'EDNA numbers'!$A$3:$B56773,2, 0) -> #N/A | M12: =LEN(I12) -> #N/A | N12: =M12+13+8 -> #N/A
A13: 10 | H13: =VLOOKUP(D13,'EDNA numbers'!$A$3:$D56774,4, 0) -> #N/A | I13: =CONCATENATE(J13,"_",D13,"_",H13,"_",E13,"_",F13,G13) -> #N/A | J13: =VLOOKUP(D13,'EDNA numbers'!$A$3:$B56774,2, 0) -> #N/A | M13: =LEN(I13) -> #N/A | N13: =M13+13+8 -> #N/A
A14: 11 | H14: =VLOOKUP(D14,'EDNA numbers'!$A$3:$D56775,4, 0) -> #N/A | I14: =CONCATENATE(J14,"_",D14,"_",H14,"_",E14,"_",F14,G14) -> #N/A | J14: =VLOOKUP(D14,'EDNA numbers'!$A$3:$B56775,2, 0) -> #N/A | M14: =LEN(I14) -> #N/A | N14: =M14+13+8 -> #N/A
A15: 12 | H15: =VLOOKUP(D15,'EDNA numbers'!$A$3:$D56776,4, 0) -> #N/A | I15: =CONCATENATE(J15,"_",D15,"_",H15,"_",E15,"_",F15,G15) -> #N/A | J15: =VLOOKUP(D15,'EDNA numbers'!$A$3:$B56776,2, 0) -> #N/A | M15: =LEN(I15) -> #N/A | N15: =M15+13+8 -> #N/A
... A503: 500 | H503: =VLOOKUP(D503,'EDNA numbers'!$A$3:$D57264,4, 0) -> #N/A | I503: =CONCATENATE(J503,"_",D503,"_",H503,"_",E503,"_",F503,G503) -> #N/A | J503: =VLOOKUP(D503,'EDNA numbers'!$A$3:$B57264,2, 0) -> #N/A | M503: =LEN(I503) -> #N/A | N503: =M503+13+8 -> #N/A

Sheet DToL sample list
A1: edna_number | B1: taxon_name | C1: sample_notes | D1: user_dna_id | E1: user_name | F1: rbge_contact_name | G1: collector_name | H1: collector_number | I1: collection_country | J1: notes
A2: EDNA20-0060319 | B2: Equisetum hyemale | C2: EDTOL00084 | D2: F005 | E2: Laura Forrest | F2: Michelle Hart | G2: Zoe Goodwin, David Bell | H2: 1913 | I2: GB | J2: Darwin Tree of Life sample
A3: EDNA20-0060320 | B3: Equisetum arvense | C3: EDTOL00083 | D3: F006 | E3: Laura Forrest | F3: Michelle Hart | G3: Zoe Goodwin, David Bell | H3: 1912 | I3: GB | J3: Darwin Tree of Life sample
A4: EDNA20-0060321 | B4: Pilularia globulifera | C4: EDTOL00087 | D4: F007 | E4: Laura Forrest | F4: Michelle Hart | G4: Zoe Goodwin, David Bell | H4: 1916 | I4: GB | J4: Darwin Tree of Life sample
A5: EDNA20-0060322 | B5: Woodsia alpina | C5: EDTOL00081 | D5: F008 | E5: Laura Forrest | F5: Michelle Hart | G5: Zoe Goodwin, David Bell | H5: 1910 | I5: GB | J5: Darwin Tree of Life sample
A6: EDNA20-0060323 | B6: Thelypteris palustris | C6: EDTOL00086 | D6: F009 | E6: Laura Forrest | F6: Michelle Hart | G6: Zoe Goodwin, David Bell | H6: 1915 | I6: GB | J6: Darwin Tree of Life sample
A7: EDNA20-0060324 | B7: Woodsia ilvensis | C7: EDTOL00082 | D7: F010 | E7: Laura Forrest | F7: Michelle Hart | G7: Zoe Goodwin, David Bell | H7: 1911 | I7: GB | J7: Darwin Tree of Life sample
A8: EDNA20-0060325 | B8: Gymnocarpium robertianum | C8: EDTOL00085 | D8: F011 | E8: Laura Forrest | F8: Michelle Hart | G8: Zoe Goodwin, David Bell | H8: 1914 | I8: GB | J8: Darwin Tree of Life sample
A9: EDNA20-0060326 | B9: Athyrium distentifolium | C9: EDTOL00067 | D9: F012 | E9: Laura Forrest | F9: Michelle Hart | G9: Zoe Goodwin, David Bell | H9: 1896 | I9: GB | J9: Darwin Tree of Life sample
A10: EDNA20-0060327 | B10: Blechnum spicant | C10: EDTOL00061 | D10: F013 | E10: Laura Forrest | F10: Michelle Hart | G10: Zoe Goodwin | H10: 1890 | I10: GB | J10: Darwin Tree of Life sample
A11: EDNA20-0060328 | B11: Pteridium aquilinum | C11: EDTOL00046 | D11: F014 | E11: Laura Forrest | F11: Michelle Hart | G11: Zoe Goodwin | H11: 1875 | I11: GB | J11: Darwin Tree of Life sample
A12: EDNA20-0060329 | B12: Lycopodium clavatum | C12: EDTOL00058 | D12: F015 | E12: Laura Forrest | F12: Michelle Hart | G12: Zoe Goodwin | H12: 1887 | I12: GB | J12: Darwin Tree of Life sample
A13: EDNA20-0060330 | B13: Equisetum telmateia | C13: KDTOL10050 | D13: F016 | E13: Laura Forrest | F13: Michelle Hart | G13: Maarten J. M. Christenhusz | H13: MC 9046 | I13: GB | J13: Darwin Tree of Life sample
A14: EDNA20-0060331 | B14: Osmunda regalis | C14: KDTOL10032 | D14: F017 | E14: Laura Forrest | F14: Michelle Hart | G14: Maarten J. M. Christenhusz | H14: MC 9029 | I14: GB | J14: Darwin Tree of Life sample
A15: EDNA20-0060332 | B15: Asplenium scolopendrium | C15: KDTOL10026 | D15: F018 | E15: Laura Forrest | F15: Michelle Hart | G15: Maarten J. M. Christenhusz | H15: MC 9023 | I15: GB | J15: Darwin Tree of Life sample
A16: EDNA20-0060333 | B16: Adiantum capillus-veneris | C16: KDTOL10025 | D16: F019 | E16: Laura Forrest | F16: Michelle Hart | G16: Maarten J. M. Christenhusz | H16: MC 9022 | I16: GB | J16: Darwin Tree of Life sample
A17: EDNA20-0060334 | B17: Equisetum palustre | C17: KDTOL10095 | D17: F020 | E17: Laura Forrest | F17: Michelle Hart | G17: Maarten J. M. Christenhusz | H17: MC 9089 | I17: GB | J17: Darwin Tree of Life sample
A18: EDNA20-0060335 | B18: Equisetum arvense | C18: KDTOL10094 | D18: F021 | E18: Laura Forrest | F18: Michelle Hart | G18: Maarten J. M. Christenhusz | H18: MC 9088 | I18: GB | J18: Darwin Tree of Life sample
A19: EDNA20-0060336 | B19: Polypodium vulgare | C19: KDTOL10098 | D19: F022 | E19: Laura Forrest | F19: Michelle Hart | G19: Maarten J. M. Christenhusz | H19: MC 9092 | I19: GB | J19: Darwin Tree of Life sample
A20: EDNA20-0060337 | B20: Asplenium ruta-muraria | C20: KDTOL10097 | D20: F023 | E20: Laura Forrest | F20: Michelle Hart | G20: Maarten J. M. Christenhusz | H20: MC 9091 | I20: GB | J20: Darwin Tree of Life sample
A21: EDNA20-0060338 | B21: Lycopodium clavatum | C21: EDTOL00197 | D21: F024 | E21: Laura Forrest | F21: Michelle Hart | G21: Laura L Forrest | H21: EDTOL4 | I21: GB | J21: Darwin Tree of Life sample
A22: EDNA20-0060339 | B22: Huperzia | C22: barcode library | D22: F025 | E22: Laura Forrest | F22: Michelle Hart | G22: Roger Golding | H22: 7 | I22: GB | J22: DToL reference
A23: EDNA20-0060340 | B23: Huperzia | C23: barcode library | D23: F026 | E23: Laura Forrest | F23: Michelle Hart | G23: Roger Golding | H23: 8 | I23: GB | J23: DToL reference
A24: EDNA20-0060341 | B24: Huperzia seligo | C24: barcode library | D24: F027 | E24: Laura Forrest | F24: Michelle Hart | G24: Roger Golding | H24: 1 | I24: GB | J24: DToL reference
A25: EDNA20-0060342 | B25: Huperzia | C25: barcode library | D25: F028 | E25: Laura Forrest | F25: Michelle Hart | G25: Roger Golding | H25: 2 | I25: GB | J25: DToL reference
A26: EDNA20-0060343 | B26: Huperzia | C26: barcode library | D26: F029 | E26: Laura Forrest | F26: Michelle Hart | G26: Roger Golding | H26: 3 | I26: GB | J26: DToL reference
A27: EDNA20-0060344 | B27: Huperzia | C27: barcode library | D27: F030 | E27: Laura Forrest | F27: Michelle Hart | G27: Roger Golding | H27: 4 | I27: GB | J27: DToL reference
A28: EDNA20-0060345 | B28: Huperzia | C28: barcode library | D28: F031 | E28: Laura Forrest | F28: Michelle Hart | G28: Roger Golding | H28: 5 | I28: GB | J28: DToL reference
A29: EDNA20-0060346 | B29: Huperzia | C29: barcode library | D29: F032 | E29: Laura Forrest | F29: Michelle Hart | G29: Roger Golding | H29: 6 | I29: GB | J29: DToL reference
A30: EDNA20-0060347 | B30: Neoorthocaulis floerkei | C30: EDTOL00188,EDTOL00189,EDTOL00190,EDTOL00191,EDTOL00192,EDTOL00193,EDTOL00194,EDTOL00195,00196 | D30: L001 | E30: Laura Forrest | F30: Michelle Hart | G30: David G Long | H30: EDTOL3 | I30: GB | J30: Darwin Tree of Life sample
A31: EDNA20-0060348 | B31: Apopellia endiviifolia | C31: EDTOL00202,EDTOL00203,EDTOL00204,EDTOL00205,EDTOL00206,EDTOL00207,EDTOL00208,EDTOL00209 | D31: L002 | E31: Laura Forrest | F31: Michelle Hart | G31: Laura L Forrest | H31: EDTOL6h | I31: GB | J31: Darwin Tree of Life sample
A32: EDNA20-0060349 | B32: Conocephalum conicum | C32: EDTOL00198,EDTOL00199,EDTOL00200,EDTOL00201 | D32: L003 | E32: Laura Forrest | F32: Michelle Hart | G32: Laura L Forrest | H32: EDTOL5a | I32: GB | J32: Darwin Tree of Life sample
A33: EDNA20-0060350 | B33: Metzgeria furcata | C33: EDTOL00260,EDTOL00261 | D33: L004 | E33: Laura Forrest | F33: Michelle Hart | G33: David Bell, David G Long | H33: 1466 | I33: GB | J33: Darwin Tree of Life sample
A34: EDNA20-0060351 | B34: Radula complanata | C34: EDTOL00272,EDTOL00273 | D34: L005 | E34: Laura Forrest | F34: Michelle Hart | G34: David Bell, David G Long | H34: 1470 | I34: GB | J34: Darwin Tree of Life sample
A35: EDNA20-0060352 | B35: Frullania dilatata | C35: EDTOL00275,EDTOL00276 | D35: L006 | E35: Laura Forrest | F35: Michelle Hart | G35: David Bell, David G Long | H35: 1471 | I35: GB | J35: Darwin Tree of Life sample
A36: EDNA20-0060353 | B36: Lepidozia reptans | C36: EDTOL00278,EDTOL00279 | D36: L007 | E36: Laura Forrest | F36: Michelle Hart | G36: David Bell, David G Long | H36: 1472 | I36: GB | J36: Darwin Tree of Life sample
A37: EDNA20-0060354 | B37: Lophocolea bidentata | C37: EDTOL00287,EDTOL00288 | D37: L008 | E37: Laura Forrest | F37: Michelle Hart | G37: David Bell, David G Long | H37: 1475 | I37: GB | J37: Darwin Tree of Life sample
A38: EDNA20-0060355 | B38: Riccardia palmata | C38: EDTOL | D38: L009 | E38: Laura Forrest | F38: Michelle Hart | G38: David Bell, Elizabeth Kungu | H38: 1444 | I38: GB | J38: Darwin Tree of Life sample
A39: EDNA20-0060356 | B39: Porella cordaeana | C39: EDTOL | D39: L010 | E39: Laura Forrest | F39: Michelle Hart | G39: David Bell, Elizabeth Kungu | H39: 1446 | I39: GB | J39: Darwin Tree of Life sample
A40: EDNA20-0060357 | B40: Tritomaria quinquedentata | C40: EDTOL00245,EDTOL00246,EDTOL00247 | D40: L011 | E40: Laura Forrest | F40: Michelle Hart | G40: David Bell, David G Long | H40: 1461 | I40: GB | J40: Darwin Tree of Life sample
...
