Workbook

Sheet Cell Counts & 10X Volumes
A1: Dilution factor:
A2: # of Squares Counted: | C2: *one square is one corner of hemocytometer, consisting of 16 small squares
A3: Total volume (mL):
A4: Desired number of cells for 10X:
A6: Sample ID | B6: Total Count of Live Cells | C6: Total # of Live Cells | D6: Cell Concentration (cells/uL) | E6: Volume Necessary for Desired Number of Cells (uL)
A7: 1 | C7: =B7/$B$2*$B$1*10000*$B$3 -> #DIV/0! | D7: =B7/$B$2*$B$1*10 -> #DIV/0! | E7: =ROUND($B$4/D7, 1) -> #DIV/0!
A8: 2 | C8: =B8/$B$2*$B$1*10000*$B$3 -> #DIV/0! | D8: =B8/$B$2*$B$1*10 -> #DIV/0! | E8: =ROUND($B$4/D8, 1) -> #DIV/0!
A9: 3 | C9: =B9/$B$2*$B$1*10000*$B$3 -> #DIV/0! | D9: =B9/$B$2*$B$1*10 -> #DIV/0! | E9: =ROUND($B$4/D9, 1) -> #DIV/0!
A10: 4 | C10: =B10/$B$2*$B$1*10000*$B$3 -> #DIV/0! | D10: =B10/$B$2*$B$1*10 -> #DIV/0! | E10: =ROUND($B$4/D10, 1) -> #DIV/0!
A11: 5 | C11: =B11/$B$2*$B$1*10000*$B$3 -> #DIV/0! | D11: =B11/$B$2*$B$1*10 -> #DIV/0! | E11: =ROUND($B$4/D11, 1) -> #DIV/0!
A12: 6 | C12: =B12/$B$2*$B$1*10000*$B$3 -> #DIV/0! | D12: =B12/$B$2*$B$1*10 -> #DIV/0! | E12: =ROUND($B$4/D12, 1) -> #DIV/0!

Sheet Bulk RNA Lysate Volumes
A1: Desired Number of Cells per Lysate
A3: Sample | B3: Total Number of Cells | C3: Number of 10X Runs | D3: Number of Cells Remaining after 10X | E3: Cell Concentration (cells/uL) | F3: Volume Necessary for Each Lysate (uL) | G3: Number of Lysates to Store
A4: ='Cell Counts & 10X Volumes'!A7 -> 1 | B4: ='Cell Counts & 10X Volumes'!C7 -> #DIV/0! | D4: =B4-C4*'Cell Counts & 10X Volumes'!$B$4 -> #DIV/0! | E4: ='Cell Counts & 10X Volumes'!D7 -> #DIV/0! | F4: =ROUND($B$1/E4,1) -> #DIV/0! | G4: 3
A5: ='Cell Counts & 10X Volumes'!A8 -> 2 | B5: ='Cell Counts & 10X Volumes'!C8 -> #DIV/0! | D5: =B5-C5*'Cell Counts & 10X Volumes'!$B$4 -> #DIV/0! | E5: ='Cell Counts & 10X Volumes'!D8 -> #DIV/0! | F5: =ROUND($B$1/E5,1) -> #DIV/0! | G5: 0
A6: ='Cell Counts & 10X Volumes'!A9 -> 3 | B6: ='Cell Counts & 10X Volumes'!C9 -> #DIV/0! | D6: =B6-C6*'Cell Counts & 10X Volumes'!$B$4 -> #DIV/0! | E6: ='Cell Counts & 10X Volumes'!D9 -> #DIV/0! | F6: =ROUND($B$1/E6,1) -> #DIV/0! | G6: 3
A7: ='Cell Counts & 10X Volumes'!A10 -> 4 | B7: ='Cell Counts & 10X Volumes'!C10 -> #DIV/0! | D7: =B7-C7*'Cell Counts & 10X Volumes'!$B$4 -> #DIV/0! | E7: ='Cell Counts & 10X Volumes'!D10 -> #DIV/0! | F7: =ROUND($B$1/E7,1) -> #DIV/0! | G7: 3
A8: ='Cell Counts & 10X Volumes'!A11 -> 5 | B8: ='Cell Counts & 10X Volumes'!C11 -> #DIV/0! | D8: =B8-C8*'Cell Counts & 10X Volumes'!$B$4 -> #DIV/0! | E8: ='Cell Counts & 10X Volumes'!D11 -> #DIV/0! | F8: =ROUND($B$1/E8,1) -> #DIV/0! | G8: 3
A9: ='Cell Counts & 10X Volumes'!A12 -> 6 | B9: ='Cell Counts & 10X Volumes'!C12 -> #DIV/0! | D9: =B9-C9*'Cell Counts & 10X Volumes'!$B$4 -> #DIV/0! | E9: ='Cell Counts & 10X Volumes'!D12 -> #DIV/0! | F9: =ROUND($B$1/E9,1) -> #DIV/0! | G9: 3

Sheet 10X Library Pooling
A1: Values to Set:
A2: Average Molcular Weight of Base Pair (g/mol/bp) | B2: 650
A3: Volume Sample 1 to add to pooled library
A4: Concentration of Final Dilution (nM)
A5: Volume of Final Dilution (uL)
A8: Pooling Calculations:
A9: Sample | B9: batch 5 pool 1 | C9: batch 5 pool 2 | D9: batch 7 pool 1 | E9: batch 7 pool 2
A10: Average Fragment Size (Tapestation) (bp)
A11: Qubit Concentration (ng/uL)
A12: Molecular Weight (ng/mol) | B12: =B10*$B$2*10^9 -> 0 | C12: =C10*$B$2*10^9 -> 0 | D12: =D10*$B$2*10^9 -> 0 | E12: =E10*$B$2*10^9 -> 0
A13: Molarity (nM) | B13: =B11/B12 * 10^6 * 10^9 -> #DIV/0! | C13: =C11/C12 * 10^6 * 10^9 -> #DIV/0! | D13: =D11/D12 * 10^6 * 10^9 -> #DIV/0! | E13: =E11/E12 * 10^6 * 10^9 -> #DIV/0!
A14: Percentage of Reads to Allocate to Sample
A15: Amount of DNA Added to Pooled Library (nmol) | B15: =B13*B16 -> #DIV/0! | C15: =($B15*C14)/$B14 -> #DIV/0! | D15: =($B15*D14)/$B14 -> #DIV/0! | E15: =($B15*E14)/$B14 -> #DIV/0!
A16: Volume to Add to Pooled Library (uL) | B16: =B3 -> 0 | C16: =ROUND(C15/C13,1) -> #DIV/0! | D16: =ROUND(D15/D13,1) -> #DIV/0! | E16: =ROUND(E15/E13,1) -> #DIV/0!
A19: Dilution Calculations:
A20: Total Volume of Pooled Library (uL) | B20: =SUM(B16:E16) -> #DIV/0!
A21: Concentration of Pooled Library (nM) | B21: =SUM(B15:E15)/B20 -> #DIV/0!
A22: Volume Pooled Library to add to Final Dilution (uL) | B22: =ROUND(B4*B5/B21,1) -> #DIV/0!
A23: Volume Water to add to Final Dilution (uL) | B23: =B5-B22 -> #DIV/0!
A26: Check Final Dilution
B27: Final Dilution
A28: Average Fragment Size (Tapestation) (bp)
A29: Qubit Concentration (ng/uL)
A30: Molecular Weight (ng/mol) | B30: =B28*$B$2*10^9 -> 0
A31: Molarity (nM) | B31: =B29/B30* 10^6 * 10^9 -> #DIV/0!
